Back to Multiple platform build/check report for BioC 3.14
ABCDEFGHIJ[K]LMNOPQRSTUVWXYZ

This page was generated on 2021-11-26 15:04:54 -0500 (Fri, 26 Nov 2021).

BUILD results for KinSwingR on nebbiolo2

To the developers/maintainers of the KinSwingR package:
- Please allow up to 24 hours (and sometimes 48 hours) for your latest push to git@git.bioconductor.org:packages/KinSwingR.git to
reflect on this report. See How and When does the builder pull? When will my changes propagate? here for more information.
- Make sure to use the following settings in order to reproduce any error or warning you see on this page.

raw results

Package 984/2083HostnameOS / ArchINSTALLBUILDCHECKBUILD BIN
KinSwingR 1.12.0  (landing page)
Ashley J. Waardenberg
Snapshot Date: 2021-11-25 04:15:05 -0500 (Thu, 25 Nov 2021)
git_url: https://git.bioconductor.org/packages/KinSwingR
git_branch: RELEASE_3_14
git_last_commit: 527597d
git_last_commit_date: 2021-10-26 12:47:25 -0500 (Tue, 26 Oct 2021)
nebbiolo2Linux (Ubuntu 20.04.3 LTS) / x86_64  OK    OK    OK  UNNEEDED, same version is already published
tokay2Windows Server 2012 R2 Standard / x64  OK    OK    OK    OK  UNNEEDED, same version is already published
machv2macOS 10.14.6 Mojave / x86_64  OK    OK    OK    OK  UNNEEDED, same version is already published

Summary

Package: KinSwingR
Version: 1.12.0
Command: /home/biocbuild/bbs-3.14-bioc/R/bin/R CMD build --keep-empty-dirs --no-resave-data KinSwingR
StartedAt: 2021-11-25 06:52:33 -0500 (Thu, 25 Nov 2021)
EndedAt: 2021-11-25 06:52:56 -0500 (Thu, 25 Nov 2021)
EllapsedTime: 23.2 seconds
RetCode: 0
Status:   OK  
PackageFile: KinSwingR_1.12.0.tar.gz
PackageFileSize: 552.2 KiB

Command output

##############################################################################
##############################################################################
###
### Running command:
###
###   /home/biocbuild/bbs-3.14-bioc/R/bin/R CMD build --keep-empty-dirs --no-resave-data KinSwingR
###
##############################################################################
##############################################################################


* checking for file ‘KinSwingR/DESCRIPTION’ ... OK
* preparing ‘KinSwingR’:
* checking DESCRIPTION meta-information ... OK
* installing the package to build vignettes
* creating vignettes ... OK
* checking for LF line-endings in source and make files and shell scripts
* checking for empty or unneeded directories
* building ‘KinSwingR_1.12.0.tar.gz’