Back to Multiple platform build/check report for BioC 3.14
ABCDEFGH[I]JKLMNOPQRSTUVWXYZ

This page was generated on 2022-01-26 13:06:46 -0500 (Wed, 26 Jan 2022).

HostnameOSArch (*)R versionInstalled pkgs
nebbiolo2Linux (Ubuntu 20.04.4 LTS)x86_644.1.2 (2021-11-01) -- "Bird Hippie" 4329
tokay2Windows Server 2012 R2 Standardx644.1.2 (2021-11-01) -- "Bird Hippie" 4080
machv2macOS 10.14.6 Mojavex86_644.1.2 (2021-11-01) -- "Bird Hippie" 4141
Click on any hostname to see more info about the system (e.g. compilers)      (*) as reported by 'uname -p', except on Windows and Mac OS X

INSTALL results for IntEREst on tokay2


To the developers/maintainers of the IntEREst package:
- Please allow up to 24 hours (and sometimes 48 hours) for your latest push to git@git.bioconductor.org:packages/IntEREst.git to
reflect on this report. See How and When does the builder pull? When will my changes propagate? here for more information.
- Make sure to use the following settings in order to reproduce any error or warning you see on this page.

raw results

Package 945/2083HostnameOS / ArchINSTALLBUILDCHECKBUILD BIN
IntEREst 1.18.0  (landing page)
Ali Oghabian , Mikko Frilander
Snapshot Date: 2022-01-25 01:55:07 -0500 (Tue, 25 Jan 2022)
git_url: https://git.bioconductor.org/packages/IntEREst
git_branch: RELEASE_3_14
git_last_commit: 0a4f63a
git_last_commit_date: 2021-10-26 12:33:43 -0500 (Tue, 26 Oct 2021)
nebbiolo2Linux (Ubuntu 20.04.4 LTS) / x86_64  OK    OK    OK  UNNEEDED, same version is already published
tokay2Windows Server 2012 R2 Standard / x64  OK    OK    OK    OK  UNNEEDED, same version is already published
machv2macOS 10.14.6 Mojave / x86_64  OK    OK    OK    OK  UNNEEDED, same version is already published

Summary

Package: IntEREst
Version: 1.18.0
Command: C:\cygwin\bin\curl.exe -O http://155.52.207.166/BBS/3.14/bioc/src/contrib/IntEREst_1.18.0.tar.gz && rm -rf IntEREst.buildbin-libdir && mkdir IntEREst.buildbin-libdir && C:\Users\biocbuild\bbs-3.14-bioc\R\bin\R.exe CMD INSTALL --merge-multiarch --build --library=IntEREst.buildbin-libdir IntEREst_1.18.0.tar.gz && C:\Users\biocbuild\bbs-3.14-bioc\R\bin\R.exe CMD INSTALL IntEREst_1.18.0.zip && rm IntEREst_1.18.0.tar.gz IntEREst_1.18.0.zip
StartedAt: 2022-01-25 06:15:02 -0500 (Tue, 25 Jan 2022)
EndedAt: 2022-01-25 06:17:42 -0500 (Tue, 25 Jan 2022)
EllapsedTime: 160.0 seconds
RetCode: 0
Status:   OK  

Command output

##############################################################################
##############################################################################
###
### Running command:
###
###   C:\cygwin\bin\curl.exe -O http://155.52.207.166/BBS/3.14/bioc/src/contrib/IntEREst_1.18.0.tar.gz && rm -rf IntEREst.buildbin-libdir && mkdir IntEREst.buildbin-libdir && C:\Users\biocbuild\bbs-3.14-bioc\R\bin\R.exe CMD INSTALL --merge-multiarch --build --library=IntEREst.buildbin-libdir IntEREst_1.18.0.tar.gz && C:\Users\biocbuild\bbs-3.14-bioc\R\bin\R.exe CMD INSTALL IntEREst_1.18.0.zip && rm IntEREst_1.18.0.tar.gz IntEREst_1.18.0.zip
###
##############################################################################
##############################################################################


  % Total    % Received % Xferd  Average Speed   Time    Time     Time  Current
                                 Dload  Upload   Total   Spent    Left  Speed

  0     0    0     0    0     0      0      0 --:--:-- --:--:-- --:--:--     0
100  962k  100  962k    0     0  1537k      0 --:--:-- --:--:-- --:--:-- 1539k

install for i386

* installing *source* package 'IntEREst' ...
** using staged installation
** R
** data
*** moving datasets to lazyload DB
** inst
** byte-compile and prepare package for lazy loading
** help
*** installing help indices
  converting help for package 'IntEREst'
    finding HTML links ... done
    DEXSeqIntEREst                          html  
    IntEREst-package                        html  
    addAnnotation                           html  
    annotateU12                             html  
    applyOverlap                            html  
    attributes                              html  
    boxplot-method                          html  
    buildSsTypePwms                         html  
    counts-method                           html  
    deseqInterest                           html  
    exactTestInterest                       html  
    getRepeatTable                          html  
    glmInterest                             html  
    interest                                html  
REDIRECT:topic	 Previous alias or file overwritten by alias: C:/Users/biocbuild/bbs-3.14-bioc/meat/IntEREst.buildbin-libdir/00LOCK-IntEREst/00new/IntEREst/help/interest.html
    interest.sequential                     html  
    interestResult                          html  
    interestResultIntEx                     html  
    intexIndex                              html  
    lfc                                     html  
    mdsChr22ExObj                           html  
    mdsChr22IntSpObj                        html  
    mdsChr22Obj                             html  
    mergeInterestResult                     html  
    plot-method                             html  
    psi                                     html  
    pwmU12db                                html  
    qlfInterest                             html  
    readInterestResults                     html  
    referencePrepare                        html  
    subInterestResult                       html  
    treatInterest                           html  
    u12                                     html  
    u12Boxplot                              html  
    u12BoxplotNb                            html  
    u12DensityPlot                          html  
    u12Index                                html  
    u12NbIndex                              html  
    unionRefTr                              html  
    updateRowDataCol                        html  
** building package indices
** installing vignettes
** testing if installed package can be loaded from temporary location
** testing if installed package can be loaded from final location
** testing if installed package keeps a record of temporary installation path

install for x64

* installing *source* package 'IntEREst' ...
** testing if installed package can be loaded
* MD5 sums
packaged installation of 'IntEREst' as IntEREst_1.18.0.zip
* DONE (IntEREst)
* installing to library 'C:/Users/biocbuild/bbs-3.14-bioc/R/library'
package 'IntEREst' successfully unpacked and MD5 sums checked