Back to Multiple platform build/check report for BioC 3.14
ABCDEFGH[I]JKLMNOPQRSTUVWXYZ

This page was generated on 2022-01-26 13:06:46 -0500 (Wed, 26 Jan 2022).

HostnameOSArch (*)R versionInstalled pkgs
nebbiolo2Linux (Ubuntu 20.04.4 LTS)x86_644.1.2 (2021-11-01) -- "Bird Hippie" 4329
tokay2Windows Server 2012 R2 Standardx644.1.2 (2021-11-01) -- "Bird Hippie" 4080
machv2macOS 10.14.6 Mojavex86_644.1.2 (2021-11-01) -- "Bird Hippie" 4141
Click on any hostname to see more info about the system (e.g. compilers)      (*) as reported by 'uname -p', except on Windows and Mac OS X

CHECK results for IntEREst on tokay2


To the developers/maintainers of the IntEREst package:
- Please allow up to 24 hours (and sometimes 48 hours) for your latest push to git@git.bioconductor.org:packages/IntEREst.git to
reflect on this report. See How and When does the builder pull? When will my changes propagate? here for more information.
- Make sure to use the following settings in order to reproduce any error or warning you see on this page.

raw results

Package 945/2083HostnameOS / ArchINSTALLBUILDCHECKBUILD BIN
IntEREst 1.18.0  (landing page)
Ali Oghabian , Mikko Frilander
Snapshot Date: 2022-01-25 01:55:07 -0500 (Tue, 25 Jan 2022)
git_url: https://git.bioconductor.org/packages/IntEREst
git_branch: RELEASE_3_14
git_last_commit: 0a4f63a
git_last_commit_date: 2021-10-26 12:33:43 -0500 (Tue, 26 Oct 2021)
nebbiolo2Linux (Ubuntu 20.04.4 LTS) / x86_64  OK    OK    OK  UNNEEDED, same version is already published
tokay2Windows Server 2012 R2 Standard / x64  OK    OK    OK    OK  UNNEEDED, same version is already published
machv2macOS 10.14.6 Mojave / x86_64  OK    OK    OK    OK  UNNEEDED, same version is already published

Summary

Package: IntEREst
Version: 1.18.0
Command: C:\Users\biocbuild\bbs-3.14-bioc\R\bin\R.exe CMD check --force-multiarch --install=check:IntEREst.install-out.txt --library=C:\Users\biocbuild\bbs-3.14-bioc\R\library --no-vignettes --timings IntEREst_1.18.0.tar.gz
StartedAt: 2022-01-25 21:37:14 -0500 (Tue, 25 Jan 2022)
EndedAt: 2022-01-25 21:46:07 -0500 (Tue, 25 Jan 2022)
EllapsedTime: 532.7 seconds
RetCode: 0
Status:   OK  
CheckDir: IntEREst.Rcheck
Warnings: 0

Command output

##############################################################################
##############################################################################
###
### Running command:
###
###   C:\Users\biocbuild\bbs-3.14-bioc\R\bin\R.exe CMD check --force-multiarch --install=check:IntEREst.install-out.txt --library=C:\Users\biocbuild\bbs-3.14-bioc\R\library --no-vignettes --timings IntEREst_1.18.0.tar.gz
###
##############################################################################
##############################################################################


* using log directory 'C:/Users/biocbuild/bbs-3.14-bioc/meat/IntEREst.Rcheck'
* using R version 4.1.2 (2021-11-01)
* using platform: x86_64-w64-mingw32 (64-bit)
* using session charset: ISO8859-1
* using option '--no-vignettes'
* checking for file 'IntEREst/DESCRIPTION' ... OK
* this is package 'IntEREst' version '1.18.0'
* checking package namespace information ... OK
* checking package dependencies ... OK
* checking if this is a source package ... OK
* checking if there is a namespace ... OK
* checking for hidden files and directories ... OK
* checking for portable file names ... OK
* checking whether package 'IntEREst' can be installed ... OK
* checking installed package size ... OK
* checking package directory ... OK
* checking 'build' directory ... OK
* checking DESCRIPTION meta-information ... OK
* checking top-level files ... OK
* checking for left-over files ... OK
* checking index information ... OK
* checking package subdirectories ... OK
* checking R files for non-ASCII characters ... OK
* checking R files for syntax errors ... OK
* loading checks for arch 'i386'
** checking whether the package can be loaded ... OK
** checking whether the package can be loaded with stated dependencies ... OK
** checking whether the package can be unloaded cleanly ... OK
** checking whether the namespace can be loaded with stated dependencies ... OK
** checking whether the namespace can be unloaded cleanly ... OK
* loading checks for arch 'x64'
** checking whether the package can be loaded ... OK
** checking whether the package can be loaded with stated dependencies ... OK
** checking whether the package can be unloaded cleanly ... OK
** checking whether the namespace can be loaded with stated dependencies ... OK
** checking whether the namespace can be unloaded cleanly ... OK
* checking dependencies in R code ... OK
* checking S3 generic/method consistency ... OK
* checking replacement functions ... OK
* checking foreign function calls ... OK
* checking R code for possible problems ... OK
* checking Rd files ... OK
* checking Rd metadata ... OK
* checking Rd cross-references ... OK
* checking for missing documentation entries ... OK
* checking for code/documentation mismatches ... OK
* checking Rd \usage sections ... OK
* checking Rd contents ... OK
* checking for unstated dependencies in examples ... OK
* checking contents of 'data' directory ... OK
* checking data for non-ASCII characters ... OK
* checking LazyData ... OK
* checking data for ASCII and uncompressed saves ... OK
* checking files in 'vignettes' ... OK
* checking examples ...
** running examples for arch 'i386' ... OK
Examples with CPU (user + system) or elapsed time > 5s
                user system elapsed
DEXSeqIntEREst 29.47   0.66   30.13
deseqInterest   8.03   0.00    8.04
** running examples for arch 'x64' ... OK
Examples with CPU (user + system) or elapsed time > 5s
                user system elapsed
DEXSeqIntEREst 29.53   0.06   29.59
deseqInterest   8.19   0.08    8.26
* checking for unstated dependencies in vignettes ... OK
* checking package vignettes in 'inst/doc' ... OK
* checking running R code from vignettes ... SKIPPED
* checking re-building of vignette outputs ... SKIPPED
* checking PDF version of manual ... OK
* DONE

Status: OK


Installation output

IntEREst.Rcheck/00install.out

##############################################################################
##############################################################################
###
### Running command:
###
###   C:\cygwin\bin\curl.exe -O http://155.52.207.166/BBS/3.14/bioc/src/contrib/IntEREst_1.18.0.tar.gz && rm -rf IntEREst.buildbin-libdir && mkdir IntEREst.buildbin-libdir && C:\Users\biocbuild\bbs-3.14-bioc\R\bin\R.exe CMD INSTALL --merge-multiarch --build --library=IntEREst.buildbin-libdir IntEREst_1.18.0.tar.gz && C:\Users\biocbuild\bbs-3.14-bioc\R\bin\R.exe CMD INSTALL IntEREst_1.18.0.zip && rm IntEREst_1.18.0.tar.gz IntEREst_1.18.0.zip
###
##############################################################################
##############################################################################


  % Total    % Received % Xferd  Average Speed   Time    Time     Time  Current
                                 Dload  Upload   Total   Spent    Left  Speed

  0     0    0     0    0     0      0      0 --:--:-- --:--:-- --:--:--     0
100  962k  100  962k    0     0  1537k      0 --:--:-- --:--:-- --:--:-- 1539k

install for i386

* installing *source* package 'IntEREst' ...
** using staged installation
** R
** data
*** moving datasets to lazyload DB
** inst
** byte-compile and prepare package for lazy loading
** help
*** installing help indices
  converting help for package 'IntEREst'
    finding HTML links ... done
    DEXSeqIntEREst                          html  
    IntEREst-package                        html  
    addAnnotation                           html  
    annotateU12                             html  
    applyOverlap                            html  
    attributes                              html  
    boxplot-method                          html  
    buildSsTypePwms                         html  
    counts-method                           html  
    deseqInterest                           html  
    exactTestInterest                       html  
    getRepeatTable                          html  
    glmInterest                             html  
    interest                                html  
REDIRECT:topic	 Previous alias or file overwritten by alias: C:/Users/biocbuild/bbs-3.14-bioc/meat/IntEREst.buildbin-libdir/00LOCK-IntEREst/00new/IntEREst/help/interest.html
    interest.sequential                     html  
    interestResult                          html  
    interestResultIntEx                     html  
    intexIndex                              html  
    lfc                                     html  
    mdsChr22ExObj                           html  
    mdsChr22IntSpObj                        html  
    mdsChr22Obj                             html  
    mergeInterestResult                     html  
    plot-method                             html  
    psi                                     html  
    pwmU12db                                html  
    qlfInterest                             html  
    readInterestResults                     html  
    referencePrepare                        html  
    subInterestResult                       html  
    treatInterest                           html  
    u12                                     html  
    u12Boxplot                              html  
    u12BoxplotNb                            html  
    u12DensityPlot                          html  
    u12Index                                html  
    u12NbIndex                              html  
    unionRefTr                              html  
    updateRowDataCol                        html  
** building package indices
** installing vignettes
** testing if installed package can be loaded from temporary location
** testing if installed package can be loaded from final location
** testing if installed package keeps a record of temporary installation path

install for x64

* installing *source* package 'IntEREst' ...
** testing if installed package can be loaded
* MD5 sums
packaged installation of 'IntEREst' as IntEREst_1.18.0.zip
* DONE (IntEREst)
* installing to library 'C:/Users/biocbuild/bbs-3.14-bioc/R/library'
package 'IntEREst' successfully unpacked and MD5 sums checked

Tests output


Example timings

IntEREst.Rcheck/examples_i386/IntEREst-Ex.timings

nameusersystemelapsed
DEXSeqIntEREst29.47 0.6630.13
addAnnotation0.050.000.04
annotateU122.940.113.05
applyOverlap0.20.00.2
attributes0.030.000.03
boxplot-method0.080.000.08
buildSsTypePwms000
counts-method0.050.000.05
deseqInterest8.030.008.04
exactTestInterest0.110.000.11
getRepeatTable000
glmInterest0.220.000.22
interest1.690.093.42
interest.sequential1.360.001.36
interestResult0.030.000.03
interestResultIntEx0.340.000.35
intexIndex0.020.000.01
lfc0.360.060.43
mergeInterestResult0.090.000.09
plot-method0.310.050.36
psi0.750.020.76
qlfInterest0.250.000.25
readInterestResults0.080.000.13
referencePrepare1.390.061.45
subInterestResult0.060.000.06
treatInterest0.250.000.25
u12Boxplot0.140.000.15
u12BoxplotNb0.110.000.10
u12DensityPlot0.330.080.41
u12Index0.020.000.02
u12NbIndex0.090.000.09
unionRefTr0.000.010.02
updateRowDataCol0.080.000.07

IntEREst.Rcheck/examples_x64/IntEREst-Ex.timings

nameusersystemelapsed
DEXSeqIntEREst29.53 0.0629.59
addAnnotation0.030.000.03
annotateU123.480.163.64
applyOverlap0.220.000.22
attributes0.030.010.05
boxplot-method0.080.000.07
buildSsTypePwms000
counts-method0.030.000.04
deseqInterest8.190.088.26
exactTestInterest0.090.000.09
getRepeatTable000
glmInterest0.210.000.21
interest1.340.001.34
interest.sequential1.230.001.24
interestResult0.040.000.03
interestResultIntEx0.20.00.2
intexIndex000
lfc0.230.000.23
mergeInterestResult0.080.000.08
plot-method0.310.000.31
psi0.620.020.64
qlfInterest0.190.000.18
readInterestResults0.090.000.16
referencePrepare1.350.001.34
subInterestResult0.060.000.07
treatInterest1.110.001.11
u12Boxplot0.090.000.09
u12BoxplotNb0.110.000.11
u12DensityPlot0.270.000.27
u12Index0.010.000.01
u12NbIndex0.080.000.08
unionRefTr0.020.000.01
updateRowDataCol0.040.000.05