Index of /checkResults/3.14/bioc-LATEST/InPAS/raw-results/tokay2

[ICO]NameLast modifiedSizeDescription

[DIR]Parent Directory  -  
[   ]install-summary.dcf14-Apr-2022 01:06 617  
[TXT]install-out.txt14-Apr-2022 01:06 4.6K 
[   ]checksrc-summary.dcf14-Apr-2022 01:06 452  
[TXT]checksrc-out.txt14-Apr-2022 01:06 4.1K 
[   ]buildsrc-summary.dcf14-Apr-2022 01:06 447  
[TXT]buildsrc-out.txt14-Apr-2022 01:06 834  
[   ]buildbin-summary.dcf14-Apr-2022 01:06 524  
[TXT]buildbin-out.txt14-Apr-2022 01:06 3.8K