Back to Multiple platform build/check report for BioC 3.14
ABCDEFGH[I]JKLMNOPQRSTUVWXYZ

This page was generated on 2022-01-26 13:06:45 -0500 (Wed, 26 Jan 2022).

HostnameOSArch (*)R versionInstalled pkgs
nebbiolo2Linux (Ubuntu 20.04.4 LTS)x86_644.1.2 (2021-11-01) -- "Bird Hippie" 4329
tokay2Windows Server 2012 R2 Standardx644.1.2 (2021-11-01) -- "Bird Hippie" 4080
machv2macOS 10.14.6 Mojavex86_644.1.2 (2021-11-01) -- "Bird Hippie" 4141
Click on any hostname to see more info about the system (e.g. compilers)      (*) as reported by 'uname -p', except on Windows and Mac OS X

INSTALL results for ImmuneSpaceR on tokay2


To the developers/maintainers of the ImmuneSpaceR package:
- Please allow up to 24 hours (and sometimes 48 hours) for your latest push to git@git.bioconductor.org:packages/ImmuneSpaceR.git to
reflect on this report. See How and When does the builder pull? When will my changes propagate? here for more information.
- Make sure to use the following settings in order to reproduce any error or warning you see on this page.

raw results

Package 925/2083HostnameOS / ArchINSTALLBUILDCHECKBUILD BIN
ImmuneSpaceR 1.22.0  (landing page)
ImmuneSpace Package Maintainer
Snapshot Date: 2022-01-25 01:55:07 -0500 (Tue, 25 Jan 2022)
git_url: https://git.bioconductor.org/packages/ImmuneSpaceR
git_branch: RELEASE_3_14
git_last_commit: 54aead9
git_last_commit_date: 2021-10-26 12:27:50 -0500 (Tue, 26 Oct 2021)
nebbiolo2Linux (Ubuntu 20.04.4 LTS) / x86_64  OK    OK    OK  UNNEEDED, same version is already published
tokay2Windows Server 2012 R2 Standard / x64  OK    OK    OK    OK  UNNEEDED, same version is already published
machv2macOS 10.14.6 Mojave / x86_64  OK    OK    OK    OK  UNNEEDED, same version is already published

Summary

Package: ImmuneSpaceR
Version: 1.22.0
Command: C:\cygwin\bin\curl.exe -O http://155.52.207.166/BBS/3.14/bioc/src/contrib/ImmuneSpaceR_1.22.0.tar.gz && rm -rf ImmuneSpaceR.buildbin-libdir && mkdir ImmuneSpaceR.buildbin-libdir && C:\Users\biocbuild\bbs-3.14-bioc\R\bin\R.exe CMD INSTALL --merge-multiarch --build --library=ImmuneSpaceR.buildbin-libdir ImmuneSpaceR_1.22.0.tar.gz && C:\Users\biocbuild\bbs-3.14-bioc\R\bin\R.exe CMD INSTALL ImmuneSpaceR_1.22.0.zip && rm ImmuneSpaceR_1.22.0.tar.gz ImmuneSpaceR_1.22.0.zip
StartedAt: 2022-01-25 06:17:04 -0500 (Tue, 25 Jan 2022)
EndedAt: 2022-01-25 06:18:48 -0500 (Tue, 25 Jan 2022)
EllapsedTime: 104.1 seconds
RetCode: 0
Status:   OK  

Command output

##############################################################################
##############################################################################
###
### Running command:
###
###   C:\cygwin\bin\curl.exe -O http://155.52.207.166/BBS/3.14/bioc/src/contrib/ImmuneSpaceR_1.22.0.tar.gz && rm -rf ImmuneSpaceR.buildbin-libdir && mkdir ImmuneSpaceR.buildbin-libdir && C:\Users\biocbuild\bbs-3.14-bioc\R\bin\R.exe CMD INSTALL --merge-multiarch --build --library=ImmuneSpaceR.buildbin-libdir ImmuneSpaceR_1.22.0.tar.gz && C:\Users\biocbuild\bbs-3.14-bioc\R\bin\R.exe CMD INSTALL ImmuneSpaceR_1.22.0.zip && rm ImmuneSpaceR_1.22.0.tar.gz ImmuneSpaceR_1.22.0.zip
###
##############################################################################
##############################################################################


  % Total    % Received % Xferd  Average Speed   Time    Time     Time  Current
                                 Dload  Upload   Total   Spent    Left  Speed

  0     0    0     0    0     0      0      0 --:--:-- --:--:-- --:--:--     0
 95 2597k   95 2469k    0     0  3356k      0 --:--:-- --:--:-- --:--:-- 3354k
100 2597k  100 2597k    0     0  3498k      0 --:--:-- --:--:-- --:--:-- 3496k

install for i386

* installing *source* package 'ImmuneSpaceR' ...
** using staged installation
** R
** inst
** byte-compile and prepare package for lazy loading
** help
*** installing help indices
  converting help for package 'ImmuneSpaceR'
    finding HTML links ... done
    CreateConnection                        html  
    ISpalette                               html  
    ImmuneSpaceConnection                   html  
    ImmuneSpaceR-package                    html  
    check_netrc                             html  
    interactive_netrc                       html  
    loadConnection                          html  
    template_IS                             html  
    theme_IS                                html  
    write_netrc                             html  
*** copying figures
** building package indices
** installing vignettes
** testing if installed package can be loaded from temporary location
** testing if installed package can be loaded from final location
** testing if installed package keeps a record of temporary installation path

install for x64

* installing *source* package 'ImmuneSpaceR' ...
** testing if installed package can be loaded
* MD5 sums
packaged installation of 'ImmuneSpaceR' as ImmuneSpaceR_1.22.0.zip
* DONE (ImmuneSpaceR)
* installing to library 'C:/Users/biocbuild/bbs-3.14-bioc/R/library'
package 'ImmuneSpaceR' successfully unpacked and MD5 sums checked