![]() | Name | Last modified | Size | Description |
---|---|---|---|---|
![]() | Parent Directory | - | ||
![]() | buildsrc-summary.dcf | 14-Apr-2022 01:06 | 444 | |
![]() | checksrc-summary.dcf | 14-Apr-2022 01:06 | 456 | |
![]() | buildbin-summary.dcf | 14-Apr-2022 01:06 | 521 | |
![]() | install-summary.dcf | 14-Apr-2022 01:06 | 614 | |
![]() | buildsrc-out.txt | 14-Apr-2022 01:06 | 890 | |
![]() | buildbin-out.txt | 14-Apr-2022 01:06 | 2.2K | |
![]() | install-out.txt | 14-Apr-2022 01:06 | 3.0K | |
![]() | checksrc-out.txt | 14-Apr-2022 01:06 | 4.4K | |