Back to Multiple platform build/check report for BioC 3.14
ABCDEFGH[I]JKLMNOPQRSTUVWXYZ

This page was generated on 2022-01-19 13:06:47 -0500 (Wed, 19 Jan 2022).

HostnameOSArch (*)R versionInstalled pkgs
nebbiolo2Linux (Ubuntu 20.04.4 LTS)x86_644.1.2 (2021-11-01) -- "Bird Hippie" 4328
tokay2Windows Server 2012 R2 Standardx644.1.2 (2021-11-01) -- "Bird Hippie" 4077
machv2macOS 10.14.6 Mojavex86_644.1.2 (2021-11-01) -- "Bird Hippie" 4138
Click on any hostname to see more info about the system (e.g. compilers)      (*) as reported by 'uname -p', except on Windows and Mac OS X

CHECK results for ISAnalytics on tokay2


To the developers/maintainers of the ISAnalytics package:
- Please allow up to 24 hours (and sometimes 48 hours) for your latest push to git@git.bioconductor.org:packages/ISAnalytics.git to
reflect on this report. See How and When does the builder pull? When will my changes propagate? here for more information.
- Make sure to use the following settings in order to reproduce any error or warning you see on this page.

raw results

Package 956/2083HostnameOS / ArchINSTALLBUILDCHECKBUILD BIN
ISAnalytics 1.4.3  (landing page)
Andrea Calabria
Snapshot Date: 2022-01-18 01:55:07 -0500 (Tue, 18 Jan 2022)
git_url: https://git.bioconductor.org/packages/ISAnalytics
git_branch: RELEASE_3_14
git_last_commit: 51c47b9
git_last_commit_date: 2022-01-13 08:23:28 -0500 (Thu, 13 Jan 2022)
nebbiolo2Linux (Ubuntu 20.04.4 LTS) / x86_64  OK    OK    OK  UNNEEDED, same version is already published
tokay2Windows Server 2012 R2 Standard / x64  OK    OK    OK    OK  UNNEEDED, same version is already published
machv2macOS 10.14.6 Mojave / x86_64  OK    OK    OK    OK  UNNEEDED, same version is already published

Summary

Package: ISAnalytics
Version: 1.4.3
Command: C:\Users\biocbuild\bbs-3.14-bioc\R\bin\R.exe CMD check --force-multiarch --install=check:ISAnalytics.install-out.txt --library=C:\Users\biocbuild\bbs-3.14-bioc\R\library --no-vignettes --timings ISAnalytics_1.4.3.tar.gz
StartedAt: 2022-01-18 21:30:57 -0500 (Tue, 18 Jan 2022)
EndedAt: 2022-01-18 21:47:01 -0500 (Tue, 18 Jan 2022)
EllapsedTime: 963.8 seconds
RetCode: 0
Status:   OK  
CheckDir: ISAnalytics.Rcheck
Warnings: 0

Command output

##############################################################################
##############################################################################
###
### Running command:
###
###   C:\Users\biocbuild\bbs-3.14-bioc\R\bin\R.exe CMD check --force-multiarch --install=check:ISAnalytics.install-out.txt --library=C:\Users\biocbuild\bbs-3.14-bioc\R\library --no-vignettes --timings ISAnalytics_1.4.3.tar.gz
###
##############################################################################
##############################################################################


* using log directory 'C:/Users/biocbuild/bbs-3.14-bioc/meat/ISAnalytics.Rcheck'
* using R version 4.1.2 (2021-11-01)
* using platform: x86_64-w64-mingw32 (64-bit)
* using session charset: ISO8859-1
* using option '--no-vignettes'
* checking for file 'ISAnalytics/DESCRIPTION' ... OK
* this is package 'ISAnalytics' version '1.4.3'
* package encoding: UTF-8
* checking package namespace information ... OK
* checking package dependencies ... OK
* checking if this is a source package ... OK
* checking if there is a namespace ... OK
* checking for hidden files and directories ... OK
* checking for portable file names ... OK
* checking whether package 'ISAnalytics' can be installed ... OK
* checking installed package size ... OK
* checking package directory ... OK
* checking 'build' directory ... OK
* checking DESCRIPTION meta-information ... OK
* checking top-level files ... OK
* checking for left-over files ... OK
* checking index information ... OK
* checking package subdirectories ... OK
* checking R files for non-ASCII characters ... OK
* checking R files for syntax errors ... OK
* loading checks for arch 'i386'
** checking whether the package can be loaded ... OK
** checking whether the package can be loaded with stated dependencies ... OK
** checking whether the package can be unloaded cleanly ... OK
** checking whether the namespace can be loaded with stated dependencies ... OK
** checking whether the namespace can be unloaded cleanly ... OK
* loading checks for arch 'x64'
** checking whether the package can be loaded ... OK
** checking whether the package can be loaded with stated dependencies ... OK
** checking whether the package can be unloaded cleanly ... OK
** checking whether the namespace can be loaded with stated dependencies ... OK
** checking whether the namespace can be unloaded cleanly ... OK
* checking dependencies in R code ... OK
* checking S3 generic/method consistency ... OK
* checking replacement functions ... OK
* checking foreign function calls ... OK
* checking R code for possible problems ... NOTE
.check_file_system_alignment: no visible binding for global variable
  'Found'
.clean_data: no visible binding for global variable 'alluvia_id'
.count_group_union: no visible binding for global variable
  '..col_groups'
.count_group_union: no visible binding for global variable 'group_id'
.find_in_common : <anonymous>: no visible binding for global variable
  'group_id'
.sh_obtain_lookup: no visible global function definition for '.'
.sh_row_permut: no visible binding for global variable 'shared'
.sh_row_permut: no visible binding for global variable 'is_coord'
.sh_row_permut: no visible global function definition for '.'
.sh_truth_tbl_venn : retrieve_is: no visible binding for global
  variable 'group_id'
.sh_truth_tbl_venn: no visible binding for global variable 'observed'
.sh_truth_tbl_venn: no visible binding for global variable 'group_id'
.sharing_multdf_mult_key: no visible binding for global variable
  'shared'
.sharing_multdf_mult_key : <anonymous>: no visible binding for global
  variable 'is'
.sharing_multdf_mult_key: no visible binding for global variable '.'
.sharing_multdf_single_key: no visible binding for global variable
  'shared'
.sharing_multdf_single_key : <anonymous>: no visible binding for global
  variable 'is'
.sharing_multdf_single_key: no visible binding for global variable '.'
.sharing_singledf_mult_key: no visible binding for global variable
  'shared'
.sharing_singledf_mult_key: no visible binding for global variable 'is'
.sharing_singledf_mult_key: no visible binding for global variable '.'
.sharing_singledf_single_key: no visible binding for global variable
  'is'
.sharing_singledf_single_key: no visible binding for global variable
  'shared'
.sharing_singledf_single_key : <anonymous>: no visible binding for
  global variable 'shared'
.sharing_singledf_single_key : <anonymous>: no visible binding for
  global variable 'is_coord'
.sharing_singledf_single_key : <anonymous>: no visible binding for
  global variable 'group_id'
.sharing_singledf_single_key: no visible binding for global variable
  '.'
.sliding_window: no visible binding for global variable '..mand_vars'
.sliding_window: no visible binding for global variable 'chr_before'
.sliding_window: no visible binding for global variable
  'integration_locus_before'
.sliding_window: no visible binding for global variable 'strand_before'
.sliding_window: no visible binding for global variable '..num_cols'
compute_near_integrations: no visible binding for global variable
  '..mand_vars'
compute_near_integrations: no visible binding for global variable
  'chr_before'
compute_near_integrations: no visible binding for global variable
  'integration_locus_before'
compute_near_integrations: no visible binding for global variable
  'strand_before'
cumulative_is: no visible global function definition for '.'
cumulative_is : <anonymous>: no visible binding for global variable
  'is'
cumulative_is: no visible binding for global variable 'is'
sharing_heatmap : plot_rel_heat: no visible binding for global variable
  '..fill..'
Undefined global functions or variables:
  . ..col_groups ..fill.. ..mand_vars ..num_cols Found alluvia_id
  chr_before group_id integration_locus_before is is_coord observed
  shared strand_before
Consider adding
  importFrom("methods", "is")
to your NAMESPACE file (and ensure that your DESCRIPTION Imports field
contains 'methods').
* checking Rd files ... OK
* checking Rd metadata ... OK
* checking Rd cross-references ... OK
* checking for missing documentation entries ... OK
* checking for code/documentation mismatches ... OK
* checking Rd \usage sections ... OK
* checking Rd contents ... OK
* checking for unstated dependencies in examples ... OK
* checking contents of 'data' directory ... OK
* checking data for non-ASCII characters ... OK
* checking data for ASCII and uncompressed saves ... OK
* checking files in 'vignettes' ... OK
* checking examples ...
** running examples for arch 'i386' ... OK
Examples with CPU (user + system) or elapsed time > 5s
                                user system elapsed
sharing_venn                   31.74   0.64   32.85
compute_near_integrations       1.22   0.30   10.56
comparison_matrix               1.20   0.14   16.62
import_single_Vispa2Matrix      0.75   0.53    9.36
import_parallel_Vispa2Matrices  1.03   0.11   15.12
iss_source                      1.01   0.02    7.00
import_Vispa2_stats             0.81   0.09    8.17
HSC_population_plot             0.83   0.03    6.10
HSC_population_size_estimate    0.61   0.00    5.81
** running examples for arch 'x64' ... OK
Examples with CPU (user + system) or elapsed time > 5s
                                user system elapsed
sharing_venn                   31.36   0.44   31.83
compute_near_integrations       1.25   0.39   12.05
comparison_matrix               1.44   0.11   15.72
import_single_Vispa2Matrix      1.00   0.28    8.60
import_parallel_Vispa2Matrices  1.07   0.11   14.95
iss_source                      1.03   0.00    6.53
HSC_population_plot             0.92   0.02    7.08
import_Vispa2_stats             0.78   0.11    8.42
HSC_population_size_estimate    0.63   0.03    6.75
* checking for unstated dependencies in 'tests' ... OK
* checking tests ...
** running tests for arch 'i386' ...
  Running 'testthat.R'
 OK
** running tests for arch 'x64' ...
  Running 'testthat.R'
 OK
* checking for unstated dependencies in vignettes ... OK
* checking package vignettes in 'inst/doc' ... OK
* checking running R code from vignettes ... SKIPPED
* checking re-building of vignette outputs ... SKIPPED
* checking PDF version of manual ... OK
* DONE

Status: 1 NOTE
See
  'C:/Users/biocbuild/bbs-3.14-bioc/meat/ISAnalytics.Rcheck/00check.log'
for details.



Installation output

ISAnalytics.Rcheck/00install.out

##############################################################################
##############################################################################
###
### Running command:
###
###   C:\cygwin\bin\curl.exe -O http://155.52.207.166/BBS/3.14/bioc/src/contrib/ISAnalytics_1.4.3.tar.gz && rm -rf ISAnalytics.buildbin-libdir && mkdir ISAnalytics.buildbin-libdir && C:\Users\biocbuild\bbs-3.14-bioc\R\bin\R.exe CMD INSTALL --merge-multiarch --build --library=ISAnalytics.buildbin-libdir ISAnalytics_1.4.3.tar.gz && C:\Users\biocbuild\bbs-3.14-bioc\R\bin\R.exe CMD INSTALL ISAnalytics_1.4.3.zip && rm ISAnalytics_1.4.3.tar.gz ISAnalytics_1.4.3.zip
###
##############################################################################
##############################################################################


  % Total    % Received % Xferd  Average Speed   Time    Time     Time  Current
                                 Dload  Upload   Total   Spent    Left  Speed

  0     0    0     0    0     0      0      0 --:--:-- --:--:-- --:--:--     0
100 2452k  100 2452k    0     0  4762k      0 --:--:-- --:--:-- --:--:-- 4771k

install for i386

* installing *source* package 'ISAnalytics' ...
** using staged installation
** R
** data
** inst
** byte-compile and prepare package for lazy loading
** help
*** installing help indices
  converting help for package 'ISAnalytics'
    finding HTML links ... done
    CIS_grubbs                              html  
    CIS_volcano_plot                        html  
    HSC_population_plot                     html  
    HSC_population_size_estimate            html  
    ISAnalytics-deprecated                  html  
    ISAnalytics                             html  
    aggregate_metadata                      html  
    aggregate_values_by_key                 html  
    annotation_IS_vars                      html  
    annotation_issues                       html  
    as_sparse_matrix                        html  
    association_file                        html  
    association_file_columns                html  
    available_outlier_tests                 html  
    blood_lineages_default                  html  
    circos_genomic_density                  html  
    clinical_relevant_suspicious_genes      html  
    comparison_matrix                       html  
    compute_abundance                       html  
    compute_near_integrations               html  
    cumulative_count_union                  html  
    cumulative_is                           html  
    date_columns_coll                       html  
    date_formats                            html  
    default_iss_file_prefixes               html  
    default_meta_agg                        html  
    default_report_path                     html  
    default_stats                           html  
    generate_Vispa2_launch_AF               html  
    generate_blank_association_file         html  
    import_Vispa2_stats                     html  
    import_association_file                 html  
    import_parallel_Vispa2Matrices          html  
    import_parallel_Vispa2Matrices_auto     html  
    import_parallel_Vispa2Matrices_interactive
                                            html  
    import_single_Vispa2Matrix              html  
    integration_alluvial_plot               html  
    integration_matrices                    html  
    is_sharing                              html  
    iss_source                              html  
    known_clinical_oncogenes                html  
    mandatory_IS_vars                       html  
    matching_options                        html  
    outlier_filter                          html  
    outliers_by_pool_fragments              html  
    proto_oncogenes                         html  
    purity_filter                           html  
    quantification_types                    html  
    realign_after_collisions                html  
    reduced_AF_columns                      html  
    refGene_table_cols                      html  
    refGenes_hg19                           html  
    remove_collisions                       html  
    sample_statistics                       html  
    separate_quant_matrices                 html  
    sharing_heatmap                         html  
    sharing_venn                            html  
    threshold_filter                        html  
    top_abund_tableGrob                     html  
    top_integrations                        html  
    unzip_file_system                       html  
*** copying figures
** building package indices
** installing vignettes
** testing if installed package can be loaded from temporary location
** testing if installed package can be loaded from final location
** testing if installed package keeps a record of temporary installation path

install for x64

* installing *source* package 'ISAnalytics' ...
** testing if installed package can be loaded
* MD5 sums
packaged installation of 'ISAnalytics' as ISAnalytics_1.4.3.zip
* DONE (ISAnalytics)
* installing to library 'C:/Users/biocbuild/bbs-3.14-bioc/R/library'
package 'ISAnalytics' successfully unpacked and MD5 sums checked

Tests output

ISAnalytics.Rcheck/tests_i386/testthat.Rout


R version 4.1.2 (2021-11-01) -- "Bird Hippie"
Copyright (C) 2021 The R Foundation for Statistical Computing
Platform: i386-w64-mingw32/i386 (32-bit)

R is free software and comes with ABSOLUTELY NO WARRANTY.
You are welcome to redistribute it under certain conditions.
Type 'license()' or 'licence()' for distribution details.

R is a collaborative project with many contributors.
Type 'contributors()' for more information and
'citation()' on how to cite R or R packages in publications.

Type 'demo()' for some demos, 'help()' for on-line help, or
'help.start()' for an HTML browser interface to help.
Type 'q()' to quit R.

> library(testthat)
> library(ISAnalytics)
Loading required package: magrittr

Attaching package: 'magrittr'

The following objects are masked from 'package:testthat':

    equals, is_less_than, not

> 
> test_check("ISAnalytics")
Duplicates found for some files: in automatic mode duplicates are not preserved - use interactive mode for more accurate file selection
Duplicates found for some files: in automatic mode duplicates are not preserved - use interactive mode for more accurate file selection
Warning: found NA concatenatePoolIDSeqRun field
i Check association file for possible issues
Duplicates found for some files
Some files are missing and will be ignored
Some files are missing and will be ignored
Some files are missing and will be ignored
Some files are missing and will be ignored
Some files are missing and will be ignored
Some files are missing and will be ignored
Some files are missing and will be ignored
Duplicates found for some files: in automatic mode duplicates are not preserved - use interactive mode for more accurate file selection
Duplicates found for some files: in automatic mode duplicates are not preserved - use interactive mode for more accurate file selection
Some files are missing and will be ignored
Duplicates found for some files: in automatic mode duplicates are not preserved - use interactive mode for more accurate file selection
Some files are missing and will be ignored
  adding: Users/biocbuild/bbs-3.14-bioc/tmpdir/Rtmp6VKi9d/filecdc168b13e9.tsv (deflated 43%)

  |                                                                            
  |                                                                      |   0%
  |                                                                            
  |======================================================================| 100%

Calculating number of IS for each group...

  |                                                                            
  |                                                                      |   0%
  |                                                                            
  |======================================================================| 100%


  |                                                                            
  |                                                                      |   0%
  |                                                                            
  |===================================                                   |  50%
  |                                                                            
  |======================================================================| 100%


  |                                                                            
  |                                                                      |   0%
  |                                                                            
  |===================================                                   |  50%
  |                                                                            
  |======================================================================| 100%

Calculating combinations...
Done!
Calculating combinations...
Done!
== Skipped tests ===============================================================
* On Windows (1)

[ FAIL 0 | WARN 0 | SKIP 1 | PASS 755 ]
> 
> proc.time()
   user  system elapsed 
  59.14    4.00  270.18 

ISAnalytics.Rcheck/tests_x64/testthat.Rout


R version 4.1.2 (2021-11-01) -- "Bird Hippie"
Copyright (C) 2021 The R Foundation for Statistical Computing
Platform: x86_64-w64-mingw32/x64 (64-bit)

R is free software and comes with ABSOLUTELY NO WARRANTY.
You are welcome to redistribute it under certain conditions.
Type 'license()' or 'licence()' for distribution details.

R is a collaborative project with many contributors.
Type 'contributors()' for more information and
'citation()' on how to cite R or R packages in publications.

Type 'demo()' for some demos, 'help()' for on-line help, or
'help.start()' for an HTML browser interface to help.
Type 'q()' to quit R.

> library(testthat)
> library(ISAnalytics)
Loading required package: magrittr

Attaching package: 'magrittr'

The following objects are masked from 'package:testthat':

    equals, is_less_than, not

> 
> test_check("ISAnalytics")
Duplicates found for some files: in automatic mode duplicates are not preserved - use interactive mode for more accurate file selection
Duplicates found for some files: in automatic mode duplicates are not preserved - use interactive mode for more accurate file selection
Warning: found NA concatenatePoolIDSeqRun field
i Check association file for possible issues
Duplicates found for some files
Some files are missing and will be ignored
Some files are missing and will be ignored
Some files are missing and will be ignored
Some files are missing and will be ignored
Some files are missing and will be ignored
Some files are missing and will be ignored
Some files are missing and will be ignored
Duplicates found for some files: in automatic mode duplicates are not preserved - use interactive mode for more accurate file selection
Duplicates found for some files: in automatic mode duplicates are not preserved - use interactive mode for more accurate file selection
Some files are missing and will be ignored
Duplicates found for some files: in automatic mode duplicates are not preserved - use interactive mode for more accurate file selection
Some files are missing and will be ignored
  adding: Users/biocbuild/bbs-3.14-bioc/tmpdir/RtmpALWsQl/file29c063a4d06.tsv (deflated 43%)

  |                                                                            
  |                                                                      |   0%
  |                                                                            
  |======================================================================| 100%

Calculating number of IS for each group...

  |                                                                            
  |                                                                      |   0%
  |                                                                            
  |======================================================================| 100%


  |                                                                            
  |                                                                      |   0%
  |                                                                            
  |===================================                                   |  50%
  |                                                                            
  |======================================================================| 100%


  |                                                                            
  |                                                                      |   0%
  |                                                                            
  |===================================                                   |  50%
  |                                                                            
  |======================================================================| 100%

Calculating combinations...
Done!
Calculating combinations...
Done!
== Skipped tests ===============================================================
* On Windows (1)

[ FAIL 0 | WARN 0 | SKIP 1 | PASS 755 ]
> 
> proc.time()
   user  system elapsed 
  61.75    3.70  276.67 

Example timings

ISAnalytics.Rcheck/examples_i386/ISAnalytics-Ex.timings

nameusersystemelapsed
CIS_grubbs1.730.041.78
CIS_volcano_plot1.990.052.04
HSC_population_plot0.830.036.10
HSC_population_size_estimate0.610.005.81
aggregate_metadata0.190.000.19
aggregate_values_by_key0.110.000.10
annotation_IS_vars000
annotation_issues0.060.000.07
as_sparse_matrix0.050.000.04
association_file_columns000
available_outlier_tests000
blood_lineages_default0.020.000.02
circos_genomic_density000
clinical_relevant_suspicious_genes0.030.000.03
comparison_matrix 1.20 0.1416.62
compute_abundance0.080.000.08
compute_near_integrations 1.22 0.3010.56
cumulative_count_union0.250.000.25
cumulative_is0.120.030.16
date_columns_coll000
date_formats000
default_iss_file_prefixes000
default_meta_agg0.020.000.01
default_report_path0.010.000.02
default_stats000
generate_Vispa2_launch_AF0.040.000.03
generate_blank_association_file0.010.000.02
import_Vispa2_stats0.810.098.17
import_association_file0.430.160.44
import_parallel_Vispa2Matrices 1.03 0.1115.12
import_single_Vispa2Matrix0.750.539.36
integration_alluvial_plot4.250.034.47
is_sharing1.420.251.67
iss_source1.010.027.00
known_clinical_oncogenes0.020.000.02
mandatory_IS_vars000
matching_options000
outlier_filter0.800.004.32
outliers_by_pool_fragments0.580.034.83
purity_filter0.560.000.57
quantification_types000
realign_after_collisions0.530.014.62
reduced_AF_columns000
refGene_table_cols000
remove_collisions0.510.024.45
sample_statistics1.500.031.53
separate_quant_matrices0.020.020.04
sharing_heatmap3.060.153.21
sharing_venn31.74 0.6432.85
threshold_filter0.060.000.06
top_abund_tableGrob0.450.000.45
top_integrations0.030.000.04
unzip_file_system000

ISAnalytics.Rcheck/examples_x64/ISAnalytics-Ex.timings

nameusersystemelapsed
CIS_grubbs2.090.092.19
CIS_volcano_plot1.880.001.87
HSC_population_plot0.920.027.08
HSC_population_size_estimate0.630.036.75
aggregate_metadata0.20.00.2
aggregate_values_by_key0.120.000.13
annotation_IS_vars000
annotation_issues0.050.000.04
as_sparse_matrix0.050.000.05
association_file_columns000
available_outlier_tests000
blood_lineages_default0.030.000.03
circos_genomic_density000
clinical_relevant_suspicious_genes0.010.000.02
comparison_matrix 1.44 0.1115.72
compute_abundance0.060.010.07
compute_near_integrations 1.25 0.3912.05
cumulative_count_union0.250.020.27
cumulative_is0.130.020.14
date_columns_coll000
date_formats000
default_iss_file_prefixes000
default_meta_agg0.030.000.03
default_report_path000
default_stats000
generate_Vispa2_launch_AF0.030.000.03
generate_blank_association_file0.020.000.02
import_Vispa2_stats0.780.118.42
import_association_file0.440.090.45
import_parallel_Vispa2Matrices 1.07 0.1114.95
import_single_Vispa2Matrix1.000.288.60
integration_alluvial_plot4.130.024.14
is_sharing1.520.041.56
iss_source1.030.006.53
known_clinical_oncogenes0.010.000.02
mandatory_IS_vars000
matching_options000
outlier_filter0.940.024.65
outliers_by_pool_fragments0.690.004.41
purity_filter0.680.000.69
quantification_types000
realign_after_collisions0.540.074.30
reduced_AF_columns000
refGene_table_cols000
remove_collisions0.650.014.91
sample_statistics1.740.031.76
separate_quant_matrices0.010.000.02
sharing_heatmap2.990.133.11
sharing_venn31.36 0.4431.83
threshold_filter0.040.000.04
top_abund_tableGrob0.420.000.42
top_integrations0.040.000.04
unzip_file_system000