Back to Multiple platform build/check report for BioC 3.14
ABCDEFGH[I]JKLMNOPQRSTUVWXYZ

This page was generated on 2022-01-21 13:06:32 -0500 (Fri, 21 Jan 2022).

HostnameOSArch (*)R versionInstalled pkgs
nebbiolo2Linux (Ubuntu 20.04.4 LTS)x86_644.1.2 (2021-11-01) -- "Bird Hippie" 4329
tokay2Windows Server 2012 R2 Standardx644.1.2 (2021-11-01) -- "Bird Hippie" 4079
machv2macOS 10.14.6 Mojavex86_644.1.2 (2021-11-01) -- "Bird Hippie" 4140
Click on any hostname to see more info about the system (e.g. compilers)      (*) as reported by 'uname -p', except on Windows and Mac OS X

BUILD results for ISAnalytics on tokay2


To the developers/maintainers of the ISAnalytics package:
- Please allow up to 24 hours (and sometimes 48 hours) for your latest push to git@git.bioconductor.org:packages/ISAnalytics.git to
reflect on this report. See How and When does the builder pull? When will my changes propagate? here for more information.
- Make sure to use the following settings in order to reproduce any error or warning you see on this page.

raw results

Package 956/2083HostnameOS / ArchINSTALLBUILDCHECKBUILD BIN
ISAnalytics 1.4.3  (landing page)
Andrea Calabria
Snapshot Date: 2022-01-20 01:55:04 -0500 (Thu, 20 Jan 2022)
git_url: https://git.bioconductor.org/packages/ISAnalytics
git_branch: RELEASE_3_14
git_last_commit: 51c47b9
git_last_commit_date: 2022-01-13 08:23:28 -0500 (Thu, 13 Jan 2022)
nebbiolo2Linux (Ubuntu 20.04.4 LTS) / x86_64  OK    OK    OK  UNNEEDED, same version is already published
tokay2Windows Server 2012 R2 Standard / x64  OK    OK    OK    OK  UNNEEDED, same version is already published
machv2macOS 10.14.6 Mojave / x86_64  OK    OK    OK    OK  UNNEEDED, same version is already published

Summary

Package: ISAnalytics
Version: 1.4.3
Command: chmod a+r ISAnalytics -R && C:\Users\biocbuild\bbs-3.14-bioc\R\bin\R.exe CMD build --keep-empty-dirs --no-resave-data ISAnalytics
StartedAt: 2022-01-20 11:49:40 -0500 (Thu, 20 Jan 2022)
EndedAt: 2022-01-20 11:52:00 -0500 (Thu, 20 Jan 2022)
EllapsedTime: 140.0 seconds
RetCode: 0
Status:   OK  
PackageFile: ISAnalytics_1.4.3.tar.gz
PackageFileSize: 3.945 MiB

Command output

##############################################################################
##############################################################################
###
### Running command:
###
###   chmod a+r ISAnalytics -R && C:\Users\biocbuild\bbs-3.14-bioc\R\bin\R.exe CMD build --keep-empty-dirs --no-resave-data ISAnalytics
###
##############################################################################
##############################################################################


* checking for file 'ISAnalytics/DESCRIPTION' ... OK
* preparing 'ISAnalytics':
* checking DESCRIPTION meta-information ... OK
* installing the package to process help pages
* building the PDF package manual
Hmm ... looks like a package
Converting Rd files to LaTeX ......
Creating pdf output from LaTeX ...
Saving output to 'C:/Users/biocbuild/bbs-3.14-bioc/tmpdir/RtmpUXSCTP/Rbuild278c4e492070/ISAnalytics/build/ISAnalytics.pdf' ...
Done
* creating vignettes ... OK
* checking for LF line-endings in source and make files and shell scripts
* checking for empty or unneeded directories
* looking to see if a 'data/datalist' file should be added
* building 'ISAnalytics_1.4.3.tar.gz'