Back to Multiple platform build/check report for BioC 3.14
ABCDEFGH[I]JKLMNOPQRSTUVWXYZ

This page was generated on 2022-01-21 13:07:57 -0500 (Fri, 21 Jan 2022).

HostnameOSArch (*)R versionInstalled pkgs
nebbiolo2Linux (Ubuntu 20.04.4 LTS)x86_644.1.2 (2021-11-01) -- "Bird Hippie" 4329
tokay2Windows Server 2012 R2 Standardx644.1.2 (2021-11-01) -- "Bird Hippie" 4079
machv2macOS 10.14.6 Mojavex86_644.1.2 (2021-11-01) -- "Bird Hippie" 4140
Click on any hostname to see more info about the system (e.g. compilers)      (*) as reported by 'uname -p', except on Windows and Mac OS X

CHECK results for ISAnalytics on machv2


To the developers/maintainers of the ISAnalytics package:
- Please allow up to 24 hours (and sometimes 48 hours) for your latest push to git@git.bioconductor.org:packages/ISAnalytics.git to
reflect on this report. See How and When does the builder pull? When will my changes propagate? here for more information.
- Make sure to use the following settings in order to reproduce any error or warning you see on this page.

raw results

Package 956/2083HostnameOS / ArchINSTALLBUILDCHECKBUILD BIN
ISAnalytics 1.4.3  (landing page)
Andrea Calabria
Snapshot Date: 2022-01-20 01:55:04 -0500 (Thu, 20 Jan 2022)
git_url: https://git.bioconductor.org/packages/ISAnalytics
git_branch: RELEASE_3_14
git_last_commit: 51c47b9
git_last_commit_date: 2022-01-13 08:23:28 -0500 (Thu, 13 Jan 2022)
nebbiolo2Linux (Ubuntu 20.04.4 LTS) / x86_64  OK    OK    OK  UNNEEDED, same version is already published
tokay2Windows Server 2012 R2 Standard / x64  OK    OK    OK    OK  UNNEEDED, same version is already published
machv2macOS 10.14.6 Mojave / x86_64  OK    OK    OK    OK  UNNEEDED, same version is already published

Summary

Package: ISAnalytics
Version: 1.4.3
Command: /Library/Frameworks/R.framework/Resources/bin/R CMD check --install=check:ISAnalytics.install-out.txt --library=/Library/Frameworks/R.framework/Resources/library --no-vignettes --timings ISAnalytics_1.4.3.tar.gz
StartedAt: 2022-01-20 14:15:24 -0500 (Thu, 20 Jan 2022)
EndedAt: 2022-01-20 14:20:03 -0500 (Thu, 20 Jan 2022)
EllapsedTime: 278.7 seconds
RetCode: 0
Status:   OK  
CheckDir: ISAnalytics.Rcheck
Warnings: 0

Command output

##############################################################################
##############################################################################
###
### Running command:
###
###   /Library/Frameworks/R.framework/Resources/bin/R CMD check --install=check:ISAnalytics.install-out.txt --library=/Library/Frameworks/R.framework/Resources/library --no-vignettes --timings ISAnalytics_1.4.3.tar.gz
###
##############################################################################
##############################################################################


* using log directory ‘/Users/biocbuild/bbs-3.14-bioc/meat/ISAnalytics.Rcheck’
* using R version 4.1.2 (2021-11-01)
* using platform: x86_64-apple-darwin17.0 (64-bit)
* using session charset: UTF-8
* using option ‘--no-vignettes’
* checking for file ‘ISAnalytics/DESCRIPTION’ ... OK
* this is package ‘ISAnalytics’ version ‘1.4.3’
* package encoding: UTF-8
* checking package namespace information ... OK
* checking package dependencies ... OK
* checking if this is a source package ... OK
* checking if there is a namespace ... OK
* checking for hidden files and directories ... OK
* checking for portable file names ... OK
* checking for sufficient/correct file permissions ... OK
* checking whether package ‘ISAnalytics’ can be installed ... OK
* checking installed package size ... OK
* checking package directory ... OK
* checking ‘build’ directory ... OK
* checking DESCRIPTION meta-information ... OK
* checking top-level files ... OK
* checking for left-over files ... OK
* checking index information ... OK
* checking package subdirectories ... OK
* checking R files for non-ASCII characters ... OK
* checking R files for syntax errors ... OK
* checking whether the package can be loaded ... OK
* checking whether the package can be loaded with stated dependencies ... OK
* checking whether the package can be unloaded cleanly ... OK
* checking whether the namespace can be loaded with stated dependencies ... OK
* checking whether the namespace can be unloaded cleanly ... OK
* checking dependencies in R code ... OK
* checking S3 generic/method consistency ... OK
* checking replacement functions ... OK
* checking foreign function calls ... OK
* checking R code for possible problems ... NOTE
.check_file_system_alignment: no visible binding for global variable
  ‘Found’
.clean_data: no visible binding for global variable ‘alluvia_id’
.count_group_union: no visible binding for global variable
  ‘..col_groups’
.count_group_union: no visible binding for global variable ‘group_id’
.find_in_common : <anonymous>: no visible binding for global variable
  ‘group_id’
.sh_obtain_lookup: no visible global function definition for ‘.’
.sh_row_permut: no visible binding for global variable ‘shared’
.sh_row_permut: no visible binding for global variable ‘is_coord’
.sh_row_permut: no visible global function definition for ‘.’
.sh_truth_tbl_venn : retrieve_is: no visible binding for global
  variable ‘group_id’
.sh_truth_tbl_venn: no visible binding for global variable ‘observed’
.sh_truth_tbl_venn: no visible binding for global variable ‘group_id’
.sharing_multdf_mult_key: no visible binding for global variable
  ‘shared’
.sharing_multdf_mult_key : <anonymous>: no visible binding for global
  variable ‘is’
.sharing_multdf_mult_key: no visible binding for global variable ‘.’
.sharing_multdf_single_key: no visible binding for global variable
  ‘shared’
.sharing_multdf_single_key : <anonymous>: no visible binding for global
  variable ‘is’
.sharing_multdf_single_key: no visible binding for global variable ‘.’
.sharing_singledf_mult_key: no visible binding for global variable
  ‘shared’
.sharing_singledf_mult_key: no visible binding for global variable ‘is’
.sharing_singledf_mult_key: no visible binding for global variable ‘.’
.sharing_singledf_single_key: no visible binding for global variable
  ‘is’
.sharing_singledf_single_key: no visible binding for global variable
  ‘shared’
.sharing_singledf_single_key : <anonymous>: no visible binding for
  global variable ‘shared’
.sharing_singledf_single_key : <anonymous>: no visible binding for
  global variable ‘is_coord’
.sharing_singledf_single_key : <anonymous>: no visible binding for
  global variable ‘group_id’
.sharing_singledf_single_key: no visible binding for global variable
  ‘.’
.sliding_window: no visible binding for global variable ‘..mand_vars’
.sliding_window: no visible binding for global variable ‘chr_before’
.sliding_window: no visible binding for global variable
  ‘integration_locus_before’
.sliding_window: no visible binding for global variable ‘strand_before’
.sliding_window: no visible binding for global variable ‘..num_cols’
compute_near_integrations: no visible binding for global variable
  ‘..mand_vars’
compute_near_integrations: no visible binding for global variable
  ‘chr_before’
compute_near_integrations: no visible binding for global variable
  ‘integration_locus_before’
compute_near_integrations: no visible binding for global variable
  ‘strand_before’
cumulative_is: no visible global function definition for ‘.’
cumulative_is : <anonymous>: no visible binding for global variable
  ‘is’
cumulative_is: no visible binding for global variable ‘is’
sharing_heatmap : plot_rel_heat: no visible binding for global variable
  ‘..fill..’
Undefined global functions or variables:
  . ..col_groups ..fill.. ..mand_vars ..num_cols Found alluvia_id
  chr_before group_id integration_locus_before is is_coord observed
  shared strand_before
Consider adding
  importFrom("methods", "is")
to your NAMESPACE file (and ensure that your DESCRIPTION Imports field
contains 'methods').
* checking Rd files ... OK
* checking Rd metadata ... OK
* checking Rd cross-references ... OK
* checking for missing documentation entries ... OK
* checking for code/documentation mismatches ... OK
* checking Rd \usage sections ... OK
* checking Rd contents ... OK
* checking for unstated dependencies in examples ... OK
* checking contents of ‘data’ directory ... OK
* checking data for non-ASCII characters ... OK
* checking data for ASCII and uncompressed saves ... OK
* checking files in ‘vignettes’ ... OK
* checking examples ... OK
Examples with CPU (user + system) or elapsed time > 5s
                            user system elapsed
sharing_venn              41.871  0.372  42.275
compute_near_integrations  5.053  4.375   2.629
integration_alluvial_plot  7.491  1.236   5.195
* checking for unstated dependencies in ‘tests’ ... OK
* checking tests ...
  Running ‘testthat.R’
 OK
* checking for unstated dependencies in vignettes ... OK
* checking package vignettes in ‘inst/doc’ ... OK
* checking running R code from vignettes ... SKIPPED
* checking re-building of vignette outputs ... SKIPPED
* checking PDF version of manual ... OK
* DONE

Status: 1 NOTE
See
  ‘/Users/biocbuild/bbs-3.14-bioc/meat/ISAnalytics.Rcheck/00check.log’
for details.



Installation output

ISAnalytics.Rcheck/00install.out

##############################################################################
##############################################################################
###
### Running command:
###
###   /Library/Frameworks/R.framework/Resources/bin/R CMD INSTALL ISAnalytics
###
##############################################################################
##############################################################################


* installing to library ‘/Library/Frameworks/R.framework/Versions/4.1/Resources/library’
* installing *source* package ‘ISAnalytics’ ...
** using staged installation
** R
** data
** inst
** byte-compile and prepare package for lazy loading
** help
*** installing help indices
*** copying figures
** building package indices
** installing vignettes
** testing if installed package can be loaded from temporary location
** testing if installed package can be loaded from final location
** testing if installed package keeps a record of temporary installation path
* DONE (ISAnalytics)

Tests output

ISAnalytics.Rcheck/tests/testthat.Rout


R version 4.1.2 (2021-11-01) -- "Bird Hippie"
Copyright (C) 2021 The R Foundation for Statistical Computing
Platform: x86_64-apple-darwin17.0 (64-bit)

R is free software and comes with ABSOLUTELY NO WARRANTY.
You are welcome to redistribute it under certain conditions.
Type 'license()' or 'licence()' for distribution details.

R is a collaborative project with many contributors.
Type 'contributors()' for more information and
'citation()' on how to cite R or R packages in publications.

Type 'demo()' for some demos, 'help()' for on-line help, or
'help.start()' for an HTML browser interface to help.
Type 'q()' to quit R.

> library(testthat)
> library(ISAnalytics)
Loading required package: magrittr

Attaching package: 'magrittr'

The following objects are masked from 'package:testthat':

    equals, is_less_than, not

> 
> test_check("ISAnalytics")
Duplicates found for some files: in automatic mode duplicates are not preserved - use interactive mode for more accurate file selection
Duplicates found for some files: in automatic mode duplicates are not preserved - use interactive mode for more accurate file selection
Warning: found NA concatenatePoolIDSeqRun field
i Check association file for possible issues
Duplicates found for some files
Some files are missing and will be ignored
Some files are missing and will be ignored
Some files are missing and will be ignored
Some files are missing and will be ignored
Some files are missing and will be ignored
Some files are missing and will be ignored
Some files are missing and will be ignored
Duplicates found for some files: in automatic mode duplicates are not preserved - use interactive mode for more accurate file selection
Duplicates found for some files: in automatic mode duplicates are not preserved - use interactive mode for more accurate file selection
Some files are missing and will be ignored
Duplicates found for some files: in automatic mode duplicates are not preserved - use interactive mode for more accurate file selection
Some files are missing and will be ignored
  adding: tmp/RtmpxmwVDX/filed9e3d38914b.tsv (deflated 43%)

  |                                                                            
  |                                                                      |   0%
  |                                                                            
  |======================================================================| 100%

Calculating number of IS for each group...

  |                                                                            
  |                                                                      |   0%
  |                                                                            
  |======================================================================| 100%


  |                                                                            
  |                                                                      |   0%
  |                                                                            
  |===================================                                   |  50%
  |                                                                            
  |======================================================================| 100%


  |                                                                            
  |                                                                      |   0%
  |                                                                            
  |===================================                                   |  50%
  |                                                                            
  |======================================================================| 100%

Calculating combinations...
Done!
Calculating combinations...
Done!
[ FAIL 0 | WARN 0 | SKIP 0 | PASS 772 ]
> 
> proc.time()
   user  system elapsed 
 87.126  13.981  90.627 

Example timings

ISAnalytics.Rcheck/ISAnalytics-Ex.timings

nameusersystemelapsed
CIS_grubbs3.0830.0633.151
CIS_volcano_plot3.1150.0453.166
HSC_population_plot2.0760.4661.748
HSC_population_size_estimate1.5980.4121.270
aggregate_metadata0.2150.0260.241
aggregate_values_by_key0.1280.0120.141
annotation_IS_vars0.0000.0000.001
annotation_issues0.0480.0030.052
as_sparse_matrix0.0530.0020.055
association_file_columns0.0020.0020.002
available_outlier_tests0.0010.0010.000
blood_lineages_default0.0470.0010.048
circos_genomic_density000
clinical_relevant_suspicious_genes0.0240.0010.024
comparison_matrix2.7651.1662.661
compute_abundance0.0640.0080.071
compute_near_integrations5.0534.3752.629
cumulative_count_union0.2470.0300.277
cumulative_is0.1190.0100.129
date_columns_coll000
date_formats000
default_iss_file_prefixes0.0010.0000.000
default_meta_agg0.0250.0000.026
default_report_path0.0030.0000.003
default_stats0.0010.0000.001
generate_Vispa2_launch_AF0.0370.0040.041
generate_blank_association_file0.0090.0010.010
import_Vispa2_stats0.7980.3250.837
import_association_file0.3170.0740.373
import_parallel_Vispa2Matrices2.3301.0071.989
import_single_Vispa2Matrix1.1931.4311.122
integration_alluvial_plot7.4911.2365.195
is_sharing2.1490.0382.189
iss_source2.0320.4362.573
known_clinical_oncogenes0.0180.0010.020
mandatory_IS_vars000
matching_options0.0000.0000.001
outlier_filter2.2040.6211.202
outliers_by_pool_fragments0.6320.2750.716
purity_filter0.8270.0250.853
quantification_types000
realign_after_collisions1.0640.4580.855
reduced_AF_columns0.0000.0010.001
refGene_table_cols0.0000.0000.001
remove_collisions0.8820.3860.902
sample_statistics2.7960.4712.953
separate_quant_matrices0.0360.0050.040
sharing_heatmap4.8180.1054.926
sharing_venn41.871 0.37242.275
threshold_filter0.1010.0020.103
top_abund_tableGrob0.7750.0060.782
top_integrations0.0380.0010.038
unzip_file_system0.0040.0150.020