![]() | Name | Last modified | Size | Description |
---|---|---|---|---|
![]() | Parent Directory | - | ||
![]() | install-out.txt | 14-Apr-2022 01:06 | 15K | |
![]() | install-summary.dcf | 14-Apr-2022 01:06 | 635 | |
![]() | buildsrc-out.txt | 14-Apr-2022 01:06 | 936 | |
![]() | buildsrc-summary.dcf | 14-Apr-2022 01:06 | 457 | |
![]() | checksrc-out.txt | 14-Apr-2022 01:06 | 5.1K | |
![]() | checksrc-summary.dcf | 14-Apr-2022 01:06 | 460 | |
![]() | buildbin-out.txt | 14-Apr-2022 01:06 | 14K | |
![]() | buildbin-summary.dcf | 14-Apr-2022 01:06 | 537 | |