Index of /checkResults/3.14/bioc-LATEST/IPO/raw-results/machv2

[ICO]NameLast modifiedSizeDescription

[DIR]Parent Directory  -  
[   ]install-summary.dcf14-Apr-2022 01:08 261  
[TXT]install-out.txt14-Apr-2022 01:08 968  
[   ]checksrc-summary.dcf14-Apr-2022 01:08 428  
[TXT]checksrc-out.txt14-Apr-2022 01:08 3.3K 
[   ]buildsrc-summary.dcf14-Apr-2022 01:08 417  
[TXT]buildsrc-out.txt14-Apr-2022 01:08 861  
[   ]buildbin-summary.dcf14-Apr-2022 01:08 506  
[TXT]buildbin-out.txt14-Apr-2022 01:08 1.1K