Back to Multiple platform build/check report for BioC 3.14
ABCDEFGH[I]JKLMNOPQRSTUVWXYZ

This page was generated on 2022-01-21 13:06:31 -0500 (Fri, 21 Jan 2022).

HostnameOSArch (*)R versionInstalled pkgs
nebbiolo2Linux (Ubuntu 20.04.4 LTS)x86_644.1.2 (2021-11-01) -- "Bird Hippie" 4329
tokay2Windows Server 2012 R2 Standardx644.1.2 (2021-11-01) -- "Bird Hippie" 4079
machv2macOS 10.14.6 Mojavex86_644.1.2 (2021-11-01) -- "Bird Hippie" 4140
Click on any hostname to see more info about the system (e.g. compilers)      (*) as reported by 'uname -p', except on Windows and Mac OS X

INSTALL results for IONiseR on tokay2


To the developers/maintainers of the IONiseR package:
- Please allow up to 24 hours (and sometimes 48 hours) for your latest push to git@git.bioconductor.org:packages/IONiseR.git to
reflect on this report. See How and When does the builder pull? When will my changes propagate? here for more information.
- Make sure to use the following settings in order to reproduce any error or warning you see on this page.

raw results

Package 949/2083HostnameOS / ArchINSTALLBUILDCHECKBUILD BIN
IONiseR 2.18.0  (landing page)
Mike Smith
Snapshot Date: 2022-01-20 01:55:04 -0500 (Thu, 20 Jan 2022)
git_url: https://git.bioconductor.org/packages/IONiseR
git_branch: RELEASE_3_14
git_last_commit: 9256877
git_last_commit_date: 2021-10-26 12:21:10 -0500 (Tue, 26 Oct 2021)
nebbiolo2Linux (Ubuntu 20.04.4 LTS) / x86_64  OK    OK    OK  UNNEEDED, same version is already published
tokay2Windows Server 2012 R2 Standard / x64  OK    OK    OK    OK  UNNEEDED, same version is already published
machv2macOS 10.14.6 Mojave / x86_64  OK    OK    OK    OK  UNNEEDED, same version is already published

Summary

Package: IONiseR
Version: 2.18.0
Command: C:\cygwin\bin\curl.exe -O http://155.52.207.166/BBS/3.14/bioc/src/contrib/IONiseR_2.18.0.tar.gz && rm -rf IONiseR.buildbin-libdir && mkdir IONiseR.buildbin-libdir && C:\Users\biocbuild\bbs-3.14-bioc\R\bin\R.exe CMD INSTALL --merge-multiarch --build --library=IONiseR.buildbin-libdir IONiseR_2.18.0.tar.gz && C:\Users\biocbuild\bbs-3.14-bioc\R\bin\R.exe CMD INSTALL IONiseR_2.18.0.zip && rm IONiseR_2.18.0.tar.gz IONiseR_2.18.0.zip
StartedAt: 2022-01-20 05:52:05 -0500 (Thu, 20 Jan 2022)
EndedAt: 2022-01-20 05:53:46 -0500 (Thu, 20 Jan 2022)
EllapsedTime: 101.8 seconds
RetCode: 0
Status:   OK  

Command output

##############################################################################
##############################################################################
###
### Running command:
###
###   C:\cygwin\bin\curl.exe -O http://155.52.207.166/BBS/3.14/bioc/src/contrib/IONiseR_2.18.0.tar.gz && rm -rf IONiseR.buildbin-libdir && mkdir IONiseR.buildbin-libdir && C:\Users\biocbuild\bbs-3.14-bioc\R\bin\R.exe CMD INSTALL --merge-multiarch --build --library=IONiseR.buildbin-libdir IONiseR_2.18.0.tar.gz && C:\Users\biocbuild\bbs-3.14-bioc\R\bin\R.exe CMD INSTALL IONiseR_2.18.0.zip && rm IONiseR_2.18.0.tar.gz IONiseR_2.18.0.zip
###
##############################################################################
##############################################################################


  % Total    % Received % Xferd  Average Speed   Time    Time     Time  Current
                                 Dload  Upload   Total   Spent    Left  Speed

  0     0    0     0    0     0      0      0 --:--:-- --:--:-- --:--:--     0
  4 1153k    4 48385    0     0   315k      0  0:00:03 --:--:--  0:00:03  315k
100 1153k  100 1153k    0     0  2822k      0 --:--:-- --:--:-- --:--:-- 2819k

install for i386

* installing *source* package 'IONiseR' ...
** using staged installation
** R
** inst
** byte-compile and prepare package for lazy loading
** help
*** installing help indices
  converting help for package 'IONiseR'
    finding HTML links ... done
    Fast5Summary-class                      html  
    IONiseR                                 html  
    baseCalled                              html  
    channelActivityPlot                     html  
    channelHeatmap                          html  
    eventData                               html  
    fast5toFastq                            html  
    fastq                                   html  
    fastq2D                                 html  
    fastqComplement                         html  
    fastqTemplate                           html  
    layoutPlot                              html  
    muxHeatmap                              html  
    plotActiveChannels                      html  
    plotBaseProductionRate                  html  
    plotCurrentByTime                       html  
    plotEventRate                           html  
    plotKmerFrequencyCorrelation            html  
    plotReadAccumulation                    html  
    plotReadCategoryCounts                  html  
    plotReadCategoryQuals                   html  
    plotReadTypeProduction                  html  
    readFast5Log                            html  
    readFast5Summary                        html  
    readInfo                                html  
** building package indices
** installing vignettes
** testing if installed package can be loaded from temporary location
** testing if installed package can be loaded from final location
** testing if installed package keeps a record of temporary installation path

install for x64

* installing *source* package 'IONiseR' ...
** testing if installed package can be loaded
* MD5 sums
packaged installation of 'IONiseR' as IONiseR_2.18.0.zip
* DONE (IONiseR)
* installing to library 'C:/Users/biocbuild/bbs-3.14-bioc/R/library'
package 'IONiseR' successfully unpacked and MD5 sums checked