Back to Multiple platform build/check report for BioC 3.14
ABCDEFGH[I]JKLMNOPQRSTUVWXYZ

This page was generated on 2021-11-26 15:04:54 -0500 (Fri, 26 Nov 2021).

CHECK results for IONiseR on nebbiolo2

To the developers/maintainers of the IONiseR package:
- Please allow up to 24 hours (and sometimes 48 hours) for your latest push to git@git.bioconductor.org:packages/IONiseR.git to
reflect on this report. See How and When does the builder pull? When will my changes propagate? here for more information.
- Make sure to use the following settings in order to reproduce any error or warning you see on this page.

raw results

Package 949/2083HostnameOS / ArchINSTALLBUILDCHECKBUILD BIN
IONiseR 2.18.0  (landing page)
Mike Smith
Snapshot Date: 2021-11-25 04:15:05 -0500 (Thu, 25 Nov 2021)
git_url: https://git.bioconductor.org/packages/IONiseR
git_branch: RELEASE_3_14
git_last_commit: 9256877
git_last_commit_date: 2021-10-26 12:21:10 -0500 (Tue, 26 Oct 2021)
nebbiolo2Linux (Ubuntu 20.04.3 LTS) / x86_64  OK    OK    OK  UNNEEDED, same version is already published
tokay2Windows Server 2012 R2 Standard / x64  OK    OK    OK    OK  UNNEEDED, same version is already published
machv2macOS 10.14.6 Mojave / x86_64  OK    OK    OK    OK  UNNEEDED, same version is already published

Summary

Package: IONiseR
Version: 2.18.0
Command: /home/biocbuild/bbs-3.14-bioc/R/bin/R CMD check --install=check:IONiseR.install-out.txt --library=/home/biocbuild/bbs-3.14-bioc/R/library --no-vignettes --timings IONiseR_2.18.0.tar.gz
StartedAt: 2021-11-25 09:52:41 -0500 (Thu, 25 Nov 2021)
EndedAt: 2021-11-25 09:56:17 -0500 (Thu, 25 Nov 2021)
EllapsedTime: 215.3 seconds
RetCode: 0
Status:   OK  
CheckDir: IONiseR.Rcheck
Warnings: 0

Command output

##############################################################################
##############################################################################
###
### Running command:
###
###   /home/biocbuild/bbs-3.14-bioc/R/bin/R CMD check --install=check:IONiseR.install-out.txt --library=/home/biocbuild/bbs-3.14-bioc/R/library --no-vignettes --timings IONiseR_2.18.0.tar.gz
###
##############################################################################
##############################################################################


* using log directory ‘/home/biocbuild/bbs-3.14-bioc/meat/IONiseR.Rcheck’
* using R version 4.1.2 (2021-11-01)
* using platform: x86_64-pc-linux-gnu (64-bit)
* using session charset: UTF-8
* using option ‘--no-vignettes’
* checking for file ‘IONiseR/DESCRIPTION’ ... OK
* this is package ‘IONiseR’ version ‘2.18.0’
* checking package namespace information ... OK
* checking package dependencies ... OK
* checking if this is a source package ... OK
* checking if there is a namespace ... OK
* checking for hidden files and directories ... NOTE
Found the following hidden files and directories:
  .travis.yml
These were most likely included in error. See section ‘Package
structure’ in the ‘Writing R Extensions’ manual.
* checking for portable file names ... OK
* checking for sufficient/correct file permissions ... OK
* checking whether package ‘IONiseR’ can be installed ... OK
* checking installed package size ... OK
* checking package directory ... OK
* checking ‘build’ directory ... OK
* checking DESCRIPTION meta-information ... OK
* checking top-level files ... OK
* checking for left-over files ... OK
* checking index information ... OK
* checking package subdirectories ... OK
* checking R files for non-ASCII characters ... OK
* checking R files for syntax errors ... OK
* checking whether the package can be loaded ... OK
* checking whether the package can be loaded with stated dependencies ... OK
* checking whether the package can be unloaded cleanly ... OK
* checking whether the namespace can be loaded with stated dependencies ... OK
* checking whether the namespace can be unloaded cleanly ... OK
* checking dependencies in R code ... OK
* checking S3 generic/method consistency ... OK
* checking replacement functions ... OK
* checking foreign function calls ... OK
* checking R code for possible problems ... NOTE
.fast5status : <anonymous>: no visible binding for global variable
  ‘group’
.fast5status : <anonymous>: no visible binding for global variable
  ‘name’
.get2D: no visible binding for global variable ‘full_2D’
.muxToXY: no visible binding for global variable ‘matrixCol’
.muxToXY: no visible binding for global variable ‘mux’
.muxToXY: no visible binding for global variable ‘oddEven’
.muxToXY: no visible global function definition for ‘:=’
.muxToXY: no visible binding for global variable ‘matrixRow’
.processFastq: no visible binding for global variable ‘readIDs’
.strandExistence: no visible binding for global variable ‘name’
.strandExistence: no visible binding for global variable ‘group’
channelActivityPlot: no visible binding for global variable ‘channel’
channelActivityPlot: no visible binding for global variable
  ‘start_time’
channelActivityPlot: no visible binding for global variable ‘duration’
channelActivityPlot: no visible binding for global variable ‘zvalue’
channelActivityPlot: no visible binding for global variable ‘time_bin’
channelActivityPlot: no visible binding for global variable
  ‘mean_value’
layoutPlot: no visible binding for global variable ‘channel’
layoutPlot: no visible binding for global variable ‘seq_length’
layoutPlot: no visible binding for global variable ‘median_signal’
layoutPlot: no visible global function definition for ‘error’
muxHeatmap: no visible binding for global variable ‘channel’
muxHeatmap: no visible binding for global variable ‘matrixRow’
muxHeatmap: no visible binding for global variable ‘matrixCol’
muxHeatmap: no visible binding for global variable ‘meanZValue’
muxHeatmap: no visible global function definition for ‘rbindlist’
muxHeatmap: no visible binding for global variable ‘circleFun’
muxHeatmap: no visible binding for global variable ‘x’
muxHeatmap: no visible binding for global variable ‘y’
plot2DYield: no visible binding for global variable ‘start_time’
plot2DYield: no visible binding for global variable ‘pass’
plot2DYield: no visible binding for global variable ‘nbases’
plot2DYield: no visible binding for global variable ‘time_group’
plot2DYield: no visible binding for global variable ‘hour’
plot2DYield: no visible binding for global variable ‘accumulation’
plotActiveChannels: no visible binding for global variable ‘start_time’
plotActiveChannels: no visible binding for global variable ‘duration’
plotActiveChannels: no visible binding for global variable ‘minute’
plotBaseProductionRate: no visible binding for global variable
  ‘start_time’
plotBaseProductionRate: no visible binding for global variable
  ‘bases_called’
plotBaseProductionRate: no visible binding for global variable
  ‘duration’
plotCurrentByTime: no visible binding for global variable ‘start_time’
plotCurrentByTime: no visible binding for global variable
  ‘median_signal’
plotEventRate: no visible binding for global variable ‘start_time’
plotEventRate: no visible binding for global variable ‘num_events’
plotEventRate: no visible binding for global variable ‘duration’
plotKmerFrequencyCorrelation: no visible binding for global variable
  ‘full_2D’
plotKmerFrequencyCorrelation: no visible binding for global variable
  ‘start_time’
plotKmerFrequencyCorrelation: no visible binding for global variable
  ‘AAAAA’
plotKmerFrequencyCorrelation: no visible binding for global variable
  ‘TTTTT’
plotKmerFrequencyCorrelation: no visible binding for global variable
  ‘time_group’
plotKmerFrequencyCorrelation: no visible binding for global variable
  ‘freq’
plotKmerFrequencyCorrelation: no visible binding for global variable
  ‘pentamer’
plotKmerFrequencyCorrelation: no visible binding for global variable
  ‘x’
plotKmerFrequencyCorrelation: no visible binding for global variable
  ‘y’
plotReadAccumulation: no visible binding for global variable
  ‘start_time’
plotReadAccumulation: no visible binding for global variable ‘minute’
plotReadAccumulation: no visible binding for global variable
  ‘new_reads’
plotReadAccumulation: no visible binding for global variable
  ‘accumulation’
plotReadCategoryCounts: no visible binding for global variable
  ‘full_2D’
plotReadCategoryCounts: no visible binding for global variable ‘pass’
plotReadCategoryCounts: no visible binding for global variable
  ‘category’
plotReadTypeProduction: no visible binding for global variable
  ‘start_time’
plotReadTypeProduction: no visible binding for global variable
  ‘time_group’
plotReadTypeProduction: no visible binding for global variable
  ‘full_2D’
plotReadTypeProduction: no visible binding for global variable ‘pass’
plotReadTypeProduction: no visible binding for global variable ‘hour’
readFast5Summary: no visible binding for global variable ‘start_time’
readFast5Summary: no visible binding for global variable ‘duration’
readFast5Summary: no visible binding for global variable ‘num_events’
readFast5Summary.mc: no visible binding for global variable
  ‘start_time’
readFast5Summary.mc: no visible binding for global variable ‘duration’
readFast5Summary.mc: no visible binding for global variable
  ‘num_events’
[,Fast5Summary-ANY-ANY-ANY: no visible binding for global variable
  ‘baseCalledTemplate’
[,Fast5Summary-ANY-ANY-ANY: no visible binding for global variable
  ‘baseCalledComplement’
[,Fast5Summary-ANY-ANY-ANY: no visible binding for global variable
  ‘component’
[,Fast5Summary-ANY-ANY-ANY: no visible binding for global variable
  ‘idx’
show,Fast5Summary: no visible binding for global variable ‘full_2D’
show,Fast5Summary: no visible binding for global variable ‘pass’
Undefined global functions or variables:
  := AAAAA TTTTT accumulation baseCalledComplement baseCalledTemplate
  bases_called category channel circleFun component duration error freq
  full_2D group hour idx matrixCol matrixRow meanZValue mean_value
  median_signal minute mux name nbases new_reads num_events oddEven
  pass pentamer rbindlist readIDs seq_length start_time time_bin
  time_group x y zvalue
* checking Rd files ... OK
* checking Rd metadata ... OK
* checking Rd cross-references ... OK
* checking for missing documentation entries ... OK
* checking for code/documentation mismatches ... OK
* checking Rd \usage sections ... OK
* checking Rd contents ... OK
* checking for unstated dependencies in examples ... OK
* checking files in ‘vignettes’ ... OK
* checking examples ... OK
Examples with CPU (user + system) or elapsed time > 5s
                              user system elapsed
plotKmerFrequencyCorrelation 7.477  0.532   8.009
* checking for unstated dependencies in ‘tests’ ... OK
* checking tests ...
  Running ‘testthat.R’
 OK
* checking for unstated dependencies in vignettes ... OK
* checking package vignettes in ‘inst/doc’ ... OK
* checking running R code from vignettes ... SKIPPED
* checking re-building of vignette outputs ... SKIPPED
* checking PDF version of manual ... OK
* DONE

Status: 2 NOTEs
See
  ‘/home/biocbuild/bbs-3.14-bioc/meat/IONiseR.Rcheck/00check.log’
for details.



Installation output

IONiseR.Rcheck/00install.out

##############################################################################
##############################################################################
###
### Running command:
###
###   /home/biocbuild/bbs-3.14-bioc/R/bin/R CMD INSTALL IONiseR
###
##############################################################################
##############################################################################


* installing to library ‘/home/biocbuild/bbs-3.14-bioc/R/library’
* installing *source* package ‘IONiseR’ ...
** using staged installation
** R
** inst
** byte-compile and prepare package for lazy loading
** help
*** installing help indices
** building package indices
** installing vignettes
** testing if installed package can be loaded from temporary location
** testing if installed package can be loaded from final location
** testing if installed package keeps a record of temporary installation path
* DONE (IONiseR)

Tests output

IONiseR.Rcheck/tests/testthat.Rout


R version 4.1.2 (2021-11-01) -- "Bird Hippie"
Copyright (C) 2021 The R Foundation for Statistical Computing
Platform: x86_64-pc-linux-gnu (64-bit)

R is free software and comes with ABSOLUTELY NO WARRANTY.
You are welcome to redistribute it under certain conditions.
Type 'license()' or 'licence()' for distribution details.

R is a collaborative project with many contributors.
Type 'contributors()' for more information and
'citation()' on how to cite R or R packages in publications.

Type 'demo()' for some demos, 'help()' for on-line help, or
'help.start()' for an HTML browser interface to help.
Type 'q()' to quit R.

> library(testthat)
> library(IONiseR)
> 
> test_check("IONiseR")
[ FAIL 0 | WARN 18 | SKIP 0 | PASS 24 ]
> 
> proc.time()
   user  system elapsed 
 15.279   0.719  15.989 

Example timings

IONiseR.Rcheck/IONiseR-Ex.timings

nameusersystemelapsed
Fast5Summary-class1.2620.0401.303
baseCalled1.2800.0761.355
channelActivityPlot1.6510.0321.684
channelHeatmap1.4500.1841.635
eventData1.2380.0481.287
fast5toFastq000
fastq0.510.020.53
fastq2D0.5490.0200.570
fastqComplement0.5220.0000.523
fastqTemplate0.5050.0120.516
layoutPlot0.6680.0200.688
plotActiveChannels0.6620.0040.667
plotBaseProductionRate0.6920.0240.715
plotCurrentByTime1.4470.0481.495
plotEventRate0.7140.0040.717
plotKmerFrequencyCorrelation7.4770.5328.009
plotReadAccumulation0.6010.0200.622
plotReadCategoryCounts0.6370.0320.669
plotReadCategoryQuals0.7920.0320.823
plotReadTypeProduction1.4640.0361.501
readFast5Log0.0080.0000.008
readFast5Summary0.0000.0010.000
readInfo0.5870.0150.603