Back to Multiple platform build/check report for BioC 3.14
ABCDEFGH[I]JKLMNOPQRSTUVWXYZ

This page was generated on 2021-12-06 13:05:01 -0500 (Mon, 06 Dec 2021).

BUILD results for IONiseR on nebbiolo2

To the developers/maintainers of the IONiseR package:
- Please allow up to 24 hours (and sometimes 48 hours) for your latest push to git@git.bioconductor.org:packages/IONiseR.git to
reflect on this report. See How and When does the builder pull? When will my changes propagate? here for more information.
- Make sure to use the following settings in order to reproduce any error or warning you see on this page.

raw results

Package 949/2083HostnameOS / ArchINSTALLBUILDCHECKBUILD BIN
IONiseR 2.18.0  (landing page)
Mike Smith
Snapshot Date: 2021-12-05 01:55:05 -0500 (Sun, 05 Dec 2021)
git_url: https://git.bioconductor.org/packages/IONiseR
git_branch: RELEASE_3_14
git_last_commit: 9256877
git_last_commit_date: 2021-10-26 12:21:10 -0500 (Tue, 26 Oct 2021)
nebbiolo2Linux (Ubuntu 20.04.3 LTS) / x86_64  OK    OK    OK  UNNEEDED, same version is already published
tokay2Windows Server 2012 R2 Standard / x64  OK    OK    OK    OK  UNNEEDED, same version is already published
machv2macOS 10.14.6 Mojave / x86_64  OK    OK    OK    OK  UNNEEDED, same version is already published

Summary

Package: IONiseR
Version: 2.18.0
Command: /home/biocbuild/bbs-3.14-bioc/R/bin/R CMD build --keep-empty-dirs --no-resave-data IONiseR
StartedAt: 2021-12-05 04:49:06 -0500 (Sun, 05 Dec 2021)
EndedAt: 2021-12-05 04:50:35 -0500 (Sun, 05 Dec 2021)
EllapsedTime: 88.9 seconds
RetCode: 0
Status:   OK  
PackageFile: IONiseR_2.18.0.tar.gz
PackageFileSize: 4.006 MiB

Command output

##############################################################################
##############################################################################
###
### Running command:
###
###   /home/biocbuild/bbs-3.14-bioc/R/bin/R CMD build --keep-empty-dirs --no-resave-data IONiseR
###
##############################################################################
##############################################################################


* checking for file ‘IONiseR/DESCRIPTION’ ... OK
* preparing ‘IONiseR’:
* checking DESCRIPTION meta-information ... OK
* installing the package to build vignettes
* creating vignettes ... OK
* checking for LF line-endings in source and make files and shell scripts
* checking for empty or unneeded directories
* building ‘IONiseR_2.18.0.tar.gz’