Back to Multiple platform build/check report for BioC 3.14
ABCDEFG[H]IJKLMNOPQRSTUVWXYZ

This page was generated on 2022-01-21 13:06:28 -0500 (Fri, 21 Jan 2022).

HostnameOSArch (*)R versionInstalled pkgs
nebbiolo2Linux (Ubuntu 20.04.4 LTS)x86_644.1.2 (2021-11-01) -- "Bird Hippie" 4329
tokay2Windows Server 2012 R2 Standardx644.1.2 (2021-11-01) -- "Bird Hippie" 4079
machv2macOS 10.14.6 Mojavex86_644.1.2 (2021-11-01) -- "Bird Hippie" 4140
Click on any hostname to see more info about the system (e.g. compilers)      (*) as reported by 'uname -p', except on Windows and Mac OS X

BUILD BIN results for HiCcompare on tokay2


To the developers/maintainers of the HiCcompare package:
- Please allow up to 24 hours (and sometimes 48 hours) for your latest push to git@git.bioconductor.org:packages/HiCcompare.git to
reflect on this report. See How and When does the builder pull? When will my changes propagate? here for more information.
- Make sure to use the following settings in order to reproduce any error or warning you see on this page.

raw results

Package 867/2083HostnameOS / ArchINSTALLBUILDCHECKBUILD BIN
HiCcompare 1.16.0  (landing page)
John Stansfield , Mikhail Dozmorov
Snapshot Date: 2022-01-20 01:55:04 -0500 (Thu, 20 Jan 2022)
git_url: https://git.bioconductor.org/packages/HiCcompare
git_branch: RELEASE_3_14
git_last_commit: dafc05f
git_last_commit_date: 2021-10-26 12:36:44 -0500 (Tue, 26 Oct 2021)
nebbiolo2Linux (Ubuntu 20.04.4 LTS) / x86_64  OK    OK    WARNINGS  UNNEEDED, same version is already published
tokay2Windows Server 2012 R2 Standard / x64  OK    OK    WARNINGS    OK  UNNEEDED, same version is already published
machv2macOS 10.14.6 Mojave / x86_64  OK    OK    WARNINGS    OK  UNNEEDED, same version is already published

Summary

Package: HiCcompare
Version: 1.16.0
Command: rm -rf HiCcompare.buildbin-libdir && mkdir HiCcompare.buildbin-libdir && C:\Users\biocbuild\bbs-3.14-bioc\R\bin\R.exe CMD INSTALL --merge-multiarch --build --library=HiCcompare.buildbin-libdir HiCcompare_1.16.0.tar.gz
StartedAt: 2022-01-21 06:21:56 -0500 (Fri, 21 Jan 2022)
EndedAt: 2022-01-21 06:22:52 -0500 (Fri, 21 Jan 2022)
EllapsedTime: 55.9 seconds
RetCode: 0
Status:   OK  
PackageFile: HiCcompare_1.16.0.zip
PackageFileSize: 5.66 MiB

Command output

##############################################################################
##############################################################################
###
### Running command:
###
###   rm -rf HiCcompare.buildbin-libdir && mkdir HiCcompare.buildbin-libdir && C:\Users\biocbuild\bbs-3.14-bioc\R\bin\R.exe CMD INSTALL --merge-multiarch --build --library=HiCcompare.buildbin-libdir HiCcompare_1.16.0.tar.gz
###
##############################################################################
##############################################################################



install for i386

* installing *source* package 'HiCcompare' ...
** using staged installation
** R
** data
*** moving datasets to lazyload DB
** inst
** byte-compile and prepare package for lazy loading
Note: wrong number of arguments to 'ceiling' 
** help
*** installing help indices
  converting help for package 'HiCcompare'
    finding HTML links ... done
    HMEC.chr10                              html  
    HMEC.chr22                              html  
    HiCcompare-package                      html  
    KRnorm                                  html  
    MA_norm                                 html  
    MD.plot1                                html  
    MD.plot2                                html  
    NHEK.chr10                              html  
    NHEK.chr22                              html  
    SCN                                     html  
    brain_table                             html  
    centromere_locations                    html  
    cooler                                  html  
    cooler2bedpe                            html  
    cooler2sparse                           html  
    create.hic.table                        html  
    filter_params                           html  
    full2sparse                             html  
    get_CNV                                 html  
    hg19_blacklist                          html  
    hg38_blacklist                          html  
    hic_compare                             html  
    hic_diff                                html  
    hic_loess                               html  
    hic_simulate                            html  
    hicpro2bedpe                            html  
    hmec.IS                                 html  
    make_InteractionSet                     html  
    manhattan_plot                          html  
    nhek.IS                                 html  
    remove_centromere                       html  
    sim.other.methods                       html  
    sim_matrix                              html  
    sparse2full                             html  
    split_centromere                        html  
    total_sum                               html  
    visualize_pvals                         html  
** building package indices
** installing vignettes
** testing if installed package can be loaded from temporary location
** testing if installed package can be loaded from final location
** testing if installed package keeps a record of temporary installation path

install for x64

* installing *source* package 'HiCcompare' ...
** testing if installed package can be loaded
* MD5 sums
packaged installation of 'HiCcompare' as HiCcompare_1.16.0.zip
* DONE (HiCcompare)