Back to Multiple platform build/check report for BioC 3.14
ABCDEFG[H]IJKLMNOPQRSTUVWXYZ

This page was generated on 2022-01-24 13:06:22 -0500 (Mon, 24 Jan 2022).

HostnameOSArch (*)R versionInstalled pkgs
nebbiolo2Linux (Ubuntu 20.04.4 LTS)x86_644.1.2 (2021-11-01) -- "Bird Hippie" 4329
tokay2Windows Server 2012 R2 Standardx644.1.2 (2021-11-01) -- "Bird Hippie" 4080
machv2macOS 10.14.6 Mojavex86_644.1.2 (2021-11-01) -- "Bird Hippie" 4141
Click on any hostname to see more info about the system (e.g. compilers)      (*) as reported by 'uname -p', except on Windows and Mac OS X

CHECK results for Harshlight on tokay2


To the developers/maintainers of the Harshlight package:
- Please allow up to 24 hours (and sometimes 48 hours) for your latest push to git@git.bioconductor.org:packages/Harshlight.git to
reflect on this report. See How and When does the builder pull? When will my changes propagate? here for more information.
- Make sure to use the following settings in order to reproduce any error or warning you see on this page.

raw results

Package 853/2083HostnameOS / ArchINSTALLBUILDCHECKBUILD BIN
Harshlight 1.66.0  (landing page)
Maurizio Pellegrino
Snapshot Date: 2022-01-23 01:55:04 -0500 (Sun, 23 Jan 2022)
git_url: https://git.bioconductor.org/packages/Harshlight
git_branch: RELEASE_3_14
git_last_commit: 6971886
git_last_commit_date: 2021-10-26 11:50:00 -0500 (Tue, 26 Oct 2021)
nebbiolo2Linux (Ubuntu 20.04.4 LTS) / x86_64  OK    OK    OK  UNNEEDED, same version is already published
tokay2Windows Server 2012 R2 Standard / x64  OK    OK    OK    OK  UNNEEDED, same version is already published
machv2macOS 10.14.6 Mojave / x86_64  OK    OK    OK    OK  UNNEEDED, same version is already published

Summary

Package: Harshlight
Version: 1.66.0
Command: C:\Users\biocbuild\bbs-3.14-bioc\R\bin\R.exe CMD check --force-multiarch --install=check:Harshlight.install-out.txt --library=C:\Users\biocbuild\bbs-3.14-bioc\R\library --no-vignettes --timings Harshlight_1.66.0.tar.gz
StartedAt: 2022-01-23 20:36:31 -0500 (Sun, 23 Jan 2022)
EndedAt: 2022-01-23 20:38:34 -0500 (Sun, 23 Jan 2022)
EllapsedTime: 123.0 seconds
RetCode: 0
Status:   OK  
CheckDir: Harshlight.Rcheck
Warnings: 0

Command output

##############################################################################
##############################################################################
###
### Running command:
###
###   C:\Users\biocbuild\bbs-3.14-bioc\R\bin\R.exe CMD check --force-multiarch --install=check:Harshlight.install-out.txt --library=C:\Users\biocbuild\bbs-3.14-bioc\R\library --no-vignettes --timings Harshlight_1.66.0.tar.gz
###
##############################################################################
##############################################################################


* using log directory 'C:/Users/biocbuild/bbs-3.14-bioc/meat/Harshlight.Rcheck'
* using R version 4.1.2 (2021-11-01)
* using platform: x86_64-w64-mingw32 (64-bit)
* using session charset: ISO8859-1
* using option '--no-vignettes'
* checking for file 'Harshlight/DESCRIPTION' ... OK
* this is package 'Harshlight' version '1.66.0'
* checking package namespace information ... OK
* checking package dependencies ... OK
* checking if this is a source package ... OK
* checking if there is a namespace ... OK
* checking for hidden files and directories ... OK
* checking for portable file names ... OK
* checking whether package 'Harshlight' can be installed ... OK
* checking installed package size ... OK
* checking package directory ... OK
* checking 'build' directory ... OK
* checking DESCRIPTION meta-information ... OK
* checking top-level files ... OK
* checking for left-over files ... OK
* checking index information ... OK
* checking package subdirectories ... OK
* checking R files for non-ASCII characters ... OK
* checking R files for syntax errors ... OK
* loading checks for arch 'i386'
** checking whether the package can be loaded ... OK
** checking whether the package can be loaded with stated dependencies ... OK
** checking whether the package can be unloaded cleanly ... OK
** checking whether the namespace can be loaded with stated dependencies ... OK
** checking whether the namespace can be unloaded cleanly ... OK
* loading checks for arch 'x64'
** checking whether the package can be loaded ... OK
** checking whether the package can be loaded with stated dependencies ... OK
** checking whether the package can be unloaded cleanly ... OK
** checking whether the namespace can be loaded with stated dependencies ... OK
** checking whether the namespace can be unloaded cleanly ... OK
* checking dependencies in R code ... OK
* checking S3 generic/method consistency ... OK
* checking replacement functions ... OK
* checking foreign function calls ... NOTE
Calls with DUP:
   .C("cluster_defects", img <- as.integer(img), array.size <- as.integer(array.size), 
       as.integer(size.limit), as.integer(connect), as.double(simul.pval), 
       as.double(compact.pval), as.integer(type), status <- as.integer(0), 
       DUP = FALSE, PACKAGE = "Harshlight")
   .C("diffuse_defects", img <- as.double(img), as.double(diffuse.bright), 
       as.double(-diffuse.dark), as.integer(radius), diff.bright <- as.double(diff.bright), 
       diff.dark <- as.double(diff.dark), as.double(quant), as.double(thres.dark), 
       as.double(thres.bright), status <- as.integer(0), DUP = FALSE, 
       NAOK = TRUE, PACKAGE = "Harshlight")
   .C("extended_defects", as.double(img), med.obs <- as.double(med.obs), 
       as.integer(radius), status <- as.integer(0), NAOK = TRUE, 
       DUP = FALSE, PACKAGE = "Harshlight")
   .C("image_dilation", as.double(img), result <- as.double(result), 
       as.integer(radius), status <- as.integer(0), DUP = FALSE, 
       PACKAGE = "Harshlight")
   .C("image_erosion", as.double(result), img <- as.double(img), 
       as.integer(radius), status <- as.integer(0), DUP = FALSE, 
       PACKAGE = "Harshlight")
   .C("simulations", simulation.bright <- as.integer(simulation.bright), 
       as.double(compact.quant.bright), as.integer(compact.connect), 
       status <- as.integer(0), DUP = FALSE, PACKAGE = "Harshlight")
   .C("simulations", simulation.dark <- as.integer(simulation.dark), 
       as.double(compact.quant.dark), as.integer(compact.connect), 
       status <- as.integer(0), DUP = FALSE, PACKAGE = "Harshlight")
DUP is no longer supported and will be ignored.
* checking R code for possible problems ... NOTE
Harshlight: no visible binding for global variable 'sim'
Harshlight: no visible binding for global variable 'sim.int'
Undefined global functions or variables:
  sim sim.int
* checking Rd files ... OK
* checking Rd metadata ... OK
* checking Rd cross-references ... OK
* checking for missing documentation entries ... OK
* checking for code/documentation mismatches ... OK
* checking Rd \usage sections ... OK
* checking Rd contents ... OK
* checking for unstated dependencies in examples ... OK
* checking contents of 'data' directory ... OK
* checking data for non-ASCII characters ... OK
* checking data for ASCII and uncompressed saves ... OK
* checking line endings in C/C++/Fortran sources/headers ... OK
* checking compiled code ... NOTE
Note: information on .o files for i386 is not available
Note: information on .o files for x64 is not available
File 'C:/Users/biocbuild/bbs-3.14-bioc/R/library/Harshlight/libs/i386/Harshlight.dll':
  Found 'abort', possibly from 'abort' (C), 'runtime' (Fortran)
  Found 'rand', possibly from 'rand' (C)
  Found 'srand', possibly from 'srand' (C)
File 'C:/Users/biocbuild/bbs-3.14-bioc/R/library/Harshlight/libs/x64/Harshlight.dll':
  Found 'abort', possibly from 'abort' (C), 'runtime' (Fortran)
  Found 'rand', possibly from 'rand' (C)
  Found 'srand', possibly from 'srand' (C)

Compiled code should not call entry points which might terminate R nor
write to stdout/stderr instead of to the console, nor use Fortran I/O
nor system RNGs. The detected symbols are linked into the code but
might come from libraries and not actually be called.

See 'Writing portable packages' in the 'Writing R Extensions' manual.
* checking files in 'vignettes' ... OK
* checking examples ...
** running examples for arch 'i386' ... OK
** running examples for arch 'x64' ... OK
* checking for unstated dependencies in vignettes ... OK
* checking package vignettes in 'inst/doc' ... OK
* checking running R code from vignettes ... SKIPPED
* checking re-building of vignette outputs ... SKIPPED
* checking PDF version of manual ... OK
* DONE

Status: 3 NOTEs
See
  'C:/Users/biocbuild/bbs-3.14-bioc/meat/Harshlight.Rcheck/00check.log'
for details.



Installation output

Harshlight.Rcheck/00install.out

##############################################################################
##############################################################################
###
### Running command:
###
###   C:\cygwin\bin\curl.exe -O http://155.52.207.166/BBS/3.14/bioc/src/contrib/Harshlight_1.66.0.tar.gz && rm -rf Harshlight.buildbin-libdir && mkdir Harshlight.buildbin-libdir && C:\Users\biocbuild\bbs-3.14-bioc\R\bin\R.exe CMD INSTALL --merge-multiarch --build --library=Harshlight.buildbin-libdir Harshlight_1.66.0.tar.gz && C:\Users\biocbuild\bbs-3.14-bioc\R\bin\R.exe CMD INSTALL Harshlight_1.66.0.zip && rm Harshlight_1.66.0.tar.gz Harshlight_1.66.0.zip
###
##############################################################################
##############################################################################


  % Total    % Received % Xferd  Average Speed   Time    Time     Time  Current
                                 Dload  Upload   Total   Spent    Left  Speed

  0     0    0     0    0     0      0      0 --:--:-- --:--:-- --:--:--     0
100  102k  100  102k    0     0   550k      0 --:--:-- --:--:-- --:--:--  553k

install for i386

* installing *source* package 'Harshlight' ...
** using staged installation
** libs
"C:/rtools40/mingw32/bin/"gcc  -I"C:/Users/BIOCBU~1/BBS-3~1.14-/R/include" -DNDEBUG     -I"C:/extsoft/include"     -O2 -Wall  -std=gnu99 -mfpmath=sse -msse2 -mstackrealign  -c Harshlight.c -o Harshlight.o
Harshlight.c: In function 'extended_defects':
Harshlight.c:564:20: warning: variable 'p_num_points' set but not used [-Wunused-but-set-variable]
   int num_points, *p_num_points; //number of points inside the median kernel
                    ^~~~~~~~~~~~
Harshlight.c: In function 'image_dilation':
Harshlight.c:948:10: warning: variable 'cell_value' set but not used [-Wunused-but-set-variable]
   double cell_value;
          ^~~~~~~~~~
Harshlight.c: In function 'norm':
Harshlight.c:1316:27: warning: unused variable 'sorted2' [-Wunused-variable]
   double *sorted; double *sorted2;
                           ^~~~~~~
Harshlight.c: In function 'report_overall_header':
Harshlight.c:1471:26: warning: unknown conversion type character ')' in format [-Wformat=]
   PP "%d %d moveto (%.2f%) show\n", x_text_val, y_text - 215, *diff_br);
                          ^
Harshlight.c:1471:26: warning: unknown conversion type character ')' in format [-Wformat=]
Harshlight.c:1474:26: warning: unknown conversion type character ')' in format [-Wformat=]
   PP "%d %d moveto (%.2f%) show\n", x_text_val, y_text - 230, *diff_dr);
                          ^
Harshlight.c:1474:26: warning: unknown conversion type character ')' in format [-Wformat=]
Harshlight.c: In function 'chip_summary':
Harshlight.c:1532:107: warning: unknown conversion type character ')' in format [-Wformat=]
   PP "%d %d moveto (Extended defects: the variance of the Error Image explained by the background is %.2f%) show\n", x_text, y_text - 30, *var);
                                                                                                           ^
Harshlight.c:1532:107: warning: unknown conversion type character ')' in format [-Wformat=]
Harshlight.c:1542:26: warning: unknown conversion type character ')' in format [-Wformat=]
   PP "%d %d moveto (%.2f%) show\n", x_val_1, y_text - 100, *perc_c);
                          ^
Harshlight.c:1542:26: warning: unknown conversion type character ')' in format [-Wformat=]
Harshlight.c:1543:26: warning: unknown conversion type character ')' in format [-Wformat=]
   PP "%d %d moveto (%.2f%) show\n", x_val_2, y_text - 100, *perc_d);
                          ^
Harshlight.c:1543:26: warning: unknown conversion type character ')' in format [-Wformat=]
Harshlight.c: In function 'extended_stop':
Harshlight.c:1555:107: warning: unknown conversion type character ')' in format [-Wformat=]
   PP "%d %d moveto (Extended defects: the variance of the Error Image explained by the background is %.2f%) show\n", x_text, y_text - 30, *var);
                                                                                                           ^
Harshlight.c:1555:107: warning: unknown conversion type character ')' in format [-Wformat=]
C:/rtools40/mingw32/bin/gcc -shared -s -static-libgcc -o Harshlight.dll tmp.def Harshlight.o -LC:/extsoft/lib/i386 -LC:/extsoft/lib -LC:/Users/BIOCBU~1/BBS-3~1.14-/R/bin/i386 -lR
installing to C:/Users/biocbuild/bbs-3.14-bioc/meat/Harshlight.buildbin-libdir/00LOCK-Harshlight/00new/Harshlight/libs/i386
** R
** data
** byte-compile and prepare package for lazy loading
** help
*** installing help indices
  converting help for package 'Harshlight'
    finding HTML links ... done
    HarshComp                               html  
    HarshExt                                html  
    Harshlight                              html  
    sim                                     html  
** building package indices
** installing vignettes
** testing if installed package can be loaded from temporary location
** testing if installed package can be loaded from final location
** testing if installed package keeps a record of temporary installation path

install for x64

* installing *source* package 'Harshlight' ...
** libs
"C:/rtools40/mingw64/bin/"gcc  -I"C:/Users/BIOCBU~1/BBS-3~1.14-/R/include" -DNDEBUG     -I"C:/extsoft/include"     -O2 -Wall  -std=gnu99 -mfpmath=sse -msse2 -mstackrealign  -c Harshlight.c -o Harshlight.o
Harshlight.c: In function 'extended_defects':
Harshlight.c:564:20: warning: variable 'p_num_points' set but not used [-Wunused-but-set-variable]
   int num_points, *p_num_points; //number of points inside the median kernel
                    ^~~~~~~~~~~~
Harshlight.c: In function 'image_dilation':
Harshlight.c:948:10: warning: variable 'cell_value' set but not used [-Wunused-but-set-variable]
   double cell_value;
          ^~~~~~~~~~
Harshlight.c: In function 'norm':
Harshlight.c:1316:27: warning: unused variable 'sorted2' [-Wunused-variable]
   double *sorted; double *sorted2;
                           ^~~~~~~
Harshlight.c: In function 'report_overall_header':
Harshlight.c:1471:26: warning: unknown conversion type character ')' in format [-Wformat=]
   PP "%d %d moveto (%.2f%) show\n", x_text_val, y_text - 215, *diff_br);
                          ^
Harshlight.c:1471:26: warning: unknown conversion type character ')' in format [-Wformat=]
Harshlight.c:1474:26: warning: unknown conversion type character ')' in format [-Wformat=]
   PP "%d %d moveto (%.2f%) show\n", x_text_val, y_text - 230, *diff_dr);
                          ^
Harshlight.c:1474:26: warning: unknown conversion type character ')' in format [-Wformat=]
Harshlight.c: In function 'chip_summary':
Harshlight.c:1532:107: warning: unknown conversion type character ')' in format [-Wformat=]
   PP "%d %d moveto (Extended defects: the variance of the Error Image explained by the background is %.2f%) show\n", x_text, y_text - 30, *var);
                                                                                                           ^
Harshlight.c:1532:107: warning: unknown conversion type character ')' in format [-Wformat=]
Harshlight.c:1542:26: warning: unknown conversion type character ')' in format [-Wformat=]
   PP "%d %d moveto (%.2f%) show\n", x_val_1, y_text - 100, *perc_c);
                          ^
Harshlight.c:1542:26: warning: unknown conversion type character ')' in format [-Wformat=]
Harshlight.c:1543:26: warning: unknown conversion type character ')' in format [-Wformat=]
   PP "%d %d moveto (%.2f%) show\n", x_val_2, y_text - 100, *perc_d);
                          ^
Harshlight.c:1543:26: warning: unknown conversion type character ')' in format [-Wformat=]
Harshlight.c: In function 'extended_stop':
Harshlight.c:1555:107: warning: unknown conversion type character ')' in format [-Wformat=]
   PP "%d %d moveto (Extended defects: the variance of the Error Image explained by the background is %.2f%) show\n", x_text, y_text - 30, *var);
                                                                                                           ^
Harshlight.c:1555:107: warning: unknown conversion type character ')' in format [-Wformat=]
C:/rtools40/mingw64/bin/gcc -shared -s -static-libgcc -o Harshlight.dll tmp.def Harshlight.o -LC:/extsoft/lib/x64 -LC:/extsoft/lib -LC:/Users/BIOCBU~1/BBS-3~1.14-/R/bin/x64 -lR
installing to C:/Users/biocbuild/bbs-3.14-bioc/meat/Harshlight.buildbin-libdir/Harshlight/libs/x64
** testing if installed package can be loaded
* MD5 sums
packaged installation of 'Harshlight' as Harshlight_1.66.0.zip
* DONE (Harshlight)
* installing to library 'C:/Users/biocbuild/bbs-3.14-bioc/R/library'
package 'Harshlight' successfully unpacked and MD5 sums checked

Tests output


Example timings

Harshlight.Rcheck/examples_i386/Harshlight-Ex.timings

nameusersystemelapsed
Harshlight000

Harshlight.Rcheck/examples_x64/Harshlight-Ex.timings

nameusersystemelapsed
Harshlight000