Back to Multiple platform build/check report for BioC 3.14
ABCDEFG[H]IJKLMNOPQRSTUVWXYZ

This page was generated on 2022-01-14 13:06:31 -0500 (Fri, 14 Jan 2022).

HostnameOSArch (*)R versionInstalled pkgs
nebbiolo2Linux (Ubuntu 20.04.4 LTS)x86_644.1.2 (2021-11-01) -- "Bird Hippie" 4327
tokay2Windows Server 2012 R2 Standardx644.1.2 (2021-11-01) -- "Bird Hippie" 4076
machv2macOS 10.14.6 Mojavex86_644.1.2 (2021-11-01) -- "Bird Hippie" 4137
Click on any hostname to see more info about the system (e.g. compilers)      (*) as reported by 'uname -p', except on Windows and Mac OS X

BUILD BIN results for Harshlight on tokay2


To the developers/maintainers of the Harshlight package:
- Please allow up to 24 hours (and sometimes 48 hours) for your latest push to git@git.bioconductor.org:packages/Harshlight.git to
reflect on this report. See How and When does the builder pull? When will my changes propagate? here for more information.
- Make sure to use the following settings in order to reproduce any error or warning you see on this page.

raw results

Package 853/2083HostnameOS / ArchINSTALLBUILDCHECKBUILD BIN
Harshlight 1.66.0  (landing page)
Maurizio Pellegrino
Snapshot Date: 2022-01-13 01:55:04 -0500 (Thu, 13 Jan 2022)
git_url: https://git.bioconductor.org/packages/Harshlight
git_branch: RELEASE_3_14
git_last_commit: 6971886
git_last_commit_date: 2021-10-26 11:50:00 -0500 (Tue, 26 Oct 2021)
nebbiolo2Linux (Ubuntu 20.04.4 LTS) / x86_64  OK    OK    OK  UNNEEDED, same version is already published
tokay2Windows Server 2012 R2 Standard / x64  OK    OK    OK    OK  UNNEEDED, same version is already published
machv2macOS 10.14.6 Mojave / x86_64  OK    OK    OK    OK  UNNEEDED, same version is already published

Summary

Package: Harshlight
Version: 1.66.0
Command: rm -rf Harshlight.buildbin-libdir && mkdir Harshlight.buildbin-libdir && C:\Users\biocbuild\bbs-3.14-bioc\R\bin\R.exe CMD INSTALL --merge-multiarch --build --library=Harshlight.buildbin-libdir Harshlight_1.66.0.tar.gz
StartedAt: 2022-01-14 05:51:48 -0500 (Fri, 14 Jan 2022)
EndedAt: 2022-01-14 05:52:18 -0500 (Fri, 14 Jan 2022)
EllapsedTime: 30.7 seconds
RetCode: 0
Status:   OK  
PackageFile: Harshlight_1.66.0.zip
PackageFileSize: 254.7 KiB

Command output

##############################################################################
##############################################################################
###
### Running command:
###
###   rm -rf Harshlight.buildbin-libdir && mkdir Harshlight.buildbin-libdir && C:\Users\biocbuild\bbs-3.14-bioc\R\bin\R.exe CMD INSTALL --merge-multiarch --build --library=Harshlight.buildbin-libdir Harshlight_1.66.0.tar.gz
###
##############################################################################
##############################################################################



install for i386

* installing *source* package 'Harshlight' ...
** using staged installation
** libs
"C:/rtools40/mingw32/bin/"gcc  -I"C:/Users/BIOCBU~1/BBS-3~1.14-/R/include" -DNDEBUG     -I"C:/extsoft/include"     -O2 -Wall  -std=gnu99 -mfpmath=sse -msse2 -mstackrealign  -c Harshlight.c -o Harshlight.o
Harshlight.c: In function 'extended_defects':
Harshlight.c:564:20: warning: variable 'p_num_points' set but not used [-Wunused-but-set-variable]
   int num_points, *p_num_points; //number of points inside the median kernel
                    ^~~~~~~~~~~~
Harshlight.c: In function 'image_dilation':
Harshlight.c:948:10: warning: variable 'cell_value' set but not used [-Wunused-but-set-variable]
   double cell_value;
          ^~~~~~~~~~
Harshlight.c: In function 'norm':
Harshlight.c:1316:27: warning: unused variable 'sorted2' [-Wunused-variable]
   double *sorted; double *sorted2;
                           ^~~~~~~
Harshlight.c: In function 'report_overall_header':
Harshlight.c:1471:26: warning: unknown conversion type character ')' in format [-Wformat=]
   PP "%d %d moveto (%.2f%) show\n", x_text_val, y_text - 215, *diff_br);
                          ^
Harshlight.c:1471:26: warning: unknown conversion type character ')' in format [-Wformat=]
Harshlight.c:1474:26: warning: unknown conversion type character ')' in format [-Wformat=]
   PP "%d %d moveto (%.2f%) show\n", x_text_val, y_text - 230, *diff_dr);
                          ^
Harshlight.c:1474:26: warning: unknown conversion type character ')' in format [-Wformat=]
Harshlight.c: In function 'chip_summary':
Harshlight.c:1532:107: warning: unknown conversion type character ')' in format [-Wformat=]
   PP "%d %d moveto (Extended defects: the variance of the Error Image explained by the background is %.2f%) show\n", x_text, y_text - 30, *var);
                                                                                                           ^
Harshlight.c:1532:107: warning: unknown conversion type character ')' in format [-Wformat=]
Harshlight.c:1542:26: warning: unknown conversion type character ')' in format [-Wformat=]
   PP "%d %d moveto (%.2f%) show\n", x_val_1, y_text - 100, *perc_c);
                          ^
Harshlight.c:1542:26: warning: unknown conversion type character ')' in format [-Wformat=]
Harshlight.c:1543:26: warning: unknown conversion type character ')' in format [-Wformat=]
   PP "%d %d moveto (%.2f%) show\n", x_val_2, y_text - 100, *perc_d);
                          ^
Harshlight.c:1543:26: warning: unknown conversion type character ')' in format [-Wformat=]
Harshlight.c: In function 'extended_stop':
Harshlight.c:1555:107: warning: unknown conversion type character ')' in format [-Wformat=]
   PP "%d %d moveto (Extended defects: the variance of the Error Image explained by the background is %.2f%) show\n", x_text, y_text - 30, *var);
                                                                                                           ^
Harshlight.c:1555:107: warning: unknown conversion type character ')' in format [-Wformat=]
C:/rtools40/mingw32/bin/gcc -shared -s -static-libgcc -o Harshlight.dll tmp.def Harshlight.o -LC:/extsoft/lib/i386 -LC:/extsoft/lib -LC:/Users/BIOCBU~1/BBS-3~1.14-/R/bin/i386 -lR
installing to C:/Users/biocbuild/bbs-3.14-bioc/meat/Harshlight.buildbin-libdir/00LOCK-Harshlight/00new/Harshlight/libs/i386
** R
** data
** inst
** byte-compile and prepare package for lazy loading
** help
*** installing help indices
  converting help for package 'Harshlight'
    finding HTML links ... done
    HarshComp                               html  
    HarshExt                                html  
    Harshlight                              html  
    sim                                     html  
** building package indices
** installing vignettes
** testing if installed package can be loaded from temporary location
** testing if installed package can be loaded from final location
** testing if installed package keeps a record of temporary installation path

install for x64

* installing *source* package 'Harshlight' ...
** libs
"C:/rtools40/mingw64/bin/"gcc  -I"C:/Users/BIOCBU~1/BBS-3~1.14-/R/include" -DNDEBUG     -I"C:/extsoft/include"     -O2 -Wall  -std=gnu99 -mfpmath=sse -msse2 -mstackrealign  -c Harshlight.c -o Harshlight.o
Harshlight.c: In function 'extended_defects':
Harshlight.c:564:20: warning: variable 'p_num_points' set but not used [-Wunused-but-set-variable]
   int num_points, *p_num_points; //number of points inside the median kernel
                    ^~~~~~~~~~~~
Harshlight.c: In function 'image_dilation':
Harshlight.c:948:10: warning: variable 'cell_value' set but not used [-Wunused-but-set-variable]
   double cell_value;
          ^~~~~~~~~~
Harshlight.c: In function 'norm':
Harshlight.c:1316:27: warning: unused variable 'sorted2' [-Wunused-variable]
   double *sorted; double *sorted2;
                           ^~~~~~~
Harshlight.c: In function 'report_overall_header':
Harshlight.c:1471:26: warning: unknown conversion type character ')' in format [-Wformat=]
   PP "%d %d moveto (%.2f%) show\n", x_text_val, y_text - 215, *diff_br);
                          ^
Harshlight.c:1471:26: warning: unknown conversion type character ')' in format [-Wformat=]
Harshlight.c:1474:26: warning: unknown conversion type character ')' in format [-Wformat=]
   PP "%d %d moveto (%.2f%) show\n", x_text_val, y_text - 230, *diff_dr);
                          ^
Harshlight.c:1474:26: warning: unknown conversion type character ')' in format [-Wformat=]
Harshlight.c: In function 'chip_summary':
Harshlight.c:1532:107: warning: unknown conversion type character ')' in format [-Wformat=]
   PP "%d %d moveto (Extended defects: the variance of the Error Image explained by the background is %.2f%) show\n", x_text, y_text - 30, *var);
                                                                                                           ^
Harshlight.c:1532:107: warning: unknown conversion type character ')' in format [-Wformat=]
Harshlight.c:1542:26: warning: unknown conversion type character ')' in format [-Wformat=]
   PP "%d %d moveto (%.2f%) show\n", x_val_1, y_text - 100, *perc_c);
                          ^
Harshlight.c:1542:26: warning: unknown conversion type character ')' in format [-Wformat=]
Harshlight.c:1543:26: warning: unknown conversion type character ')' in format [-Wformat=]
   PP "%d %d moveto (%.2f%) show\n", x_val_2, y_text - 100, *perc_d);
                          ^
Harshlight.c:1543:26: warning: unknown conversion type character ')' in format [-Wformat=]
Harshlight.c: In function 'extended_stop':
Harshlight.c:1555:107: warning: unknown conversion type character ')' in format [-Wformat=]
   PP "%d %d moveto (Extended defects: the variance of the Error Image explained by the background is %.2f%) show\n", x_text, y_text - 30, *var);
                                                                                                           ^
Harshlight.c:1555:107: warning: unknown conversion type character ')' in format [-Wformat=]
C:/rtools40/mingw64/bin/gcc -shared -s -static-libgcc -o Harshlight.dll tmp.def Harshlight.o -LC:/extsoft/lib/x64 -LC:/extsoft/lib -LC:/Users/BIOCBU~1/BBS-3~1.14-/R/bin/x64 -lR
installing to C:/Users/biocbuild/bbs-3.14-bioc/meat/Harshlight.buildbin-libdir/Harshlight/libs/x64
** testing if installed package can be loaded
* MD5 sums
packaged installation of 'Harshlight' as Harshlight_1.66.0.zip
* DONE (Harshlight)