![]() | Name | Last modified | Size | Description |
---|---|---|---|---|
![]() | Parent Directory | - | ||
![]() | install-out.txt | 14-Apr-2022 01:05 | 3.7K | |
![]() | install-summary.dcf | 14-Apr-2022 01:05 | 265 | |
![]() | buildsrc-out.txt | 14-Apr-2022 01:05 | 911 | |
![]() | buildsrc-summary.dcf | 14-Apr-2022 01:05 | 426 | |
![]() | checksrc-out.txt | 14-Apr-2022 01:05 | 5.6K | |
![]() | checksrc-summary.dcf | 14-Apr-2022 01:05 | 435 | |