Back to Multiple platform build/check report for BioC 3.14
ABCDEFG[H]IJKLMNOPQRSTUVWXYZ

This page was generated on 2021-12-06 13:05:00 -0500 (Mon, 06 Dec 2021).

INSTALL results for Harshlight on nebbiolo2

To the developers/maintainers of the Harshlight package:
- Please allow up to 24 hours (and sometimes 48 hours) for your latest push to git@git.bioconductor.org:packages/Harshlight.git to
reflect on this report. See How and When does the builder pull? When will my changes propagate? here for more information.
- Make sure to use the following settings in order to reproduce any error or warning you see on this page.

raw results

Package 853/2083HostnameOS / ArchINSTALLBUILDCHECKBUILD BIN
Harshlight 1.66.0  (landing page)
Maurizio Pellegrino
Snapshot Date: 2021-12-05 01:55:05 -0500 (Sun, 05 Dec 2021)
git_url: https://git.bioconductor.org/packages/Harshlight
git_branch: RELEASE_3_14
git_last_commit: 6971886
git_last_commit_date: 2021-10-26 11:50:00 -0500 (Tue, 26 Oct 2021)
nebbiolo2Linux (Ubuntu 20.04.3 LTS) / x86_64  OK    OK    OK  UNNEEDED, same version is already published
tokay2Windows Server 2012 R2 Standard / x64  OK    OK    OK    OK  UNNEEDED, same version is already published
machv2macOS 10.14.6 Mojave / x86_64  OK    OK    OK    OK  UNNEEDED, same version is already published

Summary

Package: Harshlight
Version: 1.66.0
Command: /home/biocbuild/bbs-3.14-bioc/R/bin/R CMD INSTALL Harshlight
StartedAt: 2021-12-05 03:19:44 -0500 (Sun, 05 Dec 2021)
EndedAt: 2021-12-05 03:19:57 -0500 (Sun, 05 Dec 2021)
EllapsedTime: 12.7 seconds
RetCode: 0
Status:   OK  

Command output

##############################################################################
##############################################################################
###
### Running command:
###
###   /home/biocbuild/bbs-3.14-bioc/R/bin/R CMD INSTALL Harshlight
###
##############################################################################
##############################################################################


* installing to library ‘/home/biocbuild/bbs-3.14-bioc/R/library’
* installing *source* package ‘Harshlight’ ...
** using staged installation
** libs
gcc -I"/home/biocbuild/bbs-3.14-bioc/R/include" -DNDEBUG   -I/usr/local/include   -fpic  -g -O2  -Wall -c Harshlight.c -o Harshlight.o
Harshlight.c: In function ‘extended_defects’:
Harshlight.c:564:20: warning: variable ‘p_num_points’ set but not used [-Wunused-but-set-variable]
  564 |   int num_points, *p_num_points; //number of points inside the median kernel
      |                    ^~~~~~~~~~~~
Harshlight.c: In function ‘image_dilation’:
Harshlight.c:948:10: warning: variable ‘cell_value’ set but not used [-Wunused-but-set-variable]
  948 |   double cell_value;
      |          ^~~~~~~~~~
Harshlight.c: In function ‘norm’:
Harshlight.c:1316:27: warning: unused variable ‘sorted2’ [-Wunused-variable]
 1316 |   double *sorted; double *sorted2;
      |                           ^~~~~~~
Harshlight.c: In function ‘report_overall_header’:
Harshlight.c:1471:26: warning: unknown conversion type character ‘)’ in format [-Wformat=]
 1471 |   PP "%d %d moveto (%.2f%) show\n", x_text_val, y_text - 215, *diff_br);
      |                          ^
Harshlight.c:1474:26: warning: unknown conversion type character ‘)’ in format [-Wformat=]
 1474 |   PP "%d %d moveto (%.2f%) show\n", x_text_val, y_text - 230, *diff_dr);
      |                          ^
Harshlight.c: In function ‘chip_summary’:
Harshlight.c:1532:107: warning: unknown conversion type character ‘)’ in format [-Wformat=]
 1532 |   PP "%d %d moveto (Extended defects: the variance of the Error Image explained by the background is %.2f%) show\n", x_text, y_text - 30, *var);
      |                                                                                                           ^
Harshlight.c:1542:26: warning: unknown conversion type character ‘)’ in format [-Wformat=]
 1542 |   PP "%d %d moveto (%.2f%) show\n", x_val_1, y_text - 100, *perc_c);
      |                          ^
Harshlight.c:1543:26: warning: unknown conversion type character ‘)’ in format [-Wformat=]
 1543 |   PP "%d %d moveto (%.2f%) show\n", x_val_2, y_text - 100, *perc_d);
      |                          ^
Harshlight.c: In function ‘extended_stop’:
Harshlight.c:1555:107: warning: unknown conversion type character ‘)’ in format [-Wformat=]
 1555 |   PP "%d %d moveto (Extended defects: the variance of the Error Image explained by the background is %.2f%) show\n", x_text, y_text - 30, *var);
      |                                                                                                           ^
gcc -shared -L/home/biocbuild/bbs-3.14-bioc/R/lib -L/usr/local/lib -o Harshlight.so Harshlight.o -L/home/biocbuild/bbs-3.14-bioc/R/lib -lR
installing to /home/biocbuild/bbs-3.14-bioc/R/library/00LOCK-Harshlight/00new/Harshlight/libs
** R
** data
** byte-compile and prepare package for lazy loading
** help
*** installing help indices
** building package indices
** installing vignettes
** testing if installed package can be loaded from temporary location
** checking absolute paths in shared objects and dynamic libraries
** testing if installed package can be loaded from final location
** testing if installed package keeps a record of temporary installation path
* DONE (Harshlight)