Back to Multiple platform build/check report for BioC 3.14
ABCDEFG[H]IJKLMNOPQRSTUVWXYZ

This page was generated on 2021-11-26 15:04:28 -0500 (Fri, 26 Nov 2021).

All results for package HTSeqGenie

To the developers/maintainers of the HTSeqGenie package:
- Please allow up to 24 hours (and sometimes 48 hours) for your latest push to git@git.bioconductor.org:packages/HTSeqGenie.git to
reflect on this report. See How and When does the builder pull? When will my changes propagate? here for more information.
- Make sure to use the following settings in order to reproduce any error or warning you see on this page.

raw results

Package 888/2083HostnameOS / ArchINSTALLBUILDCHECKBUILD BIN
HTSeqGenie 4.24.0  (landing page)
Jens Reeder
Snapshot Date: 2021-11-25 04:15:05 -0500 (Thu, 25 Nov 2021)
git_url: https://git.bioconductor.org/packages/HTSeqGenie
git_branch: RELEASE_3_14
git_last_commit: eb291fb
git_last_commit_date: 2021-10-26 12:05:03 -0500 (Tue, 26 Oct 2021)
nebbiolo2Linux (Ubuntu 20.04.3 LTS) / x86_64  OK    OK    OK  UNNEEDED, same version is already published
tokay2Windows Server 2012 R2 Standard / x64... NOT SUPPORTED ...
machv2macOS 10.14.6 Mojave / x86_64... NOT SUPPORTED ...