Back to Multiple platform build/check report for BioC 3.14
ABCDEF[G]HIJKLMNOPQRSTUVWXYZ

This page was generated on 2022-01-14 13:06:31 -0500 (Fri, 14 Jan 2022).

HostnameOSArch (*)R versionInstalled pkgs
nebbiolo2Linux (Ubuntu 20.04.4 LTS)x86_644.1.2 (2021-11-01) -- "Bird Hippie" 4327
tokay2Windows Server 2012 R2 Standardx644.1.2 (2021-11-01) -- "Bird Hippie" 4076
machv2macOS 10.14.6 Mojavex86_644.1.2 (2021-11-01) -- "Bird Hippie" 4137
Click on any hostname to see more info about the system (e.g. compilers)      (*) as reported by 'uname -p', except on Windows and Mac OS X

BUILD BIN results for Gviz on tokay2


To the developers/maintainers of the Gviz package:
- Please allow up to 24 hours (and sometimes 48 hours) for your latest push to git@git.bioconductor.org:packages/Gviz.git to
reflect on this report. See How and When does the builder pull? When will my changes propagate? here for more information.
- Make sure to use the following settings in order to reproduce any error or warning you see on this page.

raw results

Package 844/2083HostnameOS / ArchINSTALLBUILDCHECKBUILD BIN
Gviz 1.38.1  (landing page)
Robert Ivanek
Snapshot Date: 2022-01-13 01:55:04 -0500 (Thu, 13 Jan 2022)
git_url: https://git.bioconductor.org/packages/Gviz
git_branch: RELEASE_3_14
git_last_commit: 02662c4
git_last_commit_date: 2022-01-05 15:56:33 -0500 (Wed, 05 Jan 2022)
nebbiolo2Linux (Ubuntu 20.04.4 LTS) / x86_64  OK    OK    OK  UNNEEDED, same version is already published
tokay2Windows Server 2012 R2 Standard / x64  OK    OK    ERROR    OK  
machv2macOS 10.14.6 Mojave / x86_64  OK    OK    OK    OK  UNNEEDED, same version is already published

Summary

Package: Gviz
Version: 1.38.1
Command: rm -rf Gviz.buildbin-libdir && mkdir Gviz.buildbin-libdir && C:\Users\biocbuild\bbs-3.14-bioc\R\bin\R.exe CMD INSTALL --merge-multiarch --build --library=Gviz.buildbin-libdir Gviz_1.38.1.tar.gz
StartedAt: 2022-01-14 05:51:26 -0500 (Fri, 14 Jan 2022)
EndedAt: 2022-01-14 05:53:39 -0500 (Fri, 14 Jan 2022)
EllapsedTime: 133.7 seconds
RetCode: 0
Status:   OK  
PackageFile: Gviz_1.38.1.zip
PackageFileSize: 6.617 MiB

Command output

##############################################################################
##############################################################################
###
### Running command:
###
###   rm -rf Gviz.buildbin-libdir && mkdir Gviz.buildbin-libdir && C:\Users\biocbuild\bbs-3.14-bioc\R\bin\R.exe CMD INSTALL --merge-multiarch --build --library=Gviz.buildbin-libdir Gviz_1.38.1.tar.gz
###
##############################################################################
##############################################################################



install for i386

* installing *source* package 'Gviz' ...
** using staged installation
** R
** data
** inst
** byte-compile and prepare package for lazy loading
** help
*** installing help indices
  converting help for package 'Gviz'
    finding HTML links ... done
    AlignmentsTrack-class                   html  
    finding level-2 HTML links ... done

    AnnotationTrack-class                   html  
    BiomartGeneRegionTrack-class            html  
    CustomTrack-class                       html  
    DataTrack-class                         html  
    DisplayPars-class                       html  
REDIRECT:topic	 Previous alias or file overwritten by alias: C:/Users/biocbuild/bbs-3.14-bioc/meat/Gviz.buildbin-libdir/00LOCK-Gviz/00new/Gviz/help/displayPars.html
    GdObject-class                          html  
    GeneRegionTrack-class                   html  
    GenomeAxisTrack-class                   html  
    Gviz-defunct                            html  
    Gviz-deprecated                         html  
    HighlightTrack-class                    html  
    IdeogramTrack-class                     html  
    ImageMap-class                          html  
    NumericTrack-class                      html  
    OverlayTrack-class                      html  
    RangeTrack-class                        html  
    ReferenceTrack-class                    html  
    SequenceTrack-class                     html  
    StackedTrack-class                      html  
    UcscTrack                               html  
    collapsing                              html  
    datasets                                html  
    exportTracks                            html  
    grouping                                html  
    plotTracks                              html  
    settings                                html  
** building package indices
** installing vignettes
** testing if installed package can be loaded from temporary location
** testing if installed package can be loaded from final location
** testing if installed package keeps a record of temporary installation path

install for x64

* installing *source* package 'Gviz' ...
** testing if installed package can be loaded
* MD5 sums
packaged installation of 'Gviz' as Gviz_1.38.1.zip
* DONE (Gviz)