Back to Multiple platform build/check report for BioC 3.14
ABCDEF[G]HIJKLMNOPQRSTUVWXYZ

This page was generated on 2022-01-26 13:06:42 -0500 (Wed, 26 Jan 2022).

HostnameOSArch (*)R versionInstalled pkgs
nebbiolo2Linux (Ubuntu 20.04.4 LTS)x86_644.1.2 (2021-11-01) -- "Bird Hippie" 4329
tokay2Windows Server 2012 R2 Standardx644.1.2 (2021-11-01) -- "Bird Hippie" 4080
machv2macOS 10.14.6 Mojavex86_644.1.2 (2021-11-01) -- "Bird Hippie" 4141
Click on any hostname to see more info about the system (e.g. compilers)      (*) as reported by 'uname -p', except on Windows and Mac OS X

INSTALL results for Guitar on tokay2


To the developers/maintainers of the Guitar package:
- Please allow up to 24 hours (and sometimes 48 hours) for your latest push to git@git.bioconductor.org:packages/Guitar.git to
reflect on this report. See How and When does the builder pull? When will my changes propagate? here for more information.
- Make sure to use the following settings in order to reproduce any error or warning you see on this page.

raw results

Package 843/2083HostnameOS / ArchINSTALLBUILDCHECKBUILD BIN
Guitar 2.10.0  (landing page)
Jia Meng
Snapshot Date: 2022-01-25 01:55:07 -0500 (Tue, 25 Jan 2022)
git_url: https://git.bioconductor.org/packages/Guitar
git_branch: RELEASE_3_14
git_last_commit: cbc4814
git_last_commit_date: 2021-10-26 12:22:48 -0500 (Tue, 26 Oct 2021)
nebbiolo2Linux (Ubuntu 20.04.4 LTS) / x86_64  OK    OK    OK  UNNEEDED, same version is already published
tokay2Windows Server 2012 R2 Standard / x64  OK    OK    OK    OK  UNNEEDED, same version is already published
machv2macOS 10.14.6 Mojave / x86_64  OK    OK    OK    OK  UNNEEDED, same version is already published

Summary

Package: Guitar
Version: 2.10.0
Command: C:\cygwin\bin\curl.exe -O http://155.52.207.166/BBS/3.14/bioc/src/contrib/Guitar_2.10.0.tar.gz && rm -rf Guitar.buildbin-libdir && mkdir Guitar.buildbin-libdir && C:\Users\biocbuild\bbs-3.14-bioc\R\bin\R.exe CMD INSTALL --merge-multiarch --build --library=Guitar.buildbin-libdir Guitar_2.10.0.tar.gz && C:\Users\biocbuild\bbs-3.14-bioc\R\bin\R.exe CMD INSTALL Guitar_2.10.0.zip && rm Guitar_2.10.0.tar.gz Guitar_2.10.0.zip
StartedAt: 2022-01-25 06:12:17 -0500 (Tue, 25 Jan 2022)
EndedAt: 2022-01-25 06:13:46 -0500 (Tue, 25 Jan 2022)
EllapsedTime: 88.8 seconds
RetCode: 0
Status:   OK  

Command output

##############################################################################
##############################################################################
###
### Running command:
###
###   C:\cygwin\bin\curl.exe -O http://155.52.207.166/BBS/3.14/bioc/src/contrib/Guitar_2.10.0.tar.gz && rm -rf Guitar.buildbin-libdir && mkdir Guitar.buildbin-libdir && C:\Users\biocbuild\bbs-3.14-bioc\R\bin\R.exe CMD INSTALL --merge-multiarch --build --library=Guitar.buildbin-libdir Guitar_2.10.0.tar.gz && C:\Users\biocbuild\bbs-3.14-bioc\R\bin\R.exe CMD INSTALL Guitar_2.10.0.zip && rm Guitar_2.10.0.tar.gz Guitar_2.10.0.zip
###
##############################################################################
##############################################################################


  % Total    % Received % Xferd  Average Speed   Time    Time     Time  Current
                                 Dload  Upload   Total   Spent    Left  Speed

  0     0    0     0    0     0      0      0 --:--:-- --:--:-- --:--:--     0
 17 3622k   17  632k    0     0  1176k      0  0:00:03 --:--:--  0:00:03 1175k
 76 3622k   76 2774k    0     0  1767k      0  0:00:02  0:00:01  0:00:01 1767k
100 3622k  100 3622k    0     0  1946k      0  0:00:01  0:00:01 --:--:-- 1947k

install for i386

* installing *source* package 'Guitar' ...
** using staged installation
** R
** inst
** byte-compile and prepare package for lazy loading
** help
*** installing help indices
  converting help for package 'Guitar'
    finding HTML links ... done
    GRangesListmapToTranscripts             html  
    GuitarPlot                              html  
    makeGuitarTxdb                          html  
    normalize                               html  
    samplePoints                            html  
** building package indices
** installing vignettes
** testing if installed package can be loaded from temporary location
** testing if installed package can be loaded from final location
** testing if installed package keeps a record of temporary installation path

install for x64

* installing *source* package 'Guitar' ...
** testing if installed package can be loaded
* MD5 sums
packaged installation of 'Guitar' as Guitar_2.10.0.zip
* DONE (Guitar)
* installing to library 'C:/Users/biocbuild/bbs-3.14-bioc/R/library'
package 'Guitar' successfully unpacked and MD5 sums checked