![]() | Name | Last modified | Size | Description |
---|---|---|---|---|
![]() | Parent Directory | - | ||
![]() | install-summary.dcf | 14-Apr-2022 01:08 | 279 | |
![]() | buildsrc-summary.dcf | 14-Apr-2022 01:08 | 443 | |
![]() | checksrc-summary.dcf | 14-Apr-2022 01:08 | 464 | |
![]() | buildbin-summary.dcf | 14-Apr-2022 01:08 | 560 | |
![]() | buildsrc-out.txt | 14-Apr-2022 01:08 | 929 | |
![]() | install-out.txt | 14-Apr-2022 01:08 | 2.0K | |
![]() | buildbin-out.txt | 14-Apr-2022 01:08 | 2.9K | |
![]() | checksrc-out.txt | 14-Apr-2022 01:08 | 11K | |