Back to Multiple platform build/check report for BioC 3.14
ABCDEF[G]HIJKLMNOPQRSTUVWXYZ

This page was generated on 2021-12-06 13:05:58 -0500 (Mon, 06 Dec 2021).

BUILD BIN results for GenomicSuperSignature on machv2

To the developers/maintainers of the GenomicSuperSignature package:
- Please allow up to 24 hours (and sometimes 48 hours) for your latest push to git@git.bioconductor.org:packages/GenomicSuperSignature.git to
reflect on this report. See How and When does the builder pull? When will my changes propagate? here for more information.
- Make sure to use the following settings in order to reproduce any error or warning you see on this page.

raw results

Package 758/2083HostnameOS / ArchINSTALLBUILDCHECKBUILD BIN
GenomicSuperSignature 1.2.0  (landing page)
Sehyun Oh
Snapshot Date: 2021-12-05 01:55:05 -0500 (Sun, 05 Dec 2021)
git_url: https://git.bioconductor.org/packages/GenomicSuperSignature
git_branch: RELEASE_3_14
git_last_commit: 5405e48
git_last_commit_date: 2021-10-26 13:10:30 -0500 (Tue, 26 Oct 2021)
nebbiolo2Linux (Ubuntu 20.04.3 LTS) / x86_64  OK    OK    OK  UNNEEDED, same version is already published
tokay2Windows Server 2012 R2 Standard / x64  OK    OK    OK    OK  UNNEEDED, same version is already published
machv2macOS 10.14.6 Mojave / x86_64  OK    OK    OK    OK  UNNEEDED, same version is already published

Summary

Package: GenomicSuperSignature
Version: 1.2.0
Command: rm -rf GenomicSuperSignature.buildbin-libdir && mkdir GenomicSuperSignature.buildbin-libdir && /Users/biocbuild/BBS/utils/build-universal.sh GenomicSuperSignature_1.2.0.tar.gz /Library/Frameworks/R.framework/Resources/bin/R GenomicSuperSignature.buildbin-libdir
StartedAt: 2021-12-05 22:19:45 -0500 (Sun, 05 Dec 2021)
EndedAt: 2021-12-05 22:20:54 -0500 (Sun, 05 Dec 2021)
EllapsedTime: 69.1 seconds
RetCode: 0
Status:   OK  
PackageFile: GenomicSuperSignature_1.2.0.tgz
PackageFileSize: 6.7 MiB

Command output

##############################################################################
##############################################################################
###
### Running command:
###
###   rm -rf GenomicSuperSignature.buildbin-libdir && mkdir GenomicSuperSignature.buildbin-libdir && /Users/biocbuild/BBS/utils/build-universal.sh GenomicSuperSignature_1.2.0.tar.gz /Library/Frameworks/R.framework/Resources/bin/R GenomicSuperSignature.buildbin-libdir
###
##############################################################################
##############################################################################


>>>>>>> 
>>>>>>> INSTALLATION WITH 'R CMD INSTALL --preclean --no-multiarch --library=GenomicSuperSignature.buildbin-libdir GenomicSuperSignature_1.2.0.tar.gz'
>>>>>>> 

* installing *source* package ‘GenomicSuperSignature’ ...
** using staged installation
** R
** data
*** moving datasets to lazyload DB
** inst
** byte-compile and prepare package for lazy loading
** help
*** installing help indices
** building package indices
** installing vignettes
** testing if installed package can be loaded from temporary location
** testing if installed package can be loaded from final location
** testing if installed package keeps a record of temporary installation path
* DONE (GenomicSuperSignature)