Back to Multiple platform build/check report for BioC 3.14
ABCDEF[G]HIJKLMNOPQRSTUVWXYZ

This page was generated on 2022-01-21 13:05:11 -0500 (Fri, 21 Jan 2022).

HostnameOSArch (*)R versionInstalled pkgs
nebbiolo2Linux (Ubuntu 20.04.4 LTS)x86_644.1.2 (2021-11-01) -- "Bird Hippie" 4329
tokay2Windows Server 2012 R2 Standardx644.1.2 (2021-11-01) -- "Bird Hippie" 4079
machv2macOS 10.14.6 Mojavex86_644.1.2 (2021-11-01) -- "Bird Hippie" 4140
Click on any hostname to see more info about the system (e.g. compilers)      (*) as reported by 'uname -p', except on Windows and Mac OS X

BUILD results for GenomicFeatures on nebbiolo2


To the developers/maintainers of the GenomicFeatures package:
- Please allow up to 24 hours (and sometimes 48 hours) for your latest push to git@git.bioconductor.org:packages/GenomicFeatures.git to
reflect on this report. See How and When does the builder pull? When will my changes propagate? here for more information.
- Make sure to use the following settings in order to reproduce any error or warning you see on this page.

raw results

Package 751/2083HostnameOS / ArchINSTALLBUILDCHECKBUILD BIN
GenomicFeatures 1.46.4  (landing page)
Bioconductor Package Maintainer
Snapshot Date: 2022-01-20 01:55:04 -0500 (Thu, 20 Jan 2022)
git_url: https://git.bioconductor.org/packages/GenomicFeatures
git_branch: RELEASE_3_14
git_last_commit: d3ab6fd
git_last_commit_date: 2022-01-19 12:03:06 -0500 (Wed, 19 Jan 2022)
nebbiolo2Linux (Ubuntu 20.04.4 LTS) / x86_64  OK    OK    WARNINGS  YES
tokay2Windows Server 2012 R2 Standard / x64  OK    OK    WARNINGS    OK  YES
machv2macOS 10.14.6 Mojave / x86_64  OK    OK    WARNINGS    OK  YES

Summary

Package: GenomicFeatures
Version: 1.46.4
Command: /home/biocbuild/bbs-3.14-bioc/R/bin/R CMD build --keep-empty-dirs --no-resave-data GenomicFeatures
StartedAt: 2022-01-20 04:25:12 -0500 (Thu, 20 Jan 2022)
EndedAt: 2022-01-20 04:26:30 -0500 (Thu, 20 Jan 2022)
EllapsedTime: 77.5 seconds
RetCode: 0
Status:   OK  
PackageFile: GenomicFeatures_1.46.4.tar.gz
PackageFileSize: 1.312 MiB

Command output

##############################################################################
##############################################################################
###
### Running command:
###
###   /home/biocbuild/bbs-3.14-bioc/R/bin/R CMD build --keep-empty-dirs --no-resave-data GenomicFeatures
###
##############################################################################
##############################################################################


* checking for file ‘GenomicFeatures/DESCRIPTION’ ... OK
* preparing ‘GenomicFeatures’:
* checking DESCRIPTION meta-information ... OK
* installing the package to build vignettes
* creating vignettes ... OK
* checking for LF line-endings in source and make files and shell scripts
* checking for empty or unneeded directories
* building ‘GenomicFeatures_1.46.4.tar.gz’