Back to Multiple platform build/check report for BioC 3.14
ABCDEF[G]HIJKLMNOPQRSTUVWXYZ

This page was generated on 2021-09-18 12:06:39 -0400 (Sat, 18 Sep 2021).

BUILD BIN results for GeneStructureTools on merida1

To the developers/maintainers of the GeneStructureTools package:
- Please allow up to 24 hours (and sometimes 48 hours) for your latest push to git@git.bioconductor.org:packages/GeneStructureTools.git to
reflect on this report. See How and When does the builder pull? When will my changes propagate? here for more information.
- Make sure to use the following settings in order to reproduce any error or warning you see on this page.

raw results

Package 719/2029HostnameOS / ArchINSTALLBUILDCHECKBUILD BIN
GeneStructureTools 1.13.0  (landing page)
Beth Signal
Snapshot Date: 2021-09-17 14:50:09 -0400 (Fri, 17 Sep 2021)
git_url: https://git.bioconductor.org/packages/GeneStructureTools
git_branch: master
git_last_commit: b6fe688
git_last_commit_date: 2021-05-19 12:33:53 -0400 (Wed, 19 May 2021)
nebbiolo2Linux (Ubuntu 20.04.2 LTS) / x86_64  OK    OK    OK  UNNEEDED, same version is already published
riesling1Windows Server 2019 Standard / x64  OK    OK    OK    OK  UNNEEDED, same version is already published
merida1macOS 10.14.6 Mojave / x86_64  OK    OK    OK    OK  UNNEEDED, same version is already published

Summary

Package: GeneStructureTools
Version: 1.13.0
Command: rm -rf GeneStructureTools.buildbin-libdir && mkdir GeneStructureTools.buildbin-libdir && /Users/biocbuild/BBS/utils/build-universal.sh GeneStructureTools_1.13.0.tar.gz /Library/Frameworks/R.framework/Resources/bin/R GeneStructureTools.buildbin-libdir
StartedAt: 2021-09-18 10:31:29 -0400 (Sat, 18 Sep 2021)
EndedAt: 2021-09-18 10:32:22 -0400 (Sat, 18 Sep 2021)
EllapsedTime: 52.6 seconds
RetCode: 0
Status:   OK  
PackageFile: GeneStructureTools_1.13.0.tgz
PackageFileSize: 1.978 MiB

Command output

##############################################################################
##############################################################################
###
### Running command:
###
###   rm -rf GeneStructureTools.buildbin-libdir && mkdir GeneStructureTools.buildbin-libdir && /Users/biocbuild/BBS/utils/build-universal.sh GeneStructureTools_1.13.0.tar.gz /Library/Frameworks/R.framework/Resources/bin/R GeneStructureTools.buildbin-libdir
###
##############################################################################
##############################################################################


>>>>>>> 
>>>>>>> INSTALLATION WITH 'R CMD INSTALL --preclean --no-multiarch --library=GeneStructureTools.buildbin-libdir GeneStructureTools_1.13.0.tar.gz'
>>>>>>> 

* installing *source* package ‘GeneStructureTools’ ...
** using staged installation
** R
** inst
** byte-compile and prepare package for lazy loading
** help
*** installing help indices
** building package indices
** installing vignettes
** testing if installed package can be loaded from temporary location
** testing if installed package can be loaded from final location
** testing if installed package keeps a record of temporary installation path
* DONE (GeneStructureTools)