Back to Multiple platform build/check report for BioC 3.14
ABCDEF[G]HIJKLMNOPQRSTUVWXYZ

This page was generated on 2022-01-17 13:06:20 -0500 (Mon, 17 Jan 2022).

HostnameOSArch (*)R versionInstalled pkgs
nebbiolo2Linux (Ubuntu 20.04.4 LTS)x86_644.1.2 (2021-11-01) -- "Bird Hippie" 4328
tokay2Windows Server 2012 R2 Standardx644.1.2 (2021-11-01) -- "Bird Hippie" 4077
machv2macOS 10.14.6 Mojavex86_644.1.2 (2021-11-01) -- "Bird Hippie" 4138
Click on any hostname to see more info about the system (e.g. compilers)      (*) as reported by 'uname -p', except on Windows and Mac OS X

CHECK results for GenVisR on tokay2


To the developers/maintainers of the GenVisR package:
- Please allow up to 24 hours (and sometimes 48 hours) for your latest push to git@git.bioconductor.org:packages/GenVisR.git to
reflect on this report. See How and When does the builder pull? When will my changes propagate? here for more information.
- Make sure to use the following settings in order to reproduce any error or warning you see on this page.

raw results

Package 762/2083HostnameOS / ArchINSTALLBUILDCHECKBUILD BIN
GenVisR 1.26.0  (landing page)
Zachary Skidmore
Snapshot Date: 2022-01-16 01:55:05 -0500 (Sun, 16 Jan 2022)
git_url: https://git.bioconductor.org/packages/GenVisR
git_branch: RELEASE_3_14
git_last_commit: 9bd43fb
git_last_commit_date: 2021-10-26 12:24:58 -0500 (Tue, 26 Oct 2021)
nebbiolo2Linux (Ubuntu 20.04.4 LTS) / x86_64  OK    OK    ERROR  
tokay2Windows Server 2012 R2 Standard / x64  OK    OK    ERROR    OK  
machv2macOS 10.14.6 Mojave / x86_64  OK    OK    ERROR    OK  

Summary

Package: GenVisR
Version: 1.26.0
Command: C:\Users\biocbuild\bbs-3.14-bioc\R\bin\R.exe CMD check --force-multiarch --install=check:GenVisR.install-out.txt --library=C:\Users\biocbuild\bbs-3.14-bioc\R\library --no-vignettes --timings GenVisR_1.26.0.tar.gz
StartedAt: 2022-01-16 21:26:27 -0500 (Sun, 16 Jan 2022)
EndedAt: 2022-01-16 21:47:16 -0500 (Sun, 16 Jan 2022)
EllapsedTime: 1248.5 seconds
RetCode: 1
Status:   ERROR  
CheckDir: GenVisR.Rcheck
Warnings: NA

Command output

##############################################################################
##############################################################################
###
### Running command:
###
###   C:\Users\biocbuild\bbs-3.14-bioc\R\bin\R.exe CMD check --force-multiarch --install=check:GenVisR.install-out.txt --library=C:\Users\biocbuild\bbs-3.14-bioc\R\library --no-vignettes --timings GenVisR_1.26.0.tar.gz
###
##############################################################################
##############################################################################


* using log directory 'C:/Users/biocbuild/bbs-3.14-bioc/meat/GenVisR.Rcheck'
* using R version 4.1.2 (2021-11-01)
* using platform: x86_64-w64-mingw32 (64-bit)
* using session charset: ISO8859-1
* using option '--no-vignettes'
* checking for file 'GenVisR/DESCRIPTION' ... OK
* this is package 'GenVisR' version '1.26.0'
* package encoding: UTF-8
* checking package namespace information ... OK
* checking package dependencies ... OK
* checking if this is a source package ... OK
* checking if there is a namespace ... OK
* checking for hidden files and directories ... OK
* checking for portable file names ... OK
* checking whether package 'GenVisR' can be installed ... OK
* checking installed package size ... OK
* checking package directory ... OK
* checking 'build' directory ... OK
* checking DESCRIPTION meta-information ... OK
* checking top-level files ... OK
* checking for left-over files ... OK
* checking index information ... OK
* checking package subdirectories ... OK
* checking R files for non-ASCII characters ... OK
* checking R files for syntax errors ... OK
* loading checks for arch 'i386'
** checking whether the package can be loaded ... OK
** checking whether the package can be loaded with stated dependencies ... OK
** checking whether the package can be unloaded cleanly ... OK
** checking whether the namespace can be loaded with stated dependencies ... OK
** checking whether the namespace can be unloaded cleanly ... OK
* loading checks for arch 'x64'
** checking whether the package can be loaded ... OK
** checking whether the package can be loaded with stated dependencies ... OK
** checking whether the package can be unloaded cleanly ... OK
** checking whether the namespace can be loaded with stated dependencies ... OK
** checking whether the namespace can be unloaded cleanly ... OK
* checking dependencies in R code ... NOTE
Namespace in Imports field not imported from: 'reshape2'
  All declared Imports should be used.
* checking S3 generic/method consistency ... OK
* checking replacement functions ... OK
* checking foreign function calls ... OK
* checking R code for possible problems ... NOTE
setTierTwo,data.table : a: no visible binding for global variable 'tmp'
toLolliplot,GMS: no visible binding for global variable 'missingINdex'
Undefined global functions or variables:
  missingINdex tmp
* checking Rd files ... OK
* checking Rd metadata ... OK
* checking Rd cross-references ... OK
* checking for missing documentation entries ... OK
* checking for code/documentation mismatches ... OK
* checking Rd \usage sections ... OK
* checking Rd contents ... OK
* checking for unstated dependencies in examples ... OK
* checking contents of 'data' directory ... OK
* checking data for non-ASCII characters ... OK
* checking LazyData ... OK
* checking data for ASCII and uncompressed saves ... OK
* checking files in 'vignettes' ... OK
* checking examples ...
** running examples for arch 'i386' ... OK
Examples with CPU (user + system) or elapsed time > 5s
                 user system elapsed
Lolliplot-class 38.15   1.94  108.70
lolliplot       23.03   0.15   64.30
geneViz          8.64   0.14    8.78
genCov           7.89   0.36    8.26
cnFreq           5.65   0.11    5.76
** running examples for arch 'x64' ... OK
Examples with CPU (user + system) or elapsed time > 5s
                 user system elapsed
Lolliplot-class 37.46   1.05   67.87
lolliplot       16.16   0.06   68.83
geneViz          9.24   0.11    9.34
genCov           8.44   0.34    8.79
cnFreq           6.46   0.01    6.47
* checking for unstated dependencies in 'tests' ... OK
* checking tests ...
** running tests for arch 'i386' ...
  Running 'testthat.R'
 ERROR
Running the tests in 'tests/testthat.R' failed.
Last 13 lines of output:
  > library(GenVisR)
  > 
  > test_check("GenVisR")
  == Skipped tests ===============================================================
  * On Bioconductor (54)
  
  == Failed tests ================================================================
  -- Failure (test-Lolliplot-class.R:526:5): setDomainHeights domains are nested correctly --
  `expected` not equivalent to `actual`.
  1/1 mismatches
  [1] 7 - 9 == -2
  
  [ FAIL 1 | WARN 18 | SKIP 54 | PASS 650 ]
  Error: Test failures
  Execution halted
** running tests for arch 'x64' ...
  Running 'testthat.R'
 ERROR
Running the tests in 'tests/testthat.R' failed.
Last 13 lines of output:
  > library(GenVisR)
  > 
  > test_check("GenVisR")
  == Skipped tests ===============================================================
  * On Bioconductor (54)
  
  == Failed tests ================================================================
  -- Failure (test-Lolliplot-class.R:526:5): setDomainHeights domains are nested correctly --
  `expected` not equivalent to `actual`.
  1/1 mismatches
  [1] 7 - 9 == -2
  
  [ FAIL 1 | WARN 18 | SKIP 54 | PASS 650 ]
  Error: Test failures
  Execution halted
* checking for unstated dependencies in vignettes ... OK
* checking package vignettes in 'inst/doc' ... OK
* checking running R code from vignettes ... SKIPPED
* checking re-building of vignette outputs ... SKIPPED
* checking PDF version of manual ... OK
* DONE

Status: 2 ERRORs, 2 NOTEs
See
  'C:/Users/biocbuild/bbs-3.14-bioc/meat/GenVisR.Rcheck/00check.log'
for details.


Installation output

GenVisR.Rcheck/00install.out

##############################################################################
##############################################################################
###
### Running command:
###
###   C:\cygwin\bin\curl.exe -O http://155.52.207.166/BBS/3.14/bioc/src/contrib/GenVisR_1.26.0.tar.gz && rm -rf GenVisR.buildbin-libdir && mkdir GenVisR.buildbin-libdir && C:\Users\biocbuild\bbs-3.14-bioc\R\bin\R.exe CMD INSTALL --merge-multiarch --build --library=GenVisR.buildbin-libdir GenVisR_1.26.0.tar.gz && C:\Users\biocbuild\bbs-3.14-bioc\R\bin\R.exe CMD INSTALL GenVisR_1.26.0.zip && rm GenVisR_1.26.0.tar.gz GenVisR_1.26.0.zip
###
##############################################################################
##############################################################################


  % Total    % Received % Xferd  Average Speed   Time    Time     Time  Current
                                 Dload  Upload   Total   Spent    Left  Speed

  0     0    0     0    0     0      0      0 --:--:-- --:--:-- --:--:--     0
  7 2104k    7  156k    0     0   991k      0  0:00:02 --:--:--  0:00:02  993k
100 2104k  100 2104k    0     0  2826k      0 --:--:-- --:--:-- --:--:-- 2828k

install for i386

* installing *source* package 'GenVisR' ...
** using staged installation
** R
** data
*** moving datasets to lazyload DB
** inst
** byte-compile and prepare package for lazy loading
** help
*** installing help indices
  converting help for package 'GenVisR'
    finding HTML links ... done
    Clinical-class                          html  
    GMS-class                               html  
    GMS_Virtual-class                       html  
    GMS_v4-class                            html  
    GenVisR                                 html  
    HCC1395_Germline                        html  
    HCC1395_N                               html  
    HCC1395_T                               html  
    Lolliplot-class                         html  
    LucCNseg                                html  
    MutSpectra-class                        html  
    MutationAnnotationFormat-class          html  
    MutationAnnotationFormat_Virtual-class
                                            html  
    MutationAnnotationFormat_v1.0-class     html  
    MutationAnnotationFormat_v2.0-class     html  
    MutationAnnotationFormat_v2.1-class     html  
    MutationAnnotationFormat_v2.2-class     html  
    MutationAnnotationFormat_v2.3-class     html  
    MutationAnnotationFormat_v2.4-class     html  
    PIK3CA                                  html  
    Rainfall-class                          html  
    SNPloci                                 html  
    TvTi                                    html  
    VEP-class                               html  
    VEP_Virtual-class                       html  
    VEP_v88-class                           html  
    Waterfall-class                         html  
    brcaMAF                                 html  
    cnFreq                                  html  
    cnSpec                                  html  
    cnView                                  html  
    compIdent                               html  
    covBars                                 html  
    cytoGeno                                html  
    drawPlot-methods                        html  
    genCov                                  html  
    geneViz                                 html  
    getData-methods                         html  
    getDescription-methods                  html  
    getGrob-methods                         html  
    getHeader-methods                       html  
    getMeta-methods                         html  
    getMutation-methods                     html  
    getPath-methods                         html  
    getPosition-methods                     html  
    getSample-methods                       html  
    getVersion-methods                      html  
    hg19chr                                 html  
    ideoView                                html  
    lohSpec                                 html  
    lohView                                 html  
    lolliplot                               html  
REDIRECT:topic	 Previous alias or file overwritten by alias: C:/Users/biocbuild/bbs-3.14-bioc/meat/GenVisR.buildbin-libdir/00LOCK-GenVisR/00new/GenVisR/help/lolliplot.html
    lolliplot_AA2sidechain                  html  
    lolliplot_buildMain                     html  
    waterfall                               html  
REDIRECT:topic	 Previous alias or file overwritten by alias: C:/Users/biocbuild/bbs-3.14-bioc/meat/GenVisR.buildbin-libdir/00LOCK-GenVisR/00new/GenVisR/help/waterfall.html
    writeData-methods                       html  
** building package indices
** installing vignettes
** testing if installed package can be loaded from temporary location
** testing if installed package can be loaded from final location
** testing if installed package keeps a record of temporary installation path

install for x64

* installing *source* package 'GenVisR' ...
** testing if installed package can be loaded
* MD5 sums
packaged installation of 'GenVisR' as GenVisR_1.26.0.zip
* DONE (GenVisR)
* installing to library 'C:/Users/biocbuild/bbs-3.14-bioc/R/library'
package 'GenVisR' successfully unpacked and MD5 sums checked

Tests output

GenVisR.Rcheck/tests_i386/testthat.Rout.fail


R version 4.1.2 (2021-11-01) -- "Bird Hippie"
Copyright (C) 2021 The R Foundation for Statistical Computing
Platform: i386-w64-mingw32/i386 (32-bit)

R is free software and comes with ABSOLUTELY NO WARRANTY.
You are welcome to redistribute it under certain conditions.
Type 'license()' or 'licence()' for distribution details.

R is a collaborative project with many contributors.
Type 'contributors()' for more information and
'citation()' on how to cite R or R packages in publications.

Type 'demo()' for some demos, 'help()' for on-line help, or
'help.start()' for an HTML browser interface to help.
Type 'q()' to quit R.

> library(testthat)
> library(GenVisR)
> 
> test_check("GenVisR")
== Skipped tests ===============================================================
* On Bioconductor (54)

== Failed tests ================================================================
-- Failure (test-Lolliplot-class.R:526:5): setDomainHeights domains are nested correctly --
`expected` not equivalent to `actual`.
1/1 mismatches
[1] 7 - 9 == -2

[ FAIL 1 | WARN 18 | SKIP 54 | PASS 650 ]
Error: Test failures
Execution halted

GenVisR.Rcheck/tests_x64/testthat.Rout.fail


R version 4.1.2 (2021-11-01) -- "Bird Hippie"
Copyright (C) 2021 The R Foundation for Statistical Computing
Platform: x86_64-w64-mingw32/x64 (64-bit)

R is free software and comes with ABSOLUTELY NO WARRANTY.
You are welcome to redistribute it under certain conditions.
Type 'license()' or 'licence()' for distribution details.

R is a collaborative project with many contributors.
Type 'contributors()' for more information and
'citation()' on how to cite R or R packages in publications.

Type 'demo()' for some demos, 'help()' for on-line help, or
'help.start()' for an HTML browser interface to help.
Type 'q()' to quit R.

> library(testthat)
> library(GenVisR)
> 
> test_check("GenVisR")
== Skipped tests ===============================================================
* On Bioconductor (54)

== Failed tests ================================================================
-- Failure (test-Lolliplot-class.R:526:5): setDomainHeights domains are nested correctly --
`expected` not equivalent to `actual`.
1/1 mismatches
[1] 7 - 9 == -2

[ FAIL 1 | WARN 18 | SKIP 54 | PASS 650 ]
Error: Test failures
Execution halted

Example timings

GenVisR.Rcheck/examples_i386/GenVisR-Ex.timings

nameusersystemelapsed
Lolliplot-class 38.15 1.94108.70
TvTi1.490.051.53
Waterfall-class0.380.000.38
cnFreq5.650.115.76
cnSpec3.730.003.73
cnView1.50.01.5
compIdent1.470.231.71
covBars0.530.000.53
genCov7.890.368.26
geneViz8.640.148.78
ideoView1.250.001.25
lohSpec2.880.413.29
lohView1.610.001.60
lolliplot23.03 0.1564.30
waterfall0.80.00.8

GenVisR.Rcheck/examples_x64/GenVisR-Ex.timings

nameusersystemelapsed
Lolliplot-class37.46 1.0567.87
TvTi1.70.01.7
Waterfall-class0.430.000.44
cnFreq6.460.016.47
cnSpec3.980.003.98
cnView1.740.001.73
compIdent2.180.152.33
covBars1.880.031.91
genCov8.440.348.79
geneViz9.240.119.34
ideoView1.560.001.57
lohSpec3.030.053.08
lohView1.580.001.57
lolliplot16.16 0.0668.83
waterfall0.750.000.75