Back to Multiple platform build/check report for BioC 3.14
ABCDEF[G]HIJKLMNOPQRSTUVWXYZ

This page was generated on 2022-01-14 13:06:25 -0500 (Fri, 14 Jan 2022).

HostnameOSArch (*)R versionInstalled pkgs
nebbiolo2Linux (Ubuntu 20.04.4 LTS)x86_644.1.2 (2021-11-01) -- "Bird Hippie" 4327
tokay2Windows Server 2012 R2 Standardx644.1.2 (2021-11-01) -- "Bird Hippie" 4076
machv2macOS 10.14.6 Mojavex86_644.1.2 (2021-11-01) -- "Bird Hippie" 4137
Click on any hostname to see more info about the system (e.g. compilers)      (*) as reported by 'uname -p', except on Windows and Mac OS X

BUILD BIN results for GateFinder on tokay2


To the developers/maintainers of the GateFinder package:
- Please allow up to 24 hours (and sometimes 48 hours) for your latest push to git@git.bioconductor.org:packages/GateFinder.git to
reflect on this report. See How and When does the builder pull? When will my changes propagate? here for more information.
- Make sure to use the following settings in order to reproduce any error or warning you see on this page.

raw results

Package 701/2083HostnameOS / ArchINSTALLBUILDCHECKBUILD BIN
GateFinder 1.14.0  (landing page)
Nima Aghaeepour
Snapshot Date: 2022-01-13 01:55:04 -0500 (Thu, 13 Jan 2022)
git_url: https://git.bioconductor.org/packages/GateFinder
git_branch: RELEASE_3_14
git_last_commit: 829cba8
git_last_commit_date: 2021-10-26 12:43:09 -0500 (Tue, 26 Oct 2021)
nebbiolo2Linux (Ubuntu 20.04.4 LTS) / x86_64  OK    OK    OK  UNNEEDED, same version is already published
tokay2Windows Server 2012 R2 Standard / x64  OK    OK    OK    OK  UNNEEDED, same version is already published
machv2macOS 10.14.6 Mojave / x86_64  OK    OK    OK    OK  UNNEEDED, same version is already published

Summary

Package: GateFinder
Version: 1.14.0
Command: rm -rf GateFinder.buildbin-libdir && mkdir GateFinder.buildbin-libdir && C:\Users\biocbuild\bbs-3.14-bioc\R\bin\R.exe --arch x64 CMD INSTALL --no-multiarch --build --library=GateFinder.buildbin-libdir GateFinder_1.14.0.tar.gz
StartedAt: 2022-01-14 05:43:52 -0500 (Fri, 14 Jan 2022)
EndedAt: 2022-01-14 05:44:14 -0500 (Fri, 14 Jan 2022)
EllapsedTime: 21.2 seconds
RetCode: 0
Status:   OK  
PackageFile: GateFinder_1.14.0.zip
PackageFileSize: 904.1 KiB

Command output

##############################################################################
##############################################################################
###
### Running command:
###
###   rm -rf GateFinder.buildbin-libdir && mkdir GateFinder.buildbin-libdir && C:\Users\biocbuild\bbs-3.14-bioc\R\bin\R.exe --arch x64 CMD INSTALL --no-multiarch --build --library=GateFinder.buildbin-libdir GateFinder_1.14.0.tar.gz
###
##############################################################################
##############################################################################


* installing *source* package 'GateFinder' ...
** using staged installation
** R
** data
** inst
** byte-compile and prepare package for lazy loading
** help
*** installing help indices
  converting help for package 'GateFinder'
    finding HTML links ... done
    GateFinder-package                      html  
    GateFinder                              html  
    GatingProjection-class                  html  
    LPSData                                 html  
    plot.GateFinder                         html  
** building package indices
** installing vignettes
** testing if installed package can be loaded from temporary location
** testing if installed package can be loaded from final location
** testing if installed package keeps a record of temporary installation path
* MD5 sums
packaged installation of 'GateFinder' as GateFinder_1.14.0.zip
* DONE (GateFinder)