Back to Multiple platform build/check report for BioC 3.14
ABCDEF[G]HIJKLMNOPQRSTUVWXYZ

This page was generated on 2022-01-19 13:06:41 -0500 (Wed, 19 Jan 2022).

HostnameOSArch (*)R versionInstalled pkgs
nebbiolo2Linux (Ubuntu 20.04.4 LTS)x86_644.1.2 (2021-11-01) -- "Bird Hippie" 4328
tokay2Windows Server 2012 R2 Standardx644.1.2 (2021-11-01) -- "Bird Hippie" 4077
machv2macOS 10.14.6 Mojavex86_644.1.2 (2021-11-01) -- "Bird Hippie" 4138
Click on any hostname to see more info about the system (e.g. compilers)      (*) as reported by 'uname -p', except on Windows and Mac OS X

INSTALL results for GOpro on tokay2


To the developers/maintainers of the GOpro package:
- Please allow up to 24 hours (and sometimes 48 hours) for your latest push to git@git.bioconductor.org:packages/GOpro.git to
reflect on this report. See How and When does the builder pull? When will my changes propagate? here for more information.
- Make sure to use the following settings in order to reproduce any error or warning you see on this page.

raw results

Package 800/2083HostnameOS / ArchINSTALLBUILDCHECKBUILD BIN
GOpro 1.20.0  (landing page)
Lidia Chrabaszcz
Snapshot Date: 2022-01-18 01:55:07 -0500 (Tue, 18 Jan 2022)
git_url: https://git.bioconductor.org/packages/GOpro
git_branch: RELEASE_3_14
git_last_commit: 81cc5b2
git_last_commit_date: 2021-10-26 12:30:19 -0500 (Tue, 26 Oct 2021)
nebbiolo2Linux (Ubuntu 20.04.4 LTS) / x86_64  OK    OK    WARNINGS  UNNEEDED, same version is already published
tokay2Windows Server 2012 R2 Standard / x64  OK    OK    WARNINGS    OK  UNNEEDED, same version is already published
machv2macOS 10.14.6 Mojave / x86_64  OK    OK    WARNINGS    OK  UNNEEDED, same version is already published

Summary

Package: GOpro
Version: 1.20.0
Command: C:\cygwin\bin\curl.exe -O http://155.52.207.166/BBS/3.14/bioc/src/contrib/GOpro_1.20.0.tar.gz && rm -rf GOpro.buildbin-libdir && mkdir GOpro.buildbin-libdir && C:\Users\biocbuild\bbs-3.14-bioc\R\bin\R.exe CMD INSTALL --merge-multiarch --build --library=GOpro.buildbin-libdir GOpro_1.20.0.tar.gz && C:\Users\biocbuild\bbs-3.14-bioc\R\bin\R.exe CMD INSTALL GOpro_1.20.0.zip && rm GOpro_1.20.0.tar.gz GOpro_1.20.0.zip
StartedAt: 2022-01-18 05:52:53 -0500 (Tue, 18 Jan 2022)
EndedAt: 2022-01-18 05:54:20 -0500 (Tue, 18 Jan 2022)
EllapsedTime: 86.4 seconds
RetCode: 0
Status:   OK  

Command output

##############################################################################
##############################################################################
###
### Running command:
###
###   C:\cygwin\bin\curl.exe -O http://155.52.207.166/BBS/3.14/bioc/src/contrib/GOpro_1.20.0.tar.gz && rm -rf GOpro.buildbin-libdir && mkdir GOpro.buildbin-libdir && C:\Users\biocbuild\bbs-3.14-bioc\R\bin\R.exe CMD INSTALL --merge-multiarch --build --library=GOpro.buildbin-libdir GOpro_1.20.0.tar.gz && C:\Users\biocbuild\bbs-3.14-bioc\R\bin\R.exe CMD INSTALL GOpro_1.20.0.zip && rm GOpro_1.20.0.tar.gz GOpro_1.20.0.zip
###
##############################################################################
##############################################################################


  % Total    % Received % Xferd  Average Speed   Time    Time     Time  Current
                                 Dload  Upload   Total   Spent    Left  Speed

  0     0    0     0    0     0      0      0 --:--:-- --:--:-- --:--:--     0
100  737k  100  737k    0     0  2842k      0 --:--:-- --:--:-- --:--:-- 2858k

install for i386

* installing *source* package 'GOpro' ...
** using staged installation
** libs
"C:/rtools40/mingw32/bin/"gcc  -I"C:/Users/BIOCBU~1/BBS-3~1.14-/R/include" -DNDEBUG  -I'C:/Users/biocbuild/bbs-3.14-bioc/R/library/Rcpp/include' -I'C:/Users/biocbuild/bbs-3.14-bioc/R/library/BH/include'   -I"C:/extsoft/include"     -O2 -Wall  -std=gnu99 -mfpmath=sse -msse2 -mstackrealign  -c GOpro_init.c -o GOpro_init.o
"C:/rtools40/mingw32/bin/"g++ -std=gnu++11  -I"C:/Users/BIOCBU~1/BBS-3~1.14-/R/include" -DNDEBUG  -I'C:/Users/biocbuild/bbs-3.14-bioc/R/library/Rcpp/include' -I'C:/Users/biocbuild/bbs-3.14-bioc/R/library/BH/include'   -I"C:/extsoft/include"     -O2 -Wall  -mfpmath=sse -msse2 -mstackrealign  -c RcppExports.cpp -o RcppExports.o
"C:/rtools40/mingw32/bin/"g++ -std=gnu++11  -I"C:/Users/BIOCBU~1/BBS-3~1.14-/R/include" -DNDEBUG  -I'C:/Users/biocbuild/bbs-3.14-bioc/R/library/Rcpp/include' -I'C:/Users/biocbuild/bbs-3.14-bioc/R/library/BH/include'   -I"C:/extsoft/include"     -O2 -Wall  -mfpmath=sse -msse2 -mstackrealign  -c fisher.cpp -o fisher.o
In file included from C:/Users/biocbuild/bbs-3.14-bioc/R/library/BH/include/boost/mpl/aux_/na_assert.hpp:23,
                 from C:/Users/biocbuild/bbs-3.14-bioc/R/library/BH/include/boost/mpl/arg.hpp:25,
                 from C:/Users/biocbuild/bbs-3.14-bioc/R/library/BH/include/boost/mpl/placeholders.hpp:24,
                 from C:/Users/biocbuild/bbs-3.14-bioc/R/library/BH/include/boost/iterator/iterator_categories.hpp:16,
                 from C:/Users/biocbuild/bbs-3.14-bioc/R/library/BH/include/boost/iterator/iterator_facade.hpp:13,
                 from C:/Users/biocbuild/bbs-3.14-bioc/R/library/BH/include/boost/range/iterator_range_core.hpp:27,
                 from C:/Users/biocbuild/bbs-3.14-bioc/R/library/BH/include/boost/lexical_cast.hpp:30,
                 from C:/Users/biocbuild/bbs-3.14-bioc/R/library/BH/include/boost/math/tools/lexical_cast.hpp:12,
                 from C:/Users/biocbuild/bbs-3.14-bioc/R/library/BH/include/boost/math/tools/convert_from_string.hpp:14,
                 from C:/Users/biocbuild/bbs-3.14-bioc/R/library/BH/include/boost/math/constants/constants.hpp:14,
                 from C:/Users/biocbuild/bbs-3.14-bioc/R/library/BH/include/boost/math/distributions/detail/hypergeometric_pdf.hpp:12,
                 from C:/Users/biocbuild/bbs-3.14-bioc/R/library/BH/include/boost/math/distributions/hypergeometric.hpp:15,
                 from fisher.cpp:2:
C:/Users/biocbuild/bbs-3.14-bioc/R/library/BH/include/boost/mpl/assert.hpp:194:21: warning: unnecessary parentheses in declaration of 'assert_arg' [-Wparentheses]
 failed ************ (Pred::************
                     ^
C:/Users/biocbuild/bbs-3.14-bioc/R/library/BH/include/boost/mpl/assert.hpp:199:21: warning: unnecessary parentheses in declaration of 'assert_not_arg' [-Wparentheses]
 failed ************ (boost::mpl::not_<Pred>::************
                     ^
C:/rtools40/mingw32/bin/g++ -std=gnu++11 -shared -s -static-libgcc -o GOpro.dll tmp.def GOpro_init.o RcppExports.o fisher.o -LC:/extsoft/lib/i386 -LC:/extsoft/lib -LC:/Users/BIOCBU~1/BBS-3~1.14-/R/bin/i386 -lR
installing to C:/Users/biocbuild/bbs-3.14-bioc/meat/GOpro.buildbin-libdir/00LOCK-GOpro/00new/GOpro/libs/i386
** R
** data
*** moving datasets to lazyload DB
** byte-compile and prepare package for lazy loading
** help
*** installing help indices
  converting help for package 'GOpro'
    finding HTML links ... done
    GOpro                                   html  
    exrtcga                                 html  
    findGO                                  html  
** building package indices
** installing vignettes
** testing if installed package can be loaded from temporary location
** testing if installed package can be loaded from final location
** testing if installed package keeps a record of temporary installation path

install for x64

* installing *source* package 'GOpro' ...
** libs
"C:/rtools40/mingw64/bin/"gcc  -I"C:/Users/BIOCBU~1/BBS-3~1.14-/R/include" -DNDEBUG  -I'C:/Users/biocbuild/bbs-3.14-bioc/R/library/Rcpp/include' -I'C:/Users/biocbuild/bbs-3.14-bioc/R/library/BH/include'   -I"C:/extsoft/include"     -O2 -Wall  -std=gnu99 -mfpmath=sse -msse2 -mstackrealign  -c GOpro_init.c -o GOpro_init.o
"C:/rtools40/mingw64/bin/"g++ -std=gnu++11  -I"C:/Users/BIOCBU~1/BBS-3~1.14-/R/include" -DNDEBUG  -I'C:/Users/biocbuild/bbs-3.14-bioc/R/library/Rcpp/include' -I'C:/Users/biocbuild/bbs-3.14-bioc/R/library/BH/include'   -I"C:/extsoft/include"     -O2 -Wall  -mfpmath=sse -msse2 -mstackrealign  -c RcppExports.cpp -o RcppExports.o
"C:/rtools40/mingw64/bin/"g++ -std=gnu++11  -I"C:/Users/BIOCBU~1/BBS-3~1.14-/R/include" -DNDEBUG  -I'C:/Users/biocbuild/bbs-3.14-bioc/R/library/Rcpp/include' -I'C:/Users/biocbuild/bbs-3.14-bioc/R/library/BH/include'   -I"C:/extsoft/include"     -O2 -Wall  -mfpmath=sse -msse2 -mstackrealign  -c fisher.cpp -o fisher.o
In file included from C:/Users/biocbuild/bbs-3.14-bioc/R/library/BH/include/boost/mpl/aux_/na_assert.hpp:23,
                 from C:/Users/biocbuild/bbs-3.14-bioc/R/library/BH/include/boost/mpl/arg.hpp:25,
                 from C:/Users/biocbuild/bbs-3.14-bioc/R/library/BH/include/boost/mpl/placeholders.hpp:24,
                 from C:/Users/biocbuild/bbs-3.14-bioc/R/library/BH/include/boost/iterator/iterator_categories.hpp:16,
                 from C:/Users/biocbuild/bbs-3.14-bioc/R/library/BH/include/boost/iterator/iterator_facade.hpp:13,
                 from C:/Users/biocbuild/bbs-3.14-bioc/R/library/BH/include/boost/range/iterator_range_core.hpp:27,
                 from C:/Users/biocbuild/bbs-3.14-bioc/R/library/BH/include/boost/lexical_cast.hpp:30,
                 from C:/Users/biocbuild/bbs-3.14-bioc/R/library/BH/include/boost/math/tools/lexical_cast.hpp:12,
                 from C:/Users/biocbuild/bbs-3.14-bioc/R/library/BH/include/boost/math/tools/convert_from_string.hpp:14,
                 from C:/Users/biocbuild/bbs-3.14-bioc/R/library/BH/include/boost/math/constants/constants.hpp:14,
                 from C:/Users/biocbuild/bbs-3.14-bioc/R/library/BH/include/boost/math/distributions/detail/hypergeometric_pdf.hpp:12,
                 from C:/Users/biocbuild/bbs-3.14-bioc/R/library/BH/include/boost/math/distributions/hypergeometric.hpp:15,
                 from fisher.cpp:2:
C:/Users/biocbuild/bbs-3.14-bioc/R/library/BH/include/boost/mpl/assert.hpp:194:21: warning: unnecessary parentheses in declaration of 'assert_arg' [-Wparentheses]
 failed ************ (Pred::************
                     ^
C:/Users/biocbuild/bbs-3.14-bioc/R/library/BH/include/boost/mpl/assert.hpp:199:21: warning: unnecessary parentheses in declaration of 'assert_not_arg' [-Wparentheses]
 failed ************ (boost::mpl::not_<Pred>::************
                     ^
C:/rtools40/mingw64/bin/g++ -std=gnu++11 -shared -s -static-libgcc -o GOpro.dll tmp.def GOpro_init.o RcppExports.o fisher.o -LC:/extsoft/lib/x64 -LC:/extsoft/lib -LC:/Users/BIOCBU~1/BBS-3~1.14-/R/bin/x64 -lR
installing to C:/Users/biocbuild/bbs-3.14-bioc/meat/GOpro.buildbin-libdir/GOpro/libs/x64
** testing if installed package can be loaded
* MD5 sums
packaged installation of 'GOpro' as GOpro_1.20.0.zip
* DONE (GOpro)
* installing to library 'C:/Users/biocbuild/bbs-3.14-bioc/R/library'
package 'GOpro' successfully unpacked and MD5 sums checked