Back to Multiple platform build/check report for BioC 3.14
ABCDEF[G]HIJKLMNOPQRSTUVWXYZ

This page was generated on 2022-01-26 13:05:27 -0500 (Wed, 26 Jan 2022).

HostnameOSArch (*)R versionInstalled pkgs
nebbiolo2Linux (Ubuntu 20.04.4 LTS)x86_644.1.2 (2021-11-01) -- "Bird Hippie" 4329
tokay2Windows Server 2012 R2 Standardx644.1.2 (2021-11-01) -- "Bird Hippie" 4080
machv2macOS 10.14.6 Mojavex86_644.1.2 (2021-11-01) -- "Bird Hippie" 4141
Click on any hostname to see more info about the system (e.g. compilers)      (*) as reported by 'uname -p', except on Windows and Mac OS X

CHECK results for GOfuncR on nebbiolo2


To the developers/maintainers of the GOfuncR package:
- Please allow up to 24 hours (and sometimes 48 hours) for your latest push to git@git.bioconductor.org:packages/GOfuncR.git to
reflect on this report. See How and When does the builder pull? When will my changes propagate? here for more information.
- Make sure to use the following settings in order to reproduce any error or warning you see on this page.

raw results

Package 799/2083HostnameOS / ArchINSTALLBUILDCHECKBUILD BIN
GOfuncR 1.14.0  (landing page)
Steffi Grote
Snapshot Date: 2022-01-25 01:55:07 -0500 (Tue, 25 Jan 2022)
git_url: https://git.bioconductor.org/packages/GOfuncR
git_branch: RELEASE_3_14
git_last_commit: b3d445a
git_last_commit_date: 2021-10-26 12:40:30 -0500 (Tue, 26 Oct 2021)
nebbiolo2Linux (Ubuntu 20.04.4 LTS) / x86_64  OK    OK    OK  UNNEEDED, same version is already published
tokay2Windows Server 2012 R2 Standard / x64  OK    OK    OK    OK  UNNEEDED, same version is already published
machv2macOS 10.14.6 Mojave / x86_64  OK    OK    OK    OK  UNNEEDED, same version is already published

Summary

Package: GOfuncR
Version: 1.14.0
Command: /home/biocbuild/bbs-3.14-bioc/R/bin/R CMD check --install=check:GOfuncR.install-out.txt --library=/home/biocbuild/bbs-3.14-bioc/R/library --no-vignettes --timings GOfuncR_1.14.0.tar.gz
StartedAt: 2022-01-25 07:55:12 -0500 (Tue, 25 Jan 2022)
EndedAt: 2022-01-25 07:59:08 -0500 (Tue, 25 Jan 2022)
EllapsedTime: 236.1 seconds
RetCode: 0
Status:   OK  
CheckDir: GOfuncR.Rcheck
Warnings: 0

Command output

##############################################################################
##############################################################################
###
### Running command:
###
###   /home/biocbuild/bbs-3.14-bioc/R/bin/R CMD check --install=check:GOfuncR.install-out.txt --library=/home/biocbuild/bbs-3.14-bioc/R/library --no-vignettes --timings GOfuncR_1.14.0.tar.gz
###
##############################################################################
##############################################################################


* using log directory ‘/home/biocbuild/bbs-3.14-bioc/meat/GOfuncR.Rcheck’
* using R version 4.1.2 (2021-11-01)
* using platform: x86_64-pc-linux-gnu (64-bit)
* using session charset: UTF-8
* using option ‘--no-vignettes’
* checking for file ‘GOfuncR/DESCRIPTION’ ... OK
* checking extension type ... Package
* this is package ‘GOfuncR’ version ‘1.14.0’
* checking package namespace information ... OK
* checking package dependencies ... OK
* checking if this is a source package ... OK
* checking if there is a namespace ... OK
* checking for hidden files and directories ... OK
* checking for portable file names ... OK
* checking for sufficient/correct file permissions ... OK
* checking whether package ‘GOfuncR’ can be installed ... OK
* checking installed package size ... NOTE
  installed size is 14.6Mb
  sub-directories of 1Mb or more:
    R      1.9Mb
    libs  12.6Mb
* checking package directory ... OK
* checking ‘build’ directory ... OK
* checking DESCRIPTION meta-information ... OK
* checking top-level files ... OK
* checking for left-over files ... OK
* checking index information ... OK
* checking package subdirectories ... OK
* checking R files for non-ASCII characters ... OK
* checking R files for syntax errors ... OK
* checking whether the package can be loaded ... OK
* checking whether the package can be loaded with stated dependencies ... OK
* checking whether the package can be unloaded cleanly ... OK
* checking whether the namespace can be loaded with stated dependencies ... OK
* checking whether the namespace can be unloaded cleanly ... OK
* checking dependencies in R code ... OK
* checking S3 generic/method consistency ... OK
* checking replacement functions ... OK
* checking foreign function calls ... OK
* checking R code for possible problems ... OK
* checking Rd files ... OK
* checking Rd metadata ... OK
* checking Rd cross-references ... OK
* checking for missing documentation entries ... OK
* checking for code/documentation mismatches ... OK
* checking Rd \usage sections ... OK
* checking Rd contents ... OK
* checking for unstated dependencies in examples ... OK
* checking R/sysdata.rda ... OK
* checking line endings in C/C++/Fortran sources/headers ... OK
* checking compiled code ... NOTE
Note: information on .o files is not available
* checking files in ‘vignettes’ ... OK
* checking examples ... OK
Examples with CPU (user + system) or elapsed time > 5s
                      user system elapsed
refine              23.494  0.324  23.819
plot_anno_scores    10.603  0.644  11.249
get_anno_categories  8.021  0.364   8.385
* checking for unstated dependencies in ‘tests’ ... OK
* checking tests ...
  Running ‘testthat.R’
 OK
* checking for unstated dependencies in vignettes ... OK
* checking package vignettes in ‘inst/doc’ ... OK
* checking running R code from vignettes ... SKIPPED
* checking re-building of vignette outputs ... SKIPPED
* checking PDF version of manual ... OK
* DONE

Status: 2 NOTEs
See
  ‘/home/biocbuild/bbs-3.14-bioc/meat/GOfuncR.Rcheck/00check.log’
for details.



Installation output

GOfuncR.Rcheck/00install.out

##############################################################################
##############################################################################
###
### Running command:
###
###   /home/biocbuild/bbs-3.14-bioc/R/bin/R CMD INSTALL GOfuncR
###
##############################################################################
##############################################################################


* installing to library ‘/home/biocbuild/bbs-3.14-bioc/R/library’
* installing *source* package ‘GOfuncR’ ...
** using staged installation
** libs
g++ -std=gnu++14 -I"/home/biocbuild/bbs-3.14-bioc/R/include" -DNDEBUG  -I'/home/biocbuild/bbs-3.14-bioc/R/library/Rcpp/include' -I/usr/local/include   -fpic  -g -O2  -Wall -c RcppExports.cpp -o RcppExports.o
g++ -std=gnu++14 -I"/home/biocbuild/bbs-3.14-bioc/R/include" -DNDEBUG  -I'/home/biocbuild/bbs-3.14-bioc/R/library/Rcpp/include' -I/usr/local/include   -fpic  -g -O2  -Wall -c binom_categorytest.cc -o binom_categorytest.o
g++ -std=gnu++14 -I"/home/biocbuild/bbs-3.14-bioc/R/include" -DNDEBUG  -I'/home/biocbuild/bbs-3.14-bioc/R/library/Rcpp/include' -I/usr/local/include   -fpic  -g -O2  -Wall -c binom_randset.cc -o binom_randset.o
g++ -std=gnu++14 -I"/home/biocbuild/bbs-3.14-bioc/R/include" -DNDEBUG  -I'/home/biocbuild/bbs-3.14-bioc/R/library/Rcpp/include' -I/usr/local/include   -fpic  -g -O2  -Wall -c blocks.cpp -o blocks.o
blocks.cpp: In function ‘std::set<int> rannum_blocks(std::vector<bed_str>, std::vector<bed_str>, const std::map<std::__cxx11::basic_string<char>, int>&, std::vector<gen_pos_str>)’:
blocks.cpp:30:19: warning: comparison of integer expressions of different signedness: ‘int’ and ‘std::vector<bed_str>::size_type’ {aka ‘long unsigned int’} [-Wsign-compare]
   30 |   for (int j=0; j < candidate_bed.size(); j++){
      |                 ~~^~~~~~~~~~~~~~~~~~~~~~
blocks.cpp:34:20: warning: comparison of integer expressions of different signedness: ‘int’ and ‘std::vector<bed_str>::size_type’ {aka ‘long unsigned int’} [-Wsign-compare]
   34 |    for (int k=0; k < background.size(); k++){
      |                  ~~^~~~~~~~~~~~~~~~~~~
blocks.cpp:68:19: warning: comparison of integer expressions of different signedness: ‘int’ and ‘std::vector<gen_pos_str>::size_type’ {aka ‘long unsigned int’} [-Wsign-compare]
   68 |    for (int g=0; g<genes_pos.size(); g++){
      |                  ~^~~~~~~~~~~~~~~~~
g++ -std=gnu++14 -I"/home/biocbuild/bbs-3.14-bioc/R/include" -DNDEBUG  -I'/home/biocbuild/bbs-3.14-bioc/R/library/Rcpp/include' -I/usr/local/include   -fpic  -g -O2  -Wall -c conti_categorytest.cc -o conti_categorytest.o
g++ -std=gnu++14 -I"/home/biocbuild/bbs-3.14-bioc/R/include" -DNDEBUG  -I'/home/biocbuild/bbs-3.14-bioc/R/library/Rcpp/include' -I/usr/local/include   -fpic  -g -O2  -Wall -c conti_randset.cc -o conti_randset.o
g++ -std=gnu++14 -I"/home/biocbuild/bbs-3.14-bioc/R/include" -DNDEBUG  -I'/home/biocbuild/bbs-3.14-bioc/R/library/Rcpp/include' -I/usr/local/include   -fpic  -g -O2  -Wall -c gene.cc -o gene.o
g++ -std=gnu++14 -I"/home/biocbuild/bbs-3.14-bioc/R/include" -DNDEBUG  -I'/home/biocbuild/bbs-3.14-bioc/R/library/Rcpp/include' -I/usr/local/include   -fpic  -g -O2  -Wall -c gene_binom.cc -o gene_binom.o
g++ -std=gnu++14 -I"/home/biocbuild/bbs-3.14-bioc/R/include" -DNDEBUG  -I'/home/biocbuild/bbs-3.14-bioc/R/library/Rcpp/include' -I/usr/local/include   -fpic  -g -O2  -Wall -c gene_conti.cc -o gene_conti.o
g++ -std=gnu++14 -I"/home/biocbuild/bbs-3.14-bioc/R/include" -DNDEBUG  -I'/home/biocbuild/bbs-3.14-bioc/R/library/Rcpp/include' -I/usr/local/include   -fpic  -g -O2  -Wall -c genes.cc -o genes.o
g++ -std=gnu++14 -I"/home/biocbuild/bbs-3.14-bioc/R/include" -DNDEBUG  -I'/home/biocbuild/bbs-3.14-bioc/R/library/Rcpp/include' -I/usr/local/include   -fpic  -g -O2  -Wall -c genes_binom.cc -o genes_binom.o
g++ -std=gnu++14 -I"/home/biocbuild/bbs-3.14-bioc/R/include" -DNDEBUG  -I'/home/biocbuild/bbs-3.14-bioc/R/library/Rcpp/include' -I/usr/local/include   -fpic  -g -O2  -Wall -c genes_conti.cc -o genes_conti.o
g++ -std=gnu++14 -I"/home/biocbuild/bbs-3.14-bioc/R/include" -DNDEBUG  -I'/home/biocbuild/bbs-3.14-bioc/R/library/Rcpp/include' -I/usr/local/include   -fpic  -g -O2  -Wall -c go.cc -o go.o
g++ -std=gnu++14 -I"/home/biocbuild/bbs-3.14-bioc/R/include" -DNDEBUG  -I'/home/biocbuild/bbs-3.14-bioc/R/library/Rcpp/include' -I/usr/local/include   -fpic  -g -O2  -Wall -c go_graph.cc -o go_graph.o
g++ -std=gnu++14 -I"/home/biocbuild/bbs-3.14-bioc/R/include" -DNDEBUG  -I'/home/biocbuild/bbs-3.14-bioc/R/library/Rcpp/include' -I/usr/local/include   -fpic  -g -O2  -Wall -c go_graph_binom.cc -o go_graph_binom.o
g++ -std=gnu++14 -I"/home/biocbuild/bbs-3.14-bioc/R/include" -DNDEBUG  -I'/home/biocbuild/bbs-3.14-bioc/R/library/Rcpp/include' -I/usr/local/include   -fpic  -g -O2  -Wall -c go_graph_conti.cc -o go_graph_conti.o
g++ -std=gnu++14 -I"/home/biocbuild/bbs-3.14-bioc/R/include" -DNDEBUG  -I'/home/biocbuild/bbs-3.14-bioc/R/library/Rcpp/include' -I/usr/local/include   -fpic  -g -O2  -Wall -c go_graph_hyper.cc -o go_graph_hyper.o
g++ -std=gnu++14 -I"/home/biocbuild/bbs-3.14-bioc/R/include" -DNDEBUG  -I'/home/biocbuild/bbs-3.14-bioc/R/library/Rcpp/include' -I/usr/local/include   -fpic  -g -O2  -Wall -c go_groups.cc -o go_groups.o
g++ -std=gnu++14 -I"/home/biocbuild/bbs-3.14-bioc/R/include" -DNDEBUG  -I'/home/biocbuild/bbs-3.14-bioc/R/library/Rcpp/include' -I/usr/local/include   -fpic  -g -O2  -Wall -c go_groups_binom.cc -o go_groups_binom.o
g++ -std=gnu++14 -I"/home/biocbuild/bbs-3.14-bioc/R/include" -DNDEBUG  -I'/home/biocbuild/bbs-3.14-bioc/R/library/Rcpp/include' -I/usr/local/include   -fpic  -g -O2  -Wall -c go_groups_conti.cc -o go_groups_conti.o
go_groups_conti.cc: In member function ‘int* go_groups_conti::calculate_data(std::string&, std::ostream*)’:
go_groups_conti.cc:71:24: warning: comparison of integer expressions of different signedness: ‘int’ and ‘std::vector<std::__cxx11::basic_string<char> >::size_type’ {aka ‘long unsigned int’} [-Wsign-compare]
   71 |  for ( int idx=0 ; idx < names.size() ; ++idx ) {
      |                    ~~~~^~~~~~~~~~~~~~
go_groups_conti.cc: In member function ‘int* go_groups_conti::calculate_rand(std::string&, std::ostream*)’:
go_groups_conti.cc:172:24: warning: comparison of integer expressions of different signedness: ‘int’ and ‘std::vector<std::__cxx11::basic_string<char> >::size_type’ {aka ‘long unsigned int’} [-Wsign-compare]
  172 |  for ( int idx=0 ; idx < names.size() ; ++idx ) {
      |                    ~~~~^~~~~~~~~~~~~~
g++ -std=gnu++14 -I"/home/biocbuild/bbs-3.14-bioc/R/include" -DNDEBUG  -I'/home/biocbuild/bbs-3.14-bioc/R/library/Rcpp/include' -I/usr/local/include   -fpic  -g -O2  -Wall -c go_groups_hyper.cc -o go_groups_hyper.o
g++ -std=gnu++14 -I"/home/biocbuild/bbs-3.14-bioc/R/include" -DNDEBUG  -I'/home/biocbuild/bbs-3.14-bioc/R/library/Rcpp/include' -I/usr/local/include   -fpic  -g -O2  -Wall -c go_obj.cc -o go_obj.o
g++ -std=gnu++14 -I"/home/biocbuild/bbs-3.14-bioc/R/include" -DNDEBUG  -I'/home/biocbuild/bbs-3.14-bioc/R/library/Rcpp/include' -I/usr/local/include   -fpic  -g -O2  -Wall -c go_obj_binom.cc -o go_obj_binom.o
g++ -std=gnu++14 -I"/home/biocbuild/bbs-3.14-bioc/R/include" -DNDEBUG  -I'/home/biocbuild/bbs-3.14-bioc/R/library/Rcpp/include' -I/usr/local/include   -fpic  -g -O2  -Wall -c go_obj_conti.cc -o go_obj_conti.o
g++ -std=gnu++14 -I"/home/biocbuild/bbs-3.14-bioc/R/include" -DNDEBUG  -I'/home/biocbuild/bbs-3.14-bioc/R/library/Rcpp/include' -I/usr/local/include   -fpic  -g -O2  -Wall -c go_obj_hyper.cc -o go_obj_hyper.o
g++ -std=gnu++14 -I"/home/biocbuild/bbs-3.14-bioc/R/include" -DNDEBUG  -I'/home/biocbuild/bbs-3.14-bioc/R/library/Rcpp/include' -I/usr/local/include   -fpic  -g -O2  -Wall -c hyper_categorytest.cc -o hyper_categorytest.o
g++ -std=gnu++14 -I"/home/biocbuild/bbs-3.14-bioc/R/include" -DNDEBUG  -I'/home/biocbuild/bbs-3.14-bioc/R/library/Rcpp/include' -I/usr/local/include   -fpic  -g -O2  -Wall -c hyper_randset.cc -o hyper_randset.o
hyper_randset.cc: In function ‘void hyper_randset(std::string, int, std::string, std::string, std::string, std::string, std::string, std::string, bool)’:
hyper_randset.cc:217:33: warning: comparison of integer expressions of different signedness: ‘std::set<int>::size_type’ {aka ‘long unsigned int’} and ‘int’ [-Wsign-compare]
  217 |    while (random_numbers.size() < n_candidate) {
      |           ~~~~~~~~~~~~~~~~~~~~~~^~~~~~~~~~~~~
g++ -std=gnu++14 -I"/home/biocbuild/bbs-3.14-bioc/R/include" -DNDEBUG  -I'/home/biocbuild/bbs-3.14-bioc/R/library/Rcpp/include' -I/usr/local/include   -fpic  -g -O2  -Wall -c idmap.cc -o idmap.o
gcc -I"/home/biocbuild/bbs-3.14-bioc/R/include" -DNDEBUG  -I'/home/biocbuild/bbs-3.14-bioc/R/library/Rcpp/include' -I/usr/local/include   -fpic  -g -O2  -Wall -c init.c -o init.o
g++ -std=gnu++14 -I"/home/biocbuild/bbs-3.14-bioc/R/include" -DNDEBUG  -I'/home/biocbuild/bbs-3.14-bioc/R/library/Rcpp/include' -I/usr/local/include   -fpic  -g -O2  -Wall -c ran_genelen.cpp -o ran_genelen.o
ran_genelen.cpp: In function ‘std::set<int> rannum_genelen(int, const std::map<std::__cxx11::basic_string<char>, int>&, std::vector<gen_pos_str>, long int)’:
ran_genelen.cpp:19:31: warning: comparison of integer expressions of different signedness: ‘std::set<int>::size_type’ {aka ‘long unsigned int’} and ‘int’ [-Wsign-compare]
   19 |  while (random_numbers.size() < n_candidate) {
      |         ~~~~~~~~~~~~~~~~~~~~~~^~~~~~~~~~~~~
g++ -std=gnu++14 -I"/home/biocbuild/bbs-3.14-bioc/R/include" -DNDEBUG  -I'/home/biocbuild/bbs-3.14-bioc/R/library/Rcpp/include' -I/usr/local/include   -fpic  -g -O2  -Wall -c read_bed.cpp -o read_bed.o
g++ -std=gnu++14 -I"/home/biocbuild/bbs-3.14-bioc/R/include" -DNDEBUG  -I'/home/biocbuild/bbs-3.14-bioc/R/library/Rcpp/include' -I/usr/local/include   -fpic  -g -O2  -Wall -c roll.cpp -o roll.o
roll.cpp: In function ‘std::set<int> rannum_roll(std::vector<bed_str>, std::vector<bed_str>, const std::map<std::__cxx11::basic_string<char>, int>&, std::vector<gen_pos_str>)’:
roll.cpp:30:18: warning: comparison of integer expressions of different signedness: ‘int’ and ‘std::vector<bed_str>::size_type’ {aka ‘long unsigned int’} [-Wsign-compare]
   30 |  for (int j=0; j < candidate_bed.size(); j++){
      |                ~~^~~~~~~~~~~~~~~~~~~~~~
roll.cpp:36:19: warning: comparison of integer expressions of different signedness: ‘int’ and ‘std::vector<bed_str>::size_type’ {aka ‘long unsigned int’} [-Wsign-compare]
   36 |   for (int i=0; i < background_bed.size(); i++){
      |                 ~~^~~~~~~~~~~~~~~~~~~~~~~
roll.cpp:92:19: warning: comparison of integer expressions of different signedness: ‘int’ and ‘std::vector<gen_pos_str>::size_type’ {aka ‘long unsigned int’} [-Wsign-compare]
   92 |    for (int g=0; g<genes_pos.size(); g++){
      |                  ~^~~~~~~~~~~~~~~~~
roll.cpp:106:11: warning: comparison of integer expressions of different signedness: ‘int’ and ‘std::vector<bed_str>::size_type’ {aka ‘long unsigned int’} [-Wsign-compare]
  106 |    if ((k == background_bed.size()) || (background_bed[k].chrom != ran_chrom)){
      |         ~~^~~~~~~~~~~~~~~~~~~~~~~~
g++ -std=gnu++14 -I"/home/biocbuild/bbs-3.14-bioc/R/include" -DNDEBUG  -I'/home/biocbuild/bbs-3.14-bioc/R/library/Rcpp/include' -I/usr/local/include   -fpic  -g -O2  -Wall -c transitions.cc -o transitions.o
g++ -std=gnu++14 -I"/home/biocbuild/bbs-3.14-bioc/R/include" -DNDEBUG  -I'/home/biocbuild/bbs-3.14-bioc/R/library/Rcpp/include' -I/usr/local/include   -fpic  -g -O2  -Wall -c unlock_environment.cc -o unlock_environment.o
g++ -std=gnu++14 -I"/home/biocbuild/bbs-3.14-bioc/R/include" -DNDEBUG  -I'/home/biocbuild/bbs-3.14-bioc/R/library/Rcpp/include' -I/usr/local/include   -fpic  -g -O2  -Wall -c wilcox_categorytest.cc -o wilcox_categorytest.o
g++ -std=gnu++14 -I"/home/biocbuild/bbs-3.14-bioc/R/include" -DNDEBUG  -I'/home/biocbuild/bbs-3.14-bioc/R/library/Rcpp/include' -I/usr/local/include   -fpic  -g -O2  -Wall -c wilcox_randset.cc -o wilcox_randset.o
g++ -std=gnu++14 -shared -L/home/biocbuild/bbs-3.14-bioc/R/lib -L/usr/local/lib -o GOfuncR.so RcppExports.o binom_categorytest.o binom_randset.o blocks.o conti_categorytest.o conti_randset.o gene.o gene_binom.o gene_conti.o genes.o genes_binom.o genes_conti.o go.o go_graph.o go_graph_binom.o go_graph_conti.o go_graph_hyper.o go_groups.o go_groups_binom.o go_groups_conti.o go_groups_hyper.o go_obj.o go_obj_binom.o go_obj_conti.o go_obj_hyper.o hyper_categorytest.o hyper_randset.o idmap.o init.o ran_genelen.o read_bed.o roll.o transitions.o unlock_environment.o wilcox_categorytest.o wilcox_randset.o -L/home/biocbuild/bbs-3.14-bioc/R/lib -lR
installing to /home/biocbuild/bbs-3.14-bioc/R/library/00LOCK-GOfuncR/00new/GOfuncR/libs
** R
** inst
** byte-compile and prepare package for lazy loading
** help
*** installing help indices
** building package indices
** installing vignettes
** testing if installed package can be loaded from temporary location
** checking absolute paths in shared objects and dynamic libraries
** testing if installed package can be loaded from final location
** testing if installed package keeps a record of temporary installation path
* DONE (GOfuncR)

Tests output

GOfuncR.Rcheck/tests/testthat.Rout


R version 4.1.2 (2021-11-01) -- "Bird Hippie"
Copyright (C) 2021 The R Foundation for Statistical Computing
Platform: x86_64-pc-linux-gnu (64-bit)

R is free software and comes with ABSOLUTELY NO WARRANTY.
You are welcome to redistribute it under certain conditions.
Type 'license()' or 'licence()' for distribution details.

R is a collaborative project with many contributors.
Type 'contributors()' for more information and
'citation()' on how to cite R or R packages in publications.

Type 'demo()' for some demos, 'help()' for on-line help, or
'help.start()' for an HTML browser interface to help.
Type 'q()' to quit R.

> library(testthat)
> library(GOfuncR)
Loading required package: vioplot
Loading required package: sm
Package 'sm', version 2.2-5.7: type help(sm) for summary information
Loading required package: zoo

Attaching package: 'zoo'

The following objects are masked from 'package:base':

    as.Date, as.Date.numeric

> 
> test_check("GOfuncR")
[ FAIL 0 | WARN 6 | SKIP 0 | PASS 73 ]

[ FAIL 0 | WARN 6 | SKIP 0 | PASS 73 ]
> 
> proc.time()
   user  system elapsed 
 90.535   2.289  92.833 

Example timings

GOfuncR.Rcheck/GOfuncR-Ex.timings

nameusersystemelapsed
get_anno_categories8.0210.3648.385
get_anno_genes2.2370.3322.568
get_child_nodes0.0620.0000.061
get_ids0.2050.0120.216
get_names0.0140.0000.014
get_parent_nodes0.060.000.06
go_enrich4.4340.3324.766
plot_anno_scores10.603 0.64411.249
refine23.494 0.32423.819