Back to Multiple platform build/check report for BioC 3.14
ABCDE[F]GHIJKLMNOPQRSTUVWXYZ

This page was generated on 2021-11-26 15:04:50 -0500 (Fri, 26 Nov 2021).

INSTALL results for FindIT2 on nebbiolo2

To the developers/maintainers of the FindIT2 package:
- Please allow up to 24 hours (and sometimes 48 hours) for your latest push to git@git.bioconductor.org:packages/FindIT2.git to
reflect on this report. See How and When does the builder pull? When will my changes propagate? here for more information.
- Make sure to use the following settings in order to reproduce any error or warning you see on this page.

raw results

Package 642/2083HostnameOS / ArchINSTALLBUILDCHECKBUILD BIN
FindIT2 1.0.2  (landing page)
Guandong Shang
Snapshot Date: 2021-11-25 04:15:05 -0500 (Thu, 25 Nov 2021)
git_url: https://git.bioconductor.org/packages/FindIT2
git_branch: RELEASE_3_14
git_last_commit: af8aa7b
git_last_commit_date: 2021-11-23 08:01:16 -0500 (Tue, 23 Nov 2021)
nebbiolo2Linux (Ubuntu 20.04.3 LTS) / x86_64  OK    OK    OK  YES
tokay2Windows Server 2012 R2 Standard / x64  OK    OK    OK    OK  YES
machv2macOS 10.14.6 Mojave / x86_64  OK    OK    OK    OK  YES

Summary

Package: FindIT2
Version: 1.0.2
Command: /home/biocbuild/bbs-3.14-bioc/R/bin/R CMD INSTALL FindIT2
StartedAt: 2021-11-25 05:39:52 -0500 (Thu, 25 Nov 2021)
EndedAt: 2021-11-25 05:40:24 -0500 (Thu, 25 Nov 2021)
EllapsedTime: 31.6 seconds
RetCode: 0
Status:   OK  

Command output

##############################################################################
##############################################################################
###
### Running command:
###
###   /home/biocbuild/bbs-3.14-bioc/R/bin/R CMD INSTALL FindIT2
###
##############################################################################
##############################################################################


* installing to library ‘/home/biocbuild/bbs-3.14-bioc/R/library’
* installing *source* package ‘FindIT2’ ...
** using staged installation
** R
** data
** inst
** byte-compile and prepare package for lazy loading
** help
*** installing help indices
** building package indices
** installing vignettes
** testing if installed package can be loaded from temporary location
** testing if installed package can be loaded from final location
** testing if installed package keeps a record of temporary installation path
* DONE (FindIT2)