Back to Multiple platform build/check report for BioC 3.14
ABCDE[F]GHIJKLMNOPQRSTUVWXYZ

This page was generated on 2022-01-26 13:06:33 -0500 (Wed, 26 Jan 2022).

HostnameOSArch (*)R versionInstalled pkgs
nebbiolo2Linux (Ubuntu 20.04.4 LTS)x86_644.1.2 (2021-11-01) -- "Bird Hippie" 4329
tokay2Windows Server 2012 R2 Standardx644.1.2 (2021-11-01) -- "Bird Hippie" 4080
machv2macOS 10.14.6 Mojavex86_644.1.2 (2021-11-01) -- "Bird Hippie" 4141
Click on any hostname to see more info about the system (e.g. compilers)      (*) as reported by 'uname -p', except on Windows and Mac OS X

INSTALL results for FEAST on tokay2


To the developers/maintainers of the FEAST package:
- Please allow up to 24 hours (and sometimes 48 hours) for your latest push to git@git.bioconductor.org:packages/FEAST.git to
reflect on this report. See How and When does the builder pull? When will my changes propagate? here for more information.
- Make sure to use the following settings in order to reproduce any error or warning you see on this page.

raw results

Package 634/2083HostnameOS / ArchINSTALLBUILDCHECKBUILD BIN
FEAST 1.2.0  (landing page)
Kenong Su
Snapshot Date: 2022-01-25 01:55:07 -0500 (Tue, 25 Jan 2022)
git_url: https://git.bioconductor.org/packages/FEAST
git_branch: RELEASE_3_14
git_last_commit: cf2e5e8
git_last_commit_date: 2021-10-26 13:09:07 -0500 (Tue, 26 Oct 2021)
nebbiolo2Linux (Ubuntu 20.04.4 LTS) / x86_64  OK    OK    OK  UNNEEDED, same version is already published
tokay2Windows Server 2012 R2 Standard / x64  OK    OK    OK    OK  UNNEEDED, same version is already published
machv2macOS 10.14.6 Mojave / x86_64  OK    OK    OK    OK  UNNEEDED, same version is already published

Summary

Package: FEAST
Version: 1.2.0
Command: C:\cygwin\bin\curl.exe -O http://155.52.207.166/BBS/3.14/bioc/src/contrib/FEAST_1.2.0.tar.gz && rm -rf FEAST.buildbin-libdir && mkdir FEAST.buildbin-libdir && C:\Users\biocbuild\bbs-3.14-bioc\R\bin\R.exe CMD INSTALL --merge-multiarch --build --library=FEAST.buildbin-libdir FEAST_1.2.0.tar.gz && C:\Users\biocbuild\bbs-3.14-bioc\R\bin\R.exe CMD INSTALL FEAST_1.2.0.zip && rm FEAST_1.2.0.tar.gz FEAST_1.2.0.zip
StartedAt: 2022-01-25 05:37:49 -0500 (Tue, 25 Jan 2022)
EndedAt: 2022-01-25 05:38:53 -0500 (Tue, 25 Jan 2022)
EllapsedTime: 63.9 seconds
RetCode: 0
Status:   OK  

Command output

##############################################################################
##############################################################################
###
### Running command:
###
###   C:\cygwin\bin\curl.exe -O http://155.52.207.166/BBS/3.14/bioc/src/contrib/FEAST_1.2.0.tar.gz && rm -rf FEAST.buildbin-libdir && mkdir FEAST.buildbin-libdir && C:\Users\biocbuild\bbs-3.14-bioc\R\bin\R.exe CMD INSTALL --merge-multiarch --build --library=FEAST.buildbin-libdir FEAST_1.2.0.tar.gz && C:\Users\biocbuild\bbs-3.14-bioc\R\bin\R.exe CMD INSTALL FEAST_1.2.0.zip && rm FEAST_1.2.0.tar.gz FEAST_1.2.0.zip
###
##############################################################################
##############################################################################


  % Total    % Received % Xferd  Average Speed   Time    Time     Time  Current
                                 Dload  Upload   Total   Spent    Left  Speed

  0     0    0     0    0     0      0      0 --:--:-- --:--:-- --:--:--     0
 48 3581k   48 1737k    0     0  2375k      0  0:00:01 --:--:--  0:00:01 2373k
100 3581k  100 3581k    0     0  2964k      0  0:00:01  0:00:01 --:--:-- 2967k

install for i386

* installing *source* package 'FEAST' ...
** using staged installation
** libs
"C:/rtools40/mingw32/bin/"gcc  -I"C:/Users/BIOCBU~1/BBS-3~1.14-/R/include" -DNDEBUG     -I"C:/extsoft/include"     -O2 -Wall  -std=gnu99 -mfpmath=sse -msse2 -mstackrealign  -c cal_3_metrics.c -o cal_3_metrics.o
C:/rtools40/mingw32/bin/gcc -shared -s -static-libgcc -o FEAST.dll tmp.def cal_3_metrics.o -LC:/extsoft/lib/i386 -LC:/extsoft/lib -LC:/Users/BIOCBU~1/BBS-3~1.14-/R/bin/i386 -lR
installing to C:/Users/biocbuild/bbs-3.14-bioc/meat/FEAST.buildbin-libdir/00LOCK-FEAST/00new/FEAST/libs/i386
** R
** data
*** moving datasets to lazyload DB
** inst
** byte-compile and prepare package for lazy loading
** help
*** installing help indices
  converting help for package 'FEAST'
    finding HTML links ... done
    Consensus                               html  
    FEAST                                   html  
    FEAST_fast                              html  
    Norm_Y                                  html  
    Purity                                  html  
    SC3_Clust                               html  
    Select_Model_short_SC3                  html  
    Select_Model_short_TSCAN                html  
    TSCAN_Clust                             html  
    Visual_Rslt                             html  
    Y                                       html  
    align_CellType                          html  
    cal_F2                                  html  
    cal_Fisher2                             html  
    cal_MSE                                 html  
    cal_metrics                             html  
    eval_Cluster                            html  
    process_Y                               html  
    setUp_BPPARAM                           html  
    trueclass                               html  
    vector2matrix                           html  
** building package indices
** installing vignettes
** testing if installed package can be loaded from temporary location
** testing if installed package can be loaded from final location
** testing if installed package keeps a record of temporary installation path

install for x64

* installing *source* package 'FEAST' ...
** libs
"C:/rtools40/mingw64/bin/"gcc  -I"C:/Users/BIOCBU~1/BBS-3~1.14-/R/include" -DNDEBUG     -I"C:/extsoft/include"     -O2 -Wall  -std=gnu99 -mfpmath=sse -msse2 -mstackrealign  -c cal_3_metrics.c -o cal_3_metrics.o
C:/rtools40/mingw64/bin/gcc -shared -s -static-libgcc -o FEAST.dll tmp.def cal_3_metrics.o -LC:/extsoft/lib/x64 -LC:/extsoft/lib -LC:/Users/BIOCBU~1/BBS-3~1.14-/R/bin/x64 -lR
installing to C:/Users/biocbuild/bbs-3.14-bioc/meat/FEAST.buildbin-libdir/FEAST/libs/x64
** testing if installed package can be loaded
* MD5 sums
packaged installation of 'FEAST' as FEAST_1.2.0.zip
* DONE (FEAST)
* installing to library 'C:/Users/biocbuild/bbs-3.14-bioc/R/library'
package 'FEAST' successfully unpacked and MD5 sums checked