Back to Multiple platform build/check report for BioC 3.14
ABCDE[F]GHIJKLMNOPQRSTUVWXYZ

This page was generated on 2022-01-26 13:07:59 -0500 (Wed, 26 Jan 2022).

HostnameOSArch (*)R versionInstalled pkgs
nebbiolo2Linux (Ubuntu 20.04.4 LTS)x86_644.1.2 (2021-11-01) -- "Bird Hippie" 4329
tokay2Windows Server 2012 R2 Standardx644.1.2 (2021-11-01) -- "Bird Hippie" 4080
machv2macOS 10.14.6 Mojavex86_644.1.2 (2021-11-01) -- "Bird Hippie" 4141
Click on any hostname to see more info about the system (e.g. compilers)      (*) as reported by 'uname -p', except on Windows and Mac OS X

CHECK results for FEAST on machv2


To the developers/maintainers of the FEAST package:
- Please allow up to 24 hours (and sometimes 48 hours) for your latest push to git@git.bioconductor.org:packages/FEAST.git to
reflect on this report. See How and When does the builder pull? When will my changes propagate? here for more information.
- Make sure to use the following settings in order to reproduce any error or warning you see on this page.

raw results

Package 634/2083HostnameOS / ArchINSTALLBUILDCHECKBUILD BIN
FEAST 1.2.0  (landing page)
Kenong Su
Snapshot Date: 2022-01-25 01:55:07 -0500 (Tue, 25 Jan 2022)
git_url: https://git.bioconductor.org/packages/FEAST
git_branch: RELEASE_3_14
git_last_commit: cf2e5e8
git_last_commit_date: 2021-10-26 13:09:07 -0500 (Tue, 26 Oct 2021)
nebbiolo2Linux (Ubuntu 20.04.4 LTS) / x86_64  OK    OK    OK  UNNEEDED, same version is already published
tokay2Windows Server 2012 R2 Standard / x64  OK    OK    OK    OK  UNNEEDED, same version is already published
machv2macOS 10.14.6 Mojave / x86_64  OK    OK    OK    OK  UNNEEDED, same version is already published

Summary

Package: FEAST
Version: 1.2.0
Command: /Library/Frameworks/R.framework/Resources/bin/R CMD check --install=check:FEAST.install-out.txt --library=/Library/Frameworks/R.framework/Resources/library --no-vignettes --timings FEAST_1.2.0.tar.gz
StartedAt: 2022-01-25 12:59:41 -0500 (Tue, 25 Jan 2022)
EndedAt: 2022-01-25 13:04:06 -0500 (Tue, 25 Jan 2022)
EllapsedTime: 265.6 seconds
RetCode: 0
Status:   OK  
CheckDir: FEAST.Rcheck
Warnings: 0

Command output

##############################################################################
##############################################################################
###
### Running command:
###
###   /Library/Frameworks/R.framework/Resources/bin/R CMD check --install=check:FEAST.install-out.txt --library=/Library/Frameworks/R.framework/Resources/library --no-vignettes --timings FEAST_1.2.0.tar.gz
###
##############################################################################
##############################################################################


* using log directory ‘/Users/biocbuild/bbs-3.14-bioc/meat/FEAST.Rcheck’
* using R version 4.1.2 (2021-11-01)
* using platform: x86_64-apple-darwin17.0 (64-bit)
* using session charset: UTF-8
* using option ‘--no-vignettes’
* checking for file ‘FEAST/DESCRIPTION’ ... OK
* checking extension type ... Package
* this is package ‘FEAST’ version ‘1.2.0’
* package encoding: UTF-8
* checking package namespace information ... OK
* checking package dependencies ... OK
* checking if this is a source package ... OK
* checking if there is a namespace ... OK
* checking for hidden files and directories ... OK
* checking for portable file names ... OK
* checking for sufficient/correct file permissions ... OK
* checking whether package ‘FEAST’ can be installed ... OK
* checking installed package size ... NOTE
  installed size is  5.7Mb
  sub-directories of 1Mb or more:
    data   4.1Mb
    doc    1.5Mb
* checking package directory ... OK
* checking ‘build’ directory ... OK
* checking DESCRIPTION meta-information ... OK
* checking top-level files ... OK
* checking for left-over files ... OK
* checking index information ... OK
* checking package subdirectories ... OK
* checking R files for non-ASCII characters ... OK
* checking R files for syntax errors ... OK
* checking whether the package can be loaded ... OK
* checking whether the package can be loaded with stated dependencies ... OK
* checking whether the package can be unloaded cleanly ... OK
* checking whether the namespace can be loaded with stated dependencies ... OK
* checking whether the namespace can be unloaded cleanly ... OK
* checking dependencies in R code ... OK
* checking S3 generic/method consistency ... OK
* checking replacement functions ... OK
* checking foreign function calls ... OK
* checking R code for possible problems ... NOTE
FEAST: multiple local function definitions for ‘bp_fun’ with different
  formal arguments
SC3_Clust: no visible global function definition for ‘metadata’
Visual_Rslt: no visible global function definition for ‘ggbarplot’
Visual_Rslt: no visible global function definition for ‘theme’
Visual_Rslt: no visible global function definition for ‘element_text’
Visual_Rslt: no visible global function definition for ‘ggline’
Visual_Rslt: no visible global function definition for ‘get_palette’
Visual_Rslt: no visible global function definition for
  ‘scale_y_continuous’
Visual_Rslt: no visible global function definition for ‘guides’
Visual_Rslt: no visible global function definition for ‘guide_legend’
Visual_Rslt: no visible global function definition for ‘ggarrange’
aricode_NMI : entropy: no visible global function definition for
  ‘sortPairs’
Undefined global functions or variables:
  element_text get_palette ggarrange ggbarplot ggline guide_legend
  guides metadata scale_y_continuous sortPairs theme
* checking Rd files ... OK
* checking Rd metadata ... OK
* checking Rd cross-references ... OK
* checking for missing documentation entries ... OK
* checking for code/documentation mismatches ... OK
* checking Rd \usage sections ... OK
* checking Rd contents ... OK
* checking for unstated dependencies in examples ... OK
* checking contents of ‘data’ directory ... OK
* checking data for non-ASCII characters ... OK
* checking LazyData ... OK
* checking data for ASCII and uncompressed saves ... OK
* checking line endings in C/C++/Fortran sources/headers ... OK
* checking compiled code ... NOTE
Note: information on .o files is not available
* checking installed files from ‘inst/doc’ ... OK
* checking files in ‘vignettes’ ... OK
* checking examples ... OK
* checking for unstated dependencies in vignettes ... OK
* checking package vignettes in ‘inst/doc’ ... OK
* checking running R code from vignettes ... SKIPPED
* checking re-building of vignette outputs ... SKIPPED
* checking PDF version of manual ... OK
* DONE

Status: 3 NOTEs
See
  ‘/Users/biocbuild/bbs-3.14-bioc/meat/FEAST.Rcheck/00check.log’
for details.



Installation output

FEAST.Rcheck/00install.out

##############################################################################
##############################################################################
###
### Running command:
###
###   /Library/Frameworks/R.framework/Resources/bin/R CMD INSTALL FEAST
###
##############################################################################
##############################################################################


* installing to library ‘/Library/Frameworks/R.framework/Versions/4.1/Resources/library’
* installing *source* package ‘FEAST’ ...
** using staged installation
** libs
clang -mmacosx-version-min=10.13 -I"/Library/Frameworks/R.framework/Resources/include" -DNDEBUG   -I/usr/local/include   -fPIC  -Wall -g -O2  -c cal_3_metrics.c -o cal_3_metrics.o
clang -mmacosx-version-min=10.13 -dynamiclib -Wl,-headerpad_max_install_names -undefined dynamic_lookup -single_module -multiply_defined suppress -L/Library/Frameworks/R.framework/Resources/lib -L/usr/local/lib -o FEAST.so cal_3_metrics.o -F/Library/Frameworks/R.framework/.. -framework R -Wl,-framework -Wl,CoreFoundation
installing to /Library/Frameworks/R.framework/Versions/4.1/Resources/library/00LOCK-FEAST/00new/FEAST/libs
** R
** data
*** moving datasets to lazyload DB
** inst
** byte-compile and prepare package for lazy loading
** help
*** installing help indices
** building package indices
** installing vignettes
** testing if installed package can be loaded from temporary location
** checking absolute paths in shared objects and dynamic libraries
** testing if installed package can be loaded from final location
** testing if installed package keeps a record of temporary installation path
* DONE (FEAST)

Tests output


Example timings

FEAST.Rcheck/FEAST-Ex.timings

nameusersystemelapsed
Consensus1.1210.0391.160
FEAST1.2900.0171.349
FEAST_fast1.9690.0472.018
Norm_Y0.2690.0040.273
Select_Model_short_SC31.2030.0221.226
Select_Model_short_TSCAN0.6410.0120.652
TSCAN_Clust0.0010.0020.004
Visual_Rslt1.1440.0241.169
Y0.1790.0030.182
align_CellType0.0020.0000.002
cal_F21.3600.5851.948
cal_MSE0.4320.0310.463
eval_Cluster0.0070.0000.008
process_Y0.8070.0140.822
setUp_BPPARAM0.0090.0000.009
trueclass0.0030.0020.005