Back to Multiple platform build/check report for BioC 3.14
ABCD[E]FGHIJKLMNOPQRSTUVWXYZ

This page was generated on 2021-11-26 15:05:49 -0500 (Fri, 26 Nov 2021).

BUILD results for ExpressionAtlas on machv2

To the developers/maintainers of the ExpressionAtlas package:
- Please allow up to 24 hours (and sometimes 48 hours) for your latest push to git@git.bioconductor.org:packages/ExpressionAtlas.git to
reflect on this report. See How and When does the builder pull? When will my changes propagate? here for more information.
- Make sure to use the following settings in order to reproduce any error or warning you see on this page.

raw results

Package 619/2083HostnameOS / ArchINSTALLBUILDCHECKBUILD BIN
ExpressionAtlas 1.22.0  (landing page)
Pedro Madrigal
Snapshot Date: 2021-11-25 04:15:05 -0500 (Thu, 25 Nov 2021)
git_url: https://git.bioconductor.org/packages/ExpressionAtlas
git_branch: RELEASE_3_14
git_last_commit: 074eebd
git_last_commit_date: 2021-10-26 12:25:33 -0500 (Tue, 26 Oct 2021)
nebbiolo2Linux (Ubuntu 20.04.3 LTS) / x86_64  OK    OK    OK  UNNEEDED, same version is already published
tokay2Windows Server 2012 R2 Standard / x64  OK    OK    OK    OK  UNNEEDED, same version is already published
machv2macOS 10.14.6 Mojave / x86_64  OK    OK    OK    OK  UNNEEDED, same version is already published

Summary

Package: ExpressionAtlas
Version: 1.22.0
Command: /Library/Frameworks/R.framework/Resources/bin/R CMD build --keep-empty-dirs --no-resave-data ExpressionAtlas
StartedAt: 2021-11-25 09:11:47 -0500 (Thu, 25 Nov 2021)
EndedAt: 2021-11-25 09:12:21 -0500 (Thu, 25 Nov 2021)
EllapsedTime: 34.6 seconds
RetCode: 0
Status:   OK  
PackageFile: ExpressionAtlas_1.22.0.tar.gz
PackageFileSize: 334.9 KiB

Command output

##############################################################################
##############################################################################
###
### Running command:
###
###   /Library/Frameworks/R.framework/Resources/bin/R CMD build --keep-empty-dirs --no-resave-data ExpressionAtlas
###
##############################################################################
##############################################################################


* checking for file ‘ExpressionAtlas/DESCRIPTION’ ... OK
* preparing ‘ExpressionAtlas’:
* checking DESCRIPTION meta-information ... OK
* installing the package to build vignettes
* creating vignettes ... OK
* checking for LF line-endings in source and make files and shell scripts
* checking for empty or unneeded directories
* looking to see if a ‘data/datalist’ file should be added
* building ‘ExpressionAtlas_1.22.0.tar.gz’