Back to Multiple platform build/check report for BioC 3.14
ABCD[E]FGHIJKLMNOPQRSTUVWXYZ

This page was generated on 2022-01-21 13:06:18 -0500 (Fri, 21 Jan 2022).

HostnameOSArch (*)R versionInstalled pkgs
nebbiolo2Linux (Ubuntu 20.04.4 LTS)x86_644.1.2 (2021-11-01) -- "Bird Hippie" 4329
tokay2Windows Server 2012 R2 Standardx644.1.2 (2021-11-01) -- "Bird Hippie" 4079
machv2macOS 10.14.6 Mojavex86_644.1.2 (2021-11-01) -- "Bird Hippie" 4140
Click on any hostname to see more info about the system (e.g. compilers)      (*) as reported by 'uname -p', except on Windows and Mac OS X

BUILD BIN results for ExperimentHubData on tokay2


To the developers/maintainers of the ExperimentHubData package:
- Please allow up to 24 hours (and sometimes 48 hours) for your latest push to git@git.bioconductor.org:packages/ExperimentHubData.git to
reflect on this report. See How and When does the builder pull? When will my changes propagate? here for more information.
- Make sure to use the following settings in order to reproduce any error or warning you see on this page.

raw results

Package 616/2083HostnameOS / ArchINSTALLBUILDCHECKBUILD BIN
ExperimentHubData 1.20.1  (landing page)
Bioconductor Package Maintainer
Snapshot Date: 2022-01-20 01:55:04 -0500 (Thu, 20 Jan 2022)
git_url: https://git.bioconductor.org/packages/ExperimentHubData
git_branch: RELEASE_3_14
git_last_commit: 6c862d8
git_last_commit_date: 2021-11-24 13:02:50 -0500 (Wed, 24 Nov 2021)
nebbiolo2Linux (Ubuntu 20.04.4 LTS) / x86_64  OK    OK    OK  UNNEEDED, same version is already published
tokay2Windows Server 2012 R2 Standard / x64  OK    OK    OK    OK  UNNEEDED, same version is already published
machv2macOS 10.14.6 Mojave / x86_64  OK    OK    OK    OK  UNNEEDED, same version is already published

Summary

Package: ExperimentHubData
Version: 1.20.1
Command: rm -rf ExperimentHubData.buildbin-libdir && mkdir ExperimentHubData.buildbin-libdir && C:\Users\biocbuild\bbs-3.14-bioc\R\bin\R.exe CMD INSTALL --merge-multiarch --build --library=ExperimentHubData.buildbin-libdir ExperimentHubData_1.20.1.tar.gz
StartedAt: 2022-01-21 06:06:39 -0500 (Fri, 21 Jan 2022)
EndedAt: 2022-01-21 06:07:39 -0500 (Fri, 21 Jan 2022)
EllapsedTime: 60.3 seconds
RetCode: 0
Status:   OK  
PackageFile: ExperimentHubData_1.20.1.zip
PackageFileSize: 538.1 KiB

Command output

##############################################################################
##############################################################################
###
### Running command:
###
###   rm -rf ExperimentHubData.buildbin-libdir && mkdir ExperimentHubData.buildbin-libdir && C:\Users\biocbuild\bbs-3.14-bioc\R\bin\R.exe CMD INSTALL --merge-multiarch --build --library=ExperimentHubData.buildbin-libdir ExperimentHubData_1.20.1.tar.gz
###
##############################################################################
##############################################################################



install for i386

* installing *source* package 'ExperimentHubData' ...
** using staged installation
** R
** inst
** byte-compile and prepare package for lazy loading
** help
*** installing help indices
  converting help for package 'ExperimentHubData'
    finding HTML links ... done
    ExperimentHubMetadata-class             html  
    addResources                            html  
    makeExperimentHubMetadata               html  
** building package indices
** installing vignettes
** testing if installed package can be loaded from temporary location
** testing if installed package can be loaded from final location
** testing if installed package keeps a record of temporary installation path

install for x64

* installing *source* package 'ExperimentHubData' ...
** testing if installed package can be loaded
* MD5 sums
packaged installation of 'ExperimentHubData' as ExperimentHubData_1.20.1.zip
* DONE (ExperimentHubData)