Back to Multiple platform build/check report for BioC 3.14
ABCD[E]FGHIJKLMNOPQRSTUVWXYZ

This page was generated on 2021-11-29 15:04:54 -0500 (Mon, 29 Nov 2021).

BUILD results for ExperimentHubData on nebbiolo2

To the developers/maintainers of the ExperimentHubData package:
- Please allow up to 24 hours (and sometimes 48 hours) for your latest push to git@git.bioconductor.org:packages/ExperimentHubData.git to
reflect on this report. See How and When does the builder pull? When will my changes propagate? here for more information.
- Make sure to use the following settings in order to reproduce any error or warning you see on this page.

raw results

Package 616/2083HostnameOS / ArchINSTALLBUILDCHECKBUILD BIN
ExperimentHubData 1.20.1  (landing page)
Bioconductor Package Maintainer
Snapshot Date: 2021-11-28 04:15:06 -0500 (Sun, 28 Nov 2021)
git_url: https://git.bioconductor.org/packages/ExperimentHubData
git_branch: RELEASE_3_14
git_last_commit: 6c862d8
git_last_commit_date: 2021-11-24 13:02:50 -0500 (Wed, 24 Nov 2021)
nebbiolo2Linux (Ubuntu 20.04.3 LTS) / x86_64  OK    OK    OK  UNNEEDED, same version is already published
tokay2Windows Server 2012 R2 Standard / x64  OK    OK    OK    OK  UNNEEDED, same version is already published
machv2macOS 10.14.6 Mojave / x86_64  OK    OK    OK    OK  UNNEEDED, same version is already published

Summary

Package: ExperimentHubData
Version: 1.20.1
Command: /home/biocbuild/bbs-3.14-bioc/R/bin/R CMD build --keep-empty-dirs --no-resave-data ExperimentHubData
StartedAt: 2021-11-28 06:19:39 -0500 (Sun, 28 Nov 2021)
EndedAt: 2021-11-28 06:20:16 -0500 (Sun, 28 Nov 2021)
EllapsedTime: 37.0 seconds
RetCode: 0
Status:   OK  
PackageFile: ExperimentHubData_1.20.1.tar.gz
PackageFileSize: 227.7 KiB

Command output

##############################################################################
##############################################################################
###
### Running command:
###
###   /home/biocbuild/bbs-3.14-bioc/R/bin/R CMD build --keep-empty-dirs --no-resave-data ExperimentHubData
###
##############################################################################
##############################################################################


* checking for file ‘ExperimentHubData/DESCRIPTION’ ... OK
* preparing ‘ExperimentHubData’:
* checking DESCRIPTION meta-information ... OK
* installing the package to build vignettes
* creating vignettes ... OK
* checking for LF line-endings in source and make files and shell scripts
* checking for empty or unneeded directories
* building ‘ExperimentHubData_1.20.1.tar.gz’