Back to Multiple platform build/check report for BioC 3.14
ABCD[E]FGHIJKLMNOPQRSTUVWXYZ

This page was generated on 2021-11-24 15:04:32 -0500 (Wed, 24 Nov 2021).

All results for package ExperimentHub

To the developers/maintainers of the ExperimentHub package:
- Please allow up to 24 hours (and sometimes 48 hours) for your latest push to git@git.bioconductor.org:packages/ExperimentHub.git to
reflect on this report. See How and When does the builder pull? When will my changes propagate? here for more information.
- Make sure to use the following settings in order to reproduce any error or warning you see on this page.

raw results

Package 615/2083HostnameOS / ArchINSTALLBUILDCHECKBUILD BIN
ExperimentHub 2.2.0  (landing page)
Bioconductor Package Maintainer
Snapshot Date: 2021-11-23 04:15:06 -0500 (Tue, 23 Nov 2021)
git_url: https://git.bioconductor.org/packages/ExperimentHub
git_branch: RELEASE_3_14
git_last_commit: b6b9dbb
git_last_commit_date: 2021-10-26 12:25:51 -0500 (Tue, 26 Oct 2021)
nebbiolo2Linux (Ubuntu 20.04.3 LTS) / x86_64  OK    OK    OK  UNNEEDED, same version is already published
tokay2Windows Server 2012 R2 Standard / x64  OK    OK    OK    OK  UNNEEDED, same version is already published
machv2macOS 10.14.6 Mojave / x86_64  OK    OK    OK    OK  UNNEEDED, same version is already published

Results for Bioconductor software packages that depend directly on package ExperimentHub

QUICK STATSOS / ArchINSTALLBUILDCHECKBUILD BIN
nebbiolo2Linux (Ubuntu 20.04.3 LTS) / x86_64
0016
0016
00313
tokay2Windows Server 2012 R2 Standard / x64
0015
0015
02211
0015
machv2macOS 10.14.6 Mojave / x86_64
0016
0016
01213
0016
Package 1/16HostnameOS / ArchINSTALLBUILDCHECKBUILD BIN
adductomicsR 1.10.0  (landing page)
Josie Hayes
git_last_commit: 0caebfa
git_last_commit_date: 2021-10-26 12:49:07 -0500
nebbiolo2Linux (Ubuntu 20.04.3 LTS) / x86_64  OK    OK    WARNINGS  UNNEEDED, same version is already published
tokay2Windows Server 2012 R2 Standard / x64  OK    OK    WARNINGS    OK  UNNEEDED, same version is already published
machv2macOS 10.14.6 Mojave / x86_64  OK    OK    WARNINGS    OK  UNNEEDED, same version is already published
Package 2/16HostnameOS / ArchINSTALLBUILDCHECKBUILD BIN
BloodGen3Module 1.2.0  (landing page)
Darawan Rinchai
git_last_commit: 0a233b6
git_last_commit_date: 2021-10-26 13:10:03 -0500
nebbiolo2Linux (Ubuntu 20.04.3 LTS) / x86_64  OK    OK    WARNINGS  UNNEEDED, same version is already published
tokay2Windows Server 2012 R2 Standard / x64  OK    OK    WARNINGS    OK  UNNEEDED, same version is already published
machv2macOS 10.14.6 Mojave / x86_64  OK    OK    WARNINGS    OK  UNNEEDED, same version is already published
Package 3/16HostnameOS / ArchINSTALLBUILDCHECKBUILD BIN
DMRcate 2.8.0  (landing page)
Tim Peters
git_last_commit: 984cee7
git_last_commit_date: 2021-10-26 12:12:00 -0500
nebbiolo2Linux (Ubuntu 20.04.3 LTS) / x86_64  OK    OK    WARNINGS  UNNEEDED, same version is already published
tokay2Windows Server 2012 R2 Standard / x64  OK    OK    ERROR    OK  
machv2macOS 10.14.6 Mojave / x86_64  OK    OK    ERROR    OK  
Package 4/16HostnameOS / ArchINSTALLBUILDCHECKBUILD BIN
ENmix 1.30.0  (landing page)
Zongli Xu
git_last_commit: 2b8095d
git_last_commit_date: 2021-10-26 12:20:15 -0500
nebbiolo2Linux (Ubuntu 20.04.3 LTS) / x86_64  OK    OK    OK  UNNEEDED, same version is already published
tokay2Windows Server 2012 R2 Standard / x64  OK    OK    OK    OK  UNNEEDED, same version is already published
machv2macOS 10.14.6 Mojave / x86_64  OK    OK    OK    OK  UNNEEDED, same version is already published
Package 5/16HostnameOS / ArchINSTALLBUILDCHECKBUILD BIN
EWCE 1.2.0  (landing page)
Alan Murphy
git_last_commit: 1ec3e6d
git_last_commit_date: 2021-10-26 13:08:44 -0500
nebbiolo2Linux (Ubuntu 20.04.3 LTS) / x86_64  OK    OK    OK  UNNEEDED, same version is already published
tokay2Windows Server 2012 R2 Standard / x64  OK    OK    OK    OK  UNNEEDED, same version is already published
machv2macOS 10.14.6 Mojave / x86_64  OK    OK    OK    OK  UNNEEDED, same version is already published
Package 6/16HostnameOS / ArchINSTALLBUILDCHECKBUILD BIN
ExperimentHubData 1.20.0  (landing page)
Bioconductor Package Maintainer
git_last_commit: d35f2ef
git_last_commit_date: 2021-10-26 12:25:54 -0500
nebbiolo2Linux (Ubuntu 20.04.3 LTS) / x86_64  OK    OK    OK  UNNEEDED, same version is already published
tokay2Windows Server 2012 R2 Standard / x64  OK    OK    OK    OK  UNNEEDED, same version is already published
machv2macOS 10.14.6 Mojave / x86_64  OK    OK    OK    OK  UNNEEDED, same version is already published
Package 7/16HostnameOS / ArchINSTALLBUILDCHECKBUILD BIN
GSEABenchmarkeR 1.14.0  (landing page)
Ludwig Geistlinger
git_last_commit: e2d1e39
git_last_commit_date: 2021-10-26 12:43:02 -0500
nebbiolo2Linux (Ubuntu 20.04.3 LTS) / x86_64  OK    OK    OK  UNNEEDED, same version is already published
tokay2Windows Server 2012 R2 Standard / x64  OK    OK    OK    OK  UNNEEDED, same version is already published
machv2macOS 10.14.6 Mojave / x86_64  OK    OK    OK    OK  UNNEEDED, same version is already published
Package 8/16HostnameOS / ArchINSTALLBUILDCHECKBUILD BIN
LRcell 1.2.0  (landing page)
Wenjing Ma
git_last_commit: 37fee9c
git_last_commit_date: 2021-10-26 13:08:23 -0500
nebbiolo2Linux (Ubuntu 20.04.3 LTS) / x86_64  OK    OK    OK  UNNEEDED, same version is already published
tokay2Windows Server 2012 R2 Standard / x64  OK    OK    OK    OK  UNNEEDED, same version is already published
machv2macOS 10.14.6 Mojave / x86_64  OK    OK    OK    OK  UNNEEDED, same version is already published
Package 9/16HostnameOS / ArchINSTALLBUILDCHECKBUILD BIN
m6Aboost 1.0.0  (landing page)
You Zhou
git_last_commit: 07140d0
git_last_commit_date: 2021-10-26 13:10:46 -0500
nebbiolo2Linux (Ubuntu 20.04.3 LTS) / x86_64  OK    OK    OK  UNNEEDED, same version is already published
tokay2Windows Server 2012 R2 Standard / x64  OK    OK    OK    OK  UNNEEDED, same version is already published
machv2macOS 10.14.6 Mojave / x86_64  OK    OK    OK    OK  UNNEEDED, same version is already published
Package 10/16HostnameOS / ArchINSTALLBUILDCHECKBUILD BIN
MACSr 1.2.0  (landing page)
Qiang Hu
git_last_commit: 78f9ee1
git_last_commit_date: 2021-10-26 13:06:52 -0500
nebbiolo2Linux (Ubuntu 20.04.3 LTS) / x86_64  OK    OK    OK  UNNEEDED, same version is already published
tokay2Windows Server 2012 R2 Standard / x64... NOT SUPPORTED ...
machv2macOS 10.14.6 Mojave / x86_64  OK    OK    OK    OK  UNNEEDED, same version is already published
Package 11/16HostnameOS / ArchINSTALLBUILDCHECKBUILD BIN
methylclock 1.0.1  (landing page)
Dolors Pelegri-Siso
git_last_commit: 4e5ab20
git_last_commit_date: 2021-11-21 07:32:42 -0500
nebbiolo2Linux (Ubuntu 20.04.3 LTS) / x86_64  OK    OK    OK  YES
tokay2Windows Server 2012 R2 Standard / x64  OK    OK    OK    OK  YES
machv2macOS 10.14.6 Mojave / x86_64  OK    OK    OK    OK  YES
Package 12/16HostnameOS / ArchINSTALLBUILDCHECKBUILD BIN
PhyloProfile 1.8.0  (landing page)
Vinh Tran
git_last_commit: d625dd1
git_last_commit_date: 2021-10-26 12:53:22 -0500
nebbiolo2Linux (Ubuntu 20.04.3 LTS) / x86_64  OK    OK    OK  UNNEEDED, same version is already published
tokay2Windows Server 2012 R2 Standard / x64  OK    OK    OK    OK  UNNEEDED, same version is already published
machv2macOS 10.14.6 Mojave / x86_64  OK    OK    OK    OK  UNNEEDED, same version is already published
Package 13/16HostnameOS / ArchINSTALLBUILDCHECKBUILD BIN
restfulSE 1.16.0  (landing page)
Shweta Gopaulakrishnan
git_last_commit: 61a70ed
git_last_commit_date: 2021-10-26 12:38:23 -0500
nebbiolo2Linux (Ubuntu 20.04.3 LTS) / x86_64  OK    OK    OK  UNNEEDED, same version is already published
tokay2Windows Server 2012 R2 Standard / x64  OK    OK    OK    OK  UNNEEDED, same version is already published
machv2macOS 10.14.6 Mojave / x86_64  OK    OK    OK    OK  UNNEEDED, same version is already published
Package 14/16HostnameOS / ArchINSTALLBUILDCHECKBUILD BIN
SeqSQC 1.16.0  (landing page)
Qian Liu
git_last_commit: 82e840a
git_last_commit_date: 2021-10-26 12:39:31 -0500
nebbiolo2Linux (Ubuntu 20.04.3 LTS) / x86_64  OK    OK    OK  UNNEEDED, same version is already published
tokay2Windows Server 2012 R2 Standard / x64  OK    OK    OK    OK  UNNEEDED, same version is already published
machv2macOS 10.14.6 Mojave / x86_64  OK    OK    OK    OK  UNNEEDED, same version is already published
Package 15/16HostnameOS / ArchINSTALLBUILDCHECKBUILD BIN
signatureSearch 1.8.0  (landing page)
Yuzhu Duan
git_last_commit: fe9b931
git_last_commit_date: 2021-10-26 12:56:06 -0500
nebbiolo2Linux (Ubuntu 20.04.3 LTS) / x86_64  OK    OK    OK  UNNEEDED, same version is already published
tokay2Windows Server 2012 R2 Standard / x64  OK    OK    OK    OK  UNNEEDED, same version is already published
machv2macOS 10.14.6 Mojave / x86_64  OK    OK    OK    OK  UNNEEDED, same version is already published
Package 16/16HostnameOS / ArchINSTALLBUILDCHECKBUILD BIN
singleCellTK 2.4.0  (landing page)
Yichen Wang
git_last_commit: 91f98fc
git_last_commit_date: 2021-10-27 11:24:49 -0500
nebbiolo2Linux (Ubuntu 20.04.3 LTS) / x86_64  OK    OK    OK  UNNEEDED, same version is already published
tokay2Windows Server 2012 R2 Standard / x64  OK    OK    ERROR    OK  
machv2macOS 10.14.6 Mojave / x86_64  OK    OK    OK    OK  UNNEEDED, same version is already published