Back to Multiple platform build/check report for BioC 3.14
ABCD[E]FGHIJKLMNOPQRSTUVWXYZ

This page was generated on 2021-11-24 15:06:01 -0500 (Wed, 24 Nov 2021).

BUILD results for ExiMiR on machv2

To the developers/maintainers of the ExiMiR package:
- Please allow up to 24 hours (and sometimes 48 hours) for your latest push to git@git.bioconductor.org:packages/ExiMiR.git to
reflect on this report. See How and When does the builder pull? When will my changes propagate? here for more information.
- Make sure to use the following settings in order to reproduce any error or warning you see on this page.

raw results

Package 612/2083HostnameOS / ArchINSTALLBUILDCHECKBUILD BIN
ExiMiR 2.36.0  (landing page)
Sylvain Gubian
Snapshot Date: 2021-11-23 04:15:06 -0500 (Tue, 23 Nov 2021)
git_url: https://git.bioconductor.org/packages/ExiMiR
git_branch: RELEASE_3_14
git_last_commit: 0b40a1f
git_last_commit_date: 2021-10-26 11:58:00 -0500 (Tue, 26 Oct 2021)
nebbiolo2Linux (Ubuntu 20.04.3 LTS) / x86_64  OK    OK    OK  UNNEEDED, same version is already published
tokay2Windows Server 2012 R2 Standard / x64  OK    OK    OK    OK  UNNEEDED, same version is already published
machv2macOS 10.14.6 Mojave / x86_64  OK    OK    OK    OK  UNNEEDED, same version is already published

Summary

Package: ExiMiR
Version: 2.36.0
Command: /Library/Frameworks/R.framework/Resources/bin/R CMD build --keep-empty-dirs --no-resave-data ExiMiR
StartedAt: 2021-11-23 09:03:47 -0500 (Tue, 23 Nov 2021)
EndedAt: 2021-11-23 09:05:38 -0500 (Tue, 23 Nov 2021)
EllapsedTime: 111.0 seconds
RetCode: 0
Status:   OK  
PackageFile: ExiMiR_2.36.0.tar.gz
PackageFileSize: 1.335 MiB

Command output

##############################################################################
##############################################################################
###
### Running command:
###
###   /Library/Frameworks/R.framework/Resources/bin/R CMD build --keep-empty-dirs --no-resave-data ExiMiR
###
##############################################################################
##############################################################################


* checking for file ‘ExiMiR/DESCRIPTION’ ... OK
* preparing ‘ExiMiR’:
* checking DESCRIPTION meta-information ... OK
* installing the package to build vignettes
* creating vignettes ... OK
* checking for LF line-endings in source and make files and shell scripts
* checking for empty or unneeded directories
* looking to see if a ‘data/datalist’ file should be added
* building ‘ExiMiR_2.36.0.tar.gz’