Back to Multiple platform build/check report for BioC 3.14
ABCD[E]FGHIJKLMNOPQRSTUVWXYZ

This page was generated on 2021-11-29 15:04:54 -0500 (Mon, 29 Nov 2021).

BUILD results for EpiTxDb on nebbiolo2

To the developers/maintainers of the EpiTxDb package:
- Please allow up to 24 hours (and sometimes 48 hours) for your latest push to git@git.bioconductor.org:packages/EpiTxDb.git to
reflect on this report. See How and When does the builder pull? When will my changes propagate? here for more information.
- Make sure to use the following settings in order to reproduce any error or warning you see on this page.

raw results

Package 595/2083HostnameOS / ArchINSTALLBUILDCHECKBUILD BIN
EpiTxDb 1.6.0  (landing page)
Felix G.M. Ernst
Snapshot Date: 2021-11-28 04:15:06 -0500 (Sun, 28 Nov 2021)
git_url: https://git.bioconductor.org/packages/EpiTxDb
git_branch: RELEASE_3_14
git_last_commit: 18f60f3
git_last_commit_date: 2021-10-26 12:58:00 -0500 (Tue, 26 Oct 2021)
nebbiolo2Linux (Ubuntu 20.04.3 LTS) / x86_64  OK    OK    OK  UNNEEDED, same version is already published
tokay2Windows Server 2012 R2 Standard / x64  OK    OK    OK    OK  UNNEEDED, same version is already published
machv2macOS 10.14.6 Mojave / x86_64  OK    OK    OK    OK  UNNEEDED, same version is already published

Summary

Package: EpiTxDb
Version: 1.6.0
Command: /home/biocbuild/bbs-3.14-bioc/R/bin/R CMD build --keep-empty-dirs --no-resave-data EpiTxDb
StartedAt: 2021-11-28 06:17:46 -0500 (Sun, 28 Nov 2021)
EndedAt: 2021-11-28 06:20:49 -0500 (Sun, 28 Nov 2021)
EllapsedTime: 183.1 seconds
RetCode: 0
Status:   OK  
PackageFile: EpiTxDb_1.6.0.tar.gz
PackageFileSize: 740.9 KiB

Command output

##############################################################################
##############################################################################
###
### Running command:
###
###   /home/biocbuild/bbs-3.14-bioc/R/bin/R CMD build --keep-empty-dirs --no-resave-data EpiTxDb
###
##############################################################################
##############################################################################


* checking for file ‘EpiTxDb/DESCRIPTION’ ... OK
* preparing ‘EpiTxDb’:
* checking DESCRIPTION meta-information ... OK
* installing the package to build vignettes
* creating vignettes ... OK
* checking for LF line-endings in source and make files and shell scripts
* checking for empty or unneeded directories
* looking to see if a ‘data/datalist’ file should be added
* building ‘EpiTxDb_1.6.0.tar.gz’