Back to Multiple platform build/check report for BioC 3.14
ABCD[E]FGHIJKLMNOPQRSTUVWXYZ

This page was generated on 2021-12-03 13:05:45 -0500 (Fri, 03 Dec 2021).

CHECK results for EnrichmentBrowser on machv2

To the developers/maintainers of the EnrichmentBrowser package:
- Please allow up to 24 hours (and sometimes 48 hours) for your latest push to git@git.bioconductor.org:packages/EnrichmentBrowser.git to
reflect on this report. See How and When does the builder pull? When will my changes propagate? here for more information.
- Make sure to use the following settings in order to reproduce any error or warning you see on this page.

raw results

Package 581/2083HostnameOS / ArchINSTALLBUILDCHECKBUILD BIN
EnrichmentBrowser 2.24.0  (landing page)
Ludwig Geistlinger
Snapshot Date: 2021-12-02 01:55:06 -0500 (Thu, 02 Dec 2021)
git_url: https://git.bioconductor.org/packages/EnrichmentBrowser
git_branch: RELEASE_3_14
git_last_commit: c4d8fa3
git_last_commit_date: 2021-10-26 12:15:55 -0500 (Tue, 26 Oct 2021)
nebbiolo2Linux (Ubuntu 20.04.3 LTS) / x86_64  OK    OK    OK  UNNEEDED, same version is already published
tokay2Windows Server 2012 R2 Standard / x64  OK    OK    OK    OK  UNNEEDED, same version is already published
machv2macOS 10.14.6 Mojave / x86_64  OK    OK    OK    OK  UNNEEDED, same version is already published

Summary

Package: EnrichmentBrowser
Version: 2.24.0
Command: /Library/Frameworks/R.framework/Resources/bin/R CMD check --install=check:EnrichmentBrowser.install-out.txt --library=/Library/Frameworks/R.framework/Resources/library --no-vignettes --timings EnrichmentBrowser_2.24.0.tar.gz
StartedAt: 2021-12-02 14:07:15 -0500 (Thu, 02 Dec 2021)
EndedAt: 2021-12-02 14:15:28 -0500 (Thu, 02 Dec 2021)
EllapsedTime: 493.1 seconds
RetCode: 0
Status:   OK  
CheckDir: EnrichmentBrowser.Rcheck
Warnings: 0

Command output

##############################################################################
##############################################################################
###
### Running command:
###
###   /Library/Frameworks/R.framework/Resources/bin/R CMD check --install=check:EnrichmentBrowser.install-out.txt --library=/Library/Frameworks/R.framework/Resources/library --no-vignettes --timings EnrichmentBrowser_2.24.0.tar.gz
###
##############################################################################
##############################################################################


* using log directory ‘/Users/biocbuild/bbs-3.14-bioc/meat/EnrichmentBrowser.Rcheck’
* using R version 4.1.2 (2021-11-01)
* using platform: x86_64-apple-darwin17.0 (64-bit)
* using session charset: UTF-8
* using option ‘--no-vignettes’
* checking for file ‘EnrichmentBrowser/DESCRIPTION’ ... OK
* this is package ‘EnrichmentBrowser’ version ‘2.24.0’
* package encoding: UTF-8
* checking package namespace information ... OK
* checking package dependencies ... OK
* checking if this is a source package ... OK
* checking if there is a namespace ... OK
* checking for hidden files and directories ... OK
* checking for portable file names ... OK
* checking for sufficient/correct file permissions ... OK
* checking whether package ‘EnrichmentBrowser’ can be installed ... OK
* checking installed package size ... OK
* checking package directory ... OK
* checking ‘build’ directory ... OK
* checking DESCRIPTION meta-information ... OK
* checking top-level files ... OK
* checking for left-over files ... OK
* checking index information ... OK
* checking package subdirectories ... OK
* checking R files for non-ASCII characters ... OK
* checking R files for syntax errors ... OK
* checking whether the package can be loaded ... OK
* checking whether the package can be loaded with stated dependencies ... OK
* checking whether the package can be unloaded cleanly ... OK
* checking whether the namespace can be loaded with stated dependencies ... OK
* checking whether the namespace can be unloaded cleanly ... OK
* checking dependencies in R code ... NOTE
Unexported object imported by a ':::' call: 'pathview:::parseKGML2Graph2'
  See the note in ?`:::` about the use of this operator.
* checking S3 generic/method consistency ... OK
* checking replacement functions ... OK
* checking foreign function calls ... OK
* checking R code for possible problems ... NOTE
.getGOFromBiomart: no visible binding for global variable
  ‘go_linkage_type’
Undefined global functions or variables:
  go_linkage_type
* checking Rd files ... OK
* checking Rd metadata ... OK
* checking Rd cross-references ... OK
* checking for missing documentation entries ... OK
* checking for code/documentation mismatches ... OK
* checking Rd \usage sections ... OK
* checking Rd contents ... OK
* checking for unstated dependencies in examples ... OK
* checking sizes of PDF files under ‘inst/doc’ ... OK
* checking files in ‘vignettes’ ... OK
* checking examples ... OK
Examples with CPU (user + system) or elapsed time > 5s
               user system elapsed
ebrowser    104.394 32.951 137.512
getGenesets  22.953  0.580  27.643
eaBrowse     12.204  0.936  13.173
deAna         9.588  0.254   9.852
import        9.321  0.123   9.456
compileGRN    6.008  0.396   6.413
* checking for unstated dependencies in vignettes ... OK
* checking package vignettes in ‘inst/doc’ ... OK
* checking running R code from vignettes ... SKIPPED
* checking re-building of vignette outputs ... SKIPPED
* checking PDF version of manual ... OK
* DONE

Status: 2 NOTEs
See
  ‘/Users/biocbuild/bbs-3.14-bioc/meat/EnrichmentBrowser.Rcheck/00check.log’
for details.



Installation output

EnrichmentBrowser.Rcheck/00install.out

##############################################################################
##############################################################################
###
### Running command:
###
###   /Library/Frameworks/R.framework/Resources/bin/R CMD INSTALL EnrichmentBrowser
###
##############################################################################
##############################################################################


* installing to library ‘/Library/Frameworks/R.framework/Versions/4.1/Resources/library’
* installing *source* package ‘EnrichmentBrowser’ ...
** using staged installation
** R
** inst
** byte-compile and prepare package for lazy loading
** help
*** installing help indices
** building package indices
** installing vignettes
** testing if installed package can be loaded from temporary location
** testing if installed package can be loaded from final location
** testing if installed package keeps a record of temporary installation path
* DONE (EnrichmentBrowser)

Tests output


Example timings

EnrichmentBrowser.Rcheck/EnrichmentBrowser-Ex.timings

nameusersystemelapsed
combResults0.8470.0160.866
compileGRN6.0080.3966.413
configEBrowser0.0010.0000.001
deAna9.5880.2549.852
downloadPathways000
eaBrowse12.204 0.93613.173
ebrowser104.394 32.951137.512
getGenesets22.953 0.58027.643
ggeaGraph3.6260.0643.695
idMap1.4670.1401.607
import9.3210.1239.456
isAvailable0.0000.0010.000
makeExampleData0.0560.0000.056
nbea0.4710.0180.488
normalize0.760.030.79
plots2.1740.1012.279
probe2gene0.2040.0050.210
readSE0.0960.0040.101
sbea0.5500.0040.555