Back to Multiple platform build/check report for BioC 3.14
ABCD[E]FGHIJKLMNOPQRSTUVWXYZ

This page was generated on 2021-11-24 15:06:01 -0500 (Wed, 24 Nov 2021).

BUILD results for EnrichmentBrowser on machv2

To the developers/maintainers of the EnrichmentBrowser package:
- Please allow up to 24 hours (and sometimes 48 hours) for your latest push to git@git.bioconductor.org:packages/EnrichmentBrowser.git to
reflect on this report. See How and When does the builder pull? When will my changes propagate? here for more information.
- Make sure to use the following settings in order to reproduce any error or warning you see on this page.

raw results

Package 581/2083HostnameOS / ArchINSTALLBUILDCHECKBUILD BIN
EnrichmentBrowser 2.24.0  (landing page)
Ludwig Geistlinger
Snapshot Date: 2021-11-23 04:15:06 -0500 (Tue, 23 Nov 2021)
git_url: https://git.bioconductor.org/packages/EnrichmentBrowser
git_branch: RELEASE_3_14
git_last_commit: c4d8fa3
git_last_commit_date: 2021-10-26 12:15:55 -0500 (Tue, 26 Oct 2021)
nebbiolo2Linux (Ubuntu 20.04.3 LTS) / x86_64  OK    OK    OK  UNNEEDED, same version is already published
tokay2Windows Server 2012 R2 Standard / x64  OK    OK    OK    OK  UNNEEDED, same version is already published
machv2macOS 10.14.6 Mojave / x86_64  OK    OK    OK    OK  UNNEEDED, same version is already published

Summary

Package: EnrichmentBrowser
Version: 2.24.0
Command: /Library/Frameworks/R.framework/Resources/bin/R CMD build --keep-empty-dirs --no-resave-data EnrichmentBrowser
StartedAt: 2021-11-23 08:57:40 -0500 (Tue, 23 Nov 2021)
EndedAt: 2021-11-23 09:00:37 -0500 (Tue, 23 Nov 2021)
EllapsedTime: 176.9 seconds
RetCode: 0
Status:   OK  
PackageFile: EnrichmentBrowser_2.24.0.tar.gz
PackageFileSize: 1.914 MiB

Command output

##############################################################################
##############################################################################
###
### Running command:
###
###   /Library/Frameworks/R.framework/Resources/bin/R CMD build --keep-empty-dirs --no-resave-data EnrichmentBrowser
###
##############################################################################
##############################################################################


* checking for file ‘EnrichmentBrowser/DESCRIPTION’ ... OK
* preparing ‘EnrichmentBrowser’:
* checking DESCRIPTION meta-information ... OK
* installing the package to build vignettes
* creating vignettes ... OK
* checking for LF line-endings in source and make files and shell scripts
* checking for empty or unneeded directories
* building ‘EnrichmentBrowser_2.24.0.tar.gz’