Back to Multiple platform build/check report for BioC 3.14
ABCD[E]FGHIJKLMNOPQRSTUVWXYZ

This page was generated on 2022-01-21 13:06:16 -0500 (Fri, 21 Jan 2022).

HostnameOSArch (*)R versionInstalled pkgs
nebbiolo2Linux (Ubuntu 20.04.4 LTS)x86_644.1.2 (2021-11-01) -- "Bird Hippie" 4329
tokay2Windows Server 2012 R2 Standardx644.1.2 (2021-11-01) -- "Bird Hippie" 4079
machv2macOS 10.14.6 Mojavex86_644.1.2 (2021-11-01) -- "Bird Hippie" 4140
Click on any hostname to see more info about the system (e.g. compilers)      (*) as reported by 'uname -p', except on Windows and Mac OS X

BUILD BIN results for EGSEA on tokay2


To the developers/maintainers of the EGSEA package:
- Please allow up to 24 hours (and sometimes 48 hours) for your latest push to git@git.bioconductor.org:packages/EGSEA.git to
reflect on this report. See How and When does the builder pull? When will my changes propagate? here for more information.
- Make sure to use the following settings in order to reproduce any error or warning you see on this page.

raw results

Package 569/2083HostnameOS / ArchINSTALLBUILDCHECKBUILD BIN
EGSEA 1.22.0  (landing page)
Monther Alhamdoosh
Snapshot Date: 2022-01-20 01:55:04 -0500 (Thu, 20 Jan 2022)
git_url: https://git.bioconductor.org/packages/EGSEA
git_branch: RELEASE_3_14
git_last_commit: 5a14266
git_last_commit_date: 2021-10-26 12:27:44 -0500 (Tue, 26 Oct 2021)
nebbiolo2Linux (Ubuntu 20.04.4 LTS) / x86_64  OK    OK    WARNINGS  UNNEEDED, same version is already published
tokay2Windows Server 2012 R2 Standard / x64  OK    OK    WARNINGS    OK  UNNEEDED, same version is already published
machv2macOS 10.14.6 Mojave / x86_64  OK    OK    WARNINGS    OK  UNNEEDED, same version is already published

Summary

Package: EGSEA
Version: 1.22.0
Command: rm -rf EGSEA.buildbin-libdir && mkdir EGSEA.buildbin-libdir && C:\Users\biocbuild\bbs-3.14-bioc\R\bin\R.exe CMD INSTALL --merge-multiarch --build --library=EGSEA.buildbin-libdir EGSEA_1.22.0.tar.gz
StartedAt: 2022-01-21 06:03:00 -0500 (Fri, 21 Jan 2022)
EndedAt: 2022-01-21 06:04:29 -0500 (Fri, 21 Jan 2022)
EllapsedTime: 89.4 seconds
RetCode: 0
Status:   OK  
PackageFile: EGSEA_1.22.0.zip
PackageFileSize: 2.305 MiB

Command output

##############################################################################
##############################################################################
###
### Running command:
###
###   rm -rf EGSEA.buildbin-libdir && mkdir EGSEA.buildbin-libdir && C:\Users\biocbuild\bbs-3.14-bioc\R\bin\R.exe CMD INSTALL --merge-multiarch --build --library=EGSEA.buildbin-libdir EGSEA_1.22.0.tar.gz
###
##############################################################################
##############################################################################



install for i386

* installing *source* package 'EGSEA' ...
** using staged installation
** R
** data
** inst
** byte-compile and prepare package for lazy loading

groupGOTerms: 	GOBPTerm, GOMFTerm, GOCCTerm environments built.
** help
*** installing help indices
  converting help for package 'EGSEA'
    finding HTML links ... done
    EGSEA-package                           html  
    EGSEAResults-methods                    html  
    GSCollectionIndex-methods               html  
    egsea-aux                               html  
    egsea-index                             html  
    egsea-main                              html  
REDIRECT:topic	 Previous alias or file overwritten by alias: C:/Users/biocbuild/bbs-3.14-bioc/meat/EGSEA.buildbin-libdir/00LOCK-EGSEA/00new/EGSEA/help/egsea.html
** building package indices
** installing vignettes
** testing if installed package can be loaded from temporary location

groupGOTerms: 	GOBPTerm, GOMFTerm, GOCCTerm environments built.
** testing if installed package can be loaded from final location

groupGOTerms: 	GOBPTerm, GOMFTerm, GOCCTerm environments built.
** testing if installed package keeps a record of temporary installation path

install for x64

* installing *source* package 'EGSEA' ...
** testing if installed package can be loaded

groupGOTerms: 	GOBPTerm, GOMFTerm, GOCCTerm environments built.
* MD5 sums
packaged installation of 'EGSEA' as EGSEA_1.22.0.zip
* DONE (EGSEA)