Back to Multiple platform build/check report for BioC 3.14
ABCD[E]FGHIJKLMNOPQRSTUVWXYZ

This page was generated on 2021-12-03 13:04:47 -0500 (Fri, 03 Dec 2021).

BUILD results for EGAD on nebbiolo2

To the developers/maintainers of the EGAD package:
- Please allow up to 24 hours (and sometimes 48 hours) for your latest push to git@git.bioconductor.org:packages/EGAD.git to
reflect on this report. See How and When does the builder pull? When will my changes propagate? here for more information.
- Make sure to use the following settings in order to reproduce any error or warning you see on this page.

raw results

Package 568/2083HostnameOS / ArchINSTALLBUILDCHECKBUILD BIN
EGAD 1.22.0  (landing page)
Sara Ballouz
Snapshot Date: 2021-12-02 01:55:06 -0500 (Thu, 02 Dec 2021)
git_url: https://git.bioconductor.org/packages/EGAD
git_branch: RELEASE_3_14
git_last_commit: dc2b9cc
git_last_commit_date: 2021-10-26 12:27:52 -0500 (Tue, 26 Oct 2021)
nebbiolo2Linux (Ubuntu 20.04.3 LTS) / x86_64  OK    OK    WARNINGS  UNNEEDED, same version is already published
tokay2Windows Server 2012 R2 Standard / x64  OK    OK    WARNINGS    OK  UNNEEDED, same version is already published
machv2macOS 10.14.6 Mojave / x86_64  OK    OK    WARNINGS    OK  UNNEEDED, same version is already published

Summary

Package: EGAD
Version: 1.22.0
Command: /home/biocbuild/bbs-3.14-bioc/R/bin/R CMD build --keep-empty-dirs --no-resave-data EGAD
StartedAt: 2021-12-02 04:19:25 -0500 (Thu, 02 Dec 2021)
EndedAt: 2021-12-02 04:19:27 -0500 (Thu, 02 Dec 2021)
EllapsedTime: 1.5 seconds
RetCode: 0
Status:   OK  
PackageFile: EGAD_1.22.0.tar.gz
PackageFileSize: 14.57 MiB

Command output

##############################################################################
##############################################################################
###
### Running command:
###
###   /home/biocbuild/bbs-3.14-bioc/R/bin/R CMD build --keep-empty-dirs --no-resave-data EGAD
###
##############################################################################
##############################################################################


* checking for file ‘EGAD/DESCRIPTION’ ... OK
* preparing ‘EGAD’:
* checking DESCRIPTION meta-information ... OK
* checking for LF line-endings in source and make files and shell scripts
* checking for empty or unneeded directories
* building ‘EGAD_1.22.0.tar.gz’