Back to Multiple platform build/check report for BioC 3.14
ABC[D]EFGHIJKLMNOPQRSTUVWXYZ

This page was generated on 2022-01-21 13:07:41 -0500 (Fri, 21 Jan 2022).

HostnameOSArch (*)R versionInstalled pkgs
nebbiolo2Linux (Ubuntu 20.04.4 LTS)x86_644.1.2 (2021-11-01) -- "Bird Hippie" 4329
tokay2Windows Server 2012 R2 Standardx644.1.2 (2021-11-01) -- "Bird Hippie" 4079
machv2macOS 10.14.6 Mojavex86_644.1.2 (2021-11-01) -- "Bird Hippie" 4140
Click on any hostname to see more info about the system (e.g. compilers)      (*) as reported by 'uname -p', except on Windows and Mac OS X

CHECK results for Dune on machv2


To the developers/maintainers of the Dune package:
- Please allow up to 24 hours (and sometimes 48 hours) for your latest push to git@git.bioconductor.org:packages/Dune.git to
reflect on this report. See How and When does the builder pull? When will my changes propagate? here for more information.
- Make sure to use the following settings in order to reproduce any error or warning you see on this page.

raw results

Package 550/2083HostnameOS / ArchINSTALLBUILDCHECKBUILD BIN
Dune 1.6.0  (landing page)
Hector Roux de Bezieux
Snapshot Date: 2022-01-20 01:55:04 -0500 (Thu, 20 Jan 2022)
git_url: https://git.bioconductor.org/packages/Dune
git_branch: RELEASE_3_14
git_last_commit: e79ce4b
git_last_commit_date: 2021-10-26 12:58:07 -0500 (Tue, 26 Oct 2021)
nebbiolo2Linux (Ubuntu 20.04.4 LTS) / x86_64  OK    OK    OK  UNNEEDED, same version is already published
tokay2Windows Server 2012 R2 Standard / x64  OK    OK    OK    OK  UNNEEDED, same version is already published
machv2macOS 10.14.6 Mojave / x86_64  OK    OK    OK    OK  UNNEEDED, same version is already published

Summary

Package: Dune
Version: 1.6.0
Command: /Library/Frameworks/R.framework/Resources/bin/R CMD check --install=check:Dune.install-out.txt --library=/Library/Frameworks/R.framework/Resources/library --no-vignettes --timings Dune_1.6.0.tar.gz
StartedAt: 2022-01-20 12:30:02 -0500 (Thu, 20 Jan 2022)
EndedAt: 2022-01-20 12:37:34 -0500 (Thu, 20 Jan 2022)
EllapsedTime: 452.1 seconds
RetCode: 0
Status:   OK  
CheckDir: Dune.Rcheck
Warnings: 0

Command output

##############################################################################
##############################################################################
###
### Running command:
###
###   /Library/Frameworks/R.framework/Resources/bin/R CMD check --install=check:Dune.install-out.txt --library=/Library/Frameworks/R.framework/Resources/library --no-vignettes --timings Dune_1.6.0.tar.gz
###
##############################################################################
##############################################################################


* using log directory ‘/Users/biocbuild/bbs-3.14-bioc/meat/Dune.Rcheck’
* using R version 4.1.2 (2021-11-01)
* using platform: x86_64-apple-darwin17.0 (64-bit)
* using session charset: UTF-8
* using option ‘--no-vignettes’
* checking for file ‘Dune/DESCRIPTION’ ... OK
* this is package ‘Dune’ version ‘1.6.0’
* package encoding: UTF-8
* checking package namespace information ... OK
* checking package dependencies ... OK
* checking if this is a source package ... OK
* checking if there is a namespace ... OK
* checking for hidden files and directories ... OK
* checking for portable file names ... OK
* checking for sufficient/correct file permissions ... OK
* checking whether package ‘Dune’ can be installed ... OK
* checking installed package size ... OK
* checking package directory ... OK
* checking ‘build’ directory ... OK
* checking DESCRIPTION meta-information ... OK
* checking top-level files ... OK
* checking for left-over files ... OK
* checking index information ... OK
* checking package subdirectories ... OK
* checking R files for non-ASCII characters ... OK
* checking R files for syntax errors ... OK
* checking whether the package can be loaded ... OK
* checking whether the package can be loaded with stated dependencies ... OK
* checking whether the package can be unloaded cleanly ... OK
* checking whether the namespace can be loaded with stated dependencies ... OK
* checking whether the namespace can be unloaded cleanly ... OK
* checking dependencies in R code ... NOTE
package 'methods' is used but not declared
* checking S3 generic/method consistency ... OK
* checking replacement functions ... OK
* checking foreign function calls ... OK
* checking R code for possible problems ... NOTE
.metricTrend: no visible binding for global variable ‘.’
.metricTrend: no visible binding for global variable ‘step’
.metricTrend: no visible binding for global variable ‘change’
.metricTrend: no visible binding for global variable ‘value’
.plotMetric: no visible binding for global variable ‘label2’
.plotMetric: no visible binding for global variable ‘metric’
.plotMetric: no visible binding for global variable ‘label1’
ARIImp : f: no visible binding for global variable ‘cells’
ConfusionEvolution : <anonymous>: no visible binding for global
  variable ‘Freq’
ConfusionEvolution : <anonymous>: no visible binding for global
  variable ‘total_x’
ConfusionEvolution : <anonymous>: no visible binding for global
  variable ‘total_y’
ConfusionEvolution: no visible binding for global variable ‘overlap’
ConfusionEvolution: no visible binding for global variable ‘Freq’
ConfusionEvolution: no visible binding for global variable ‘step’
ConfusionPlot: no visible binding for global variable ‘Freq’
ConfusionPlot: no visible binding for global variable ‘total_x’
ConfusionPlot: no visible binding for global variable ‘total_y’
ConfusionPlot: no visible binding for global variable ‘overlap’
NMIImp : f: no visible binding for global variable ‘cells’
intermediateMat: no visible binding for global variable ‘cells’
plotPrePost: no visible binding for global variable ‘Nb’
Undefined global functions or variables:
  . Freq Nb cells change label1 label2 metric overlap step total_x
  total_y value
Consider adding
  importFrom("stats", "step")
to your NAMESPACE file.
* checking Rd files ... OK
* checking Rd metadata ... OK
* checking Rd cross-references ... OK
* checking for missing documentation entries ... OK
* checking for code/documentation mismatches ... OK
* checking Rd \usage sections ... OK
* checking Rd contents ... OK
* checking for unstated dependencies in examples ... OK
* checking contents of ‘data’ directory ... OK
* checking data for non-ASCII characters ... OK
* checking LazyData ... OK
* checking data for ASCII and uncompressed saves ... OK
* checking files in ‘vignettes’ ... OK
* checking examples ... OK
Examples with CPU (user + system) or elapsed time > 5s
                    user system elapsed
Dune              13.262  0.021  13.293
ARItrend           8.873  0.025   8.904
plotNMIs           7.775  0.022   7.812
ARIImp             7.649  0.101   7.760
functionTracking   7.574  0.015   7.596
plotPrePost        7.519  0.014   7.540
NMItrend           7.341  0.011   7.360
plotARIs           7.275  0.015   7.297
clusterConversion  7.158  0.019   7.189
intermediateMat    7.078  0.023   7.106
NMIImp             6.997  0.026   7.029
whenToStop         6.459  0.013   6.477
* checking for unstated dependencies in ‘tests’ ... OK
* checking tests ...
  Running ‘testthat.R’
 OK
* checking for unstated dependencies in vignettes ... OK
* checking package vignettes in ‘inst/doc’ ... OK
* checking running R code from vignettes ... SKIPPED
* checking re-building of vignette outputs ... SKIPPED
* checking PDF version of manual ... OK
* DONE

Status: 2 NOTEs
See
  ‘/Users/biocbuild/bbs-3.14-bioc/meat/Dune.Rcheck/00check.log’
for details.



Installation output

Dune.Rcheck/00install.out

##############################################################################
##############################################################################
###
### Running command:
###
###   /Library/Frameworks/R.framework/Resources/bin/R CMD INSTALL Dune
###
##############################################################################
##############################################################################


* installing to library ‘/Library/Frameworks/R.framework/Versions/4.1/Resources/library’
* installing *source* package ‘Dune’ ...
** using staged installation
** R
** data
*** moving datasets to lazyload DB
** inst
** byte-compile and prepare package for lazy loading
** help
*** installing help indices
** building package indices
** installing vignettes
** testing if installed package can be loaded from temporary location
** testing if installed package can be loaded from final location
** testing if installed package keeps a record of temporary installation path
* DONE (Dune)

Tests output

Dune.Rcheck/tests/testthat.Rout


R version 4.1.2 (2021-11-01) -- "Bird Hippie"
Copyright (C) 2021 The R Foundation for Statistical Computing
Platform: x86_64-apple-darwin17.0 (64-bit)

R is free software and comes with ABSOLUTELY NO WARRANTY.
You are welcome to redistribute it under certain conditions.
Type 'license()' or 'licence()' for distribution details.

R is a collaborative project with many contributors.
Type 'contributors()' for more information and
'citation()' on how to cite R or R packages in publications.

Type 'demo()' for some demos, 'help()' for on-line help, or
'help.start()' for an HTML browser interface to help.
Type 'q()' to quit R.

> library(testthat)
> library(Dune)
Dune now uses the Normalized Mutual Informationinstead of the adjusted Rand Index. You can restore the old option bysetting metric'ARI' in the Dune function.
> 
> test_check("Dune")
[ FAIL 0 | WARN 6 | SKIP 0 | PASS 452 ]
> 
> proc.time()
   user  system elapsed 
146.792   1.013 147.956 

Example timings

Dune.Rcheck/Dune-Ex.timings

nameusersystemelapsed
ARIImp7.6490.1017.760
ARIs0.0100.0020.011
ARItrend8.8730.0258.904
ConfusionEvolution0.0000.0000.001
ConfusionPlot0.3170.0020.319
Dune13.262 0.02113.293
NMIImp6.9970.0267.029
NMIs0.0070.0010.008
NMItrend7.3410.0117.360
clusterConversion7.1580.0197.189
functionTracking7.5740.0157.596
intermediateMat7.0780.0237.106
plotARIs7.2750.0157.297
plotNMIs7.7750.0227.812
plotPrePost7.5190.0147.540
whenToStop6.4590.0136.477