Back to Multiple platform build/check report for BioC 3.14
ABC[D]EFGHIJKLMNOPQRSTUVWXYZ

This page was generated on 2022-01-14 13:06:17 -0500 (Fri, 14 Jan 2022).

HostnameOSArch (*)R versionInstalled pkgs
nebbiolo2Linux (Ubuntu 20.04.4 LTS)x86_644.1.2 (2021-11-01) -- "Bird Hippie" 4327
tokay2Windows Server 2012 R2 Standardx644.1.2 (2021-11-01) -- "Bird Hippie" 4076
machv2macOS 10.14.6 Mojavex86_644.1.2 (2021-11-01) -- "Bird Hippie" 4137
Click on any hostname to see more info about the system (e.g. compilers)      (*) as reported by 'uname -p', except on Windows and Mac OS X

INSTALL results for Dino on tokay2


To the developers/maintainers of the Dino package:
- Please allow up to 24 hours (and sometimes 48 hours) for your latest push to git@git.bioconductor.org:packages/Dino.git to
reflect on this report. See How and When does the builder pull? When will my changes propagate? here for more information.
- Make sure to use the following settings in order to reproduce any error or warning you see on this page.

raw results

Package 513/2083HostnameOS / ArchINSTALLBUILDCHECKBUILD BIN
Dino 1.0.0  (landing page)
Jared Brown
Snapshot Date: 2022-01-13 01:55:04 -0500 (Thu, 13 Jan 2022)
git_url: https://git.bioconductor.org/packages/Dino
git_branch: RELEASE_3_14
git_last_commit: 2809674
git_last_commit_date: 2021-10-26 13:11:09 -0500 (Tue, 26 Oct 2021)
nebbiolo2Linux (Ubuntu 20.04.4 LTS) / x86_64  OK    OK    OK  UNNEEDED, same version is already published
tokay2Windows Server 2012 R2 Standard / x64  OK    OK    OK    OK  UNNEEDED, same version is already published
machv2macOS 10.14.6 Mojave / x86_64  OK    OK    OK    OK  UNNEEDED, same version is already published

Summary

Package: Dino
Version: 1.0.0
Command: C:\cygwin\bin\curl.exe -O http://155.52.207.166/BBS/3.14/bioc/src/contrib/Dino_1.0.0.tar.gz && rm -rf Dino.buildbin-libdir && mkdir Dino.buildbin-libdir && C:\Users\biocbuild\bbs-3.14-bioc\R\bin\R.exe CMD INSTALL --merge-multiarch --build --library=Dino.buildbin-libdir Dino_1.0.0.tar.gz && C:\Users\biocbuild\bbs-3.14-bioc\R\bin\R.exe CMD INSTALL Dino_1.0.0.zip && rm Dino_1.0.0.tar.gz Dino_1.0.0.zip
StartedAt: 2022-01-13 06:04:21 -0500 (Thu, 13 Jan 2022)
EndedAt: 2022-01-13 06:05:29 -0500 (Thu, 13 Jan 2022)
EllapsedTime: 67.5 seconds
RetCode: 0
Status:   OK  

Command output

##############################################################################
##############################################################################
###
### Running command:
###
###   C:\cygwin\bin\curl.exe -O http://155.52.207.166/BBS/3.14/bioc/src/contrib/Dino_1.0.0.tar.gz && rm -rf Dino.buildbin-libdir && mkdir Dino.buildbin-libdir && C:\Users\biocbuild\bbs-3.14-bioc\R\bin\R.exe CMD INSTALL --merge-multiarch --build --library=Dino.buildbin-libdir Dino_1.0.0.tar.gz && C:\Users\biocbuild\bbs-3.14-bioc\R\bin\R.exe CMD INSTALL Dino_1.0.0.zip && rm Dino_1.0.0.tar.gz Dino_1.0.0.zip
###
##############################################################################
##############################################################################


  % Total    % Received % Xferd  Average Speed   Time    Time     Time  Current
                                 Dload  Upload   Total   Spent    Left  Speed

  0     0    0     0    0     0      0      0 --:--:-- --:--:-- --:--:--     0
100  320k  100  320k    0     0  1729k      0 --:--:-- --:--:-- --:--:-- 1742k

install for i386

* installing *source* package 'Dino' ...
** using staged installation
** R
** data
** inst
** byte-compile and prepare package for lazy loading
** help
*** installing help indices
  converting help for package 'Dino'
    finding HTML links ... done
    Dino                                    html  
    Dino_SCE                                html  
    SeuratFromDino                          html  
    multimodalDat                           html  
    pbmcSmall                               html  
    unimodalDat                             html  
** building package indices
** installing vignettes
** testing if installed package can be loaded from temporary location
** testing if installed package can be loaded from final location
** testing if installed package keeps a record of temporary installation path

install for x64

* installing *source* package 'Dino' ...
** testing if installed package can be loaded
* MD5 sums
packaged installation of 'Dino' as Dino_1.0.0.zip
* DONE (Dino)
* installing to library 'C:/Users/biocbuild/bbs-3.14-bioc/R/library'
package 'Dino' successfully unpacked and MD5 sums checked