Back to Multiple platform build/check report for BioC 3.14
ABC[D]EFGHIJKLMNOPQRSTUVWXYZ

This page was generated on 2021-12-03 13:04:47 -0500 (Fri, 03 Dec 2021).

BUILD results for Dino on nebbiolo2

To the developers/maintainers of the Dino package:
- Please allow up to 24 hours (and sometimes 48 hours) for your latest push to git@git.bioconductor.org:packages/Dino.git to
reflect on this report. See How and When does the builder pull? When will my changes propagate? here for more information.
- Make sure to use the following settings in order to reproduce any error or warning you see on this page.

raw results

Package 513/2083HostnameOS / ArchINSTALLBUILDCHECKBUILD BIN
Dino 1.0.0  (landing page)
Jared Brown
Snapshot Date: 2021-12-02 01:55:06 -0500 (Thu, 02 Dec 2021)
git_url: https://git.bioconductor.org/packages/Dino
git_branch: RELEASE_3_14
git_last_commit: 2809674
git_last_commit_date: 2021-10-26 13:11:09 -0500 (Tue, 26 Oct 2021)
nebbiolo2Linux (Ubuntu 20.04.3 LTS) / x86_64  OK    OK    OK  UNNEEDED, same version is already published
tokay2Windows Server 2012 R2 Standard / x64  OK    OK    OK    OK  UNNEEDED, same version is already published
machv2macOS 10.14.6 Mojave / x86_64  OK    OK    OK    OK  UNNEEDED, same version is already published

Summary

Package: Dino
Version: 1.0.0
Command: /home/biocbuild/bbs-3.14-bioc/R/bin/R CMD build --keep-empty-dirs --no-resave-data Dino
StartedAt: 2021-12-02 04:16:42 -0500 (Thu, 02 Dec 2021)
EndedAt: 2021-12-02 04:18:06 -0500 (Thu, 02 Dec 2021)
EllapsedTime: 83.6 seconds
RetCode: 0
Status:   OK  
PackageFile: Dino_1.0.0.tar.gz
PackageFileSize: 1.269 MiB

Command output

##############################################################################
##############################################################################
###
### Running command:
###
###   /home/biocbuild/bbs-3.14-bioc/R/bin/R CMD build --keep-empty-dirs --no-resave-data Dino
###
##############################################################################
##############################################################################


* checking for file ‘Dino/DESCRIPTION’ ... OK
* preparing ‘Dino’:
* checking DESCRIPTION meta-information ... OK
* installing the package to build vignettes
* creating vignettes ... OK
* checking for LF line-endings in source and make files and shell scripts
* checking for empty or unneeded directories
* looking to see if a ‘data/datalist’ file should be added
* building ‘Dino_1.0.0.tar.gz’