Index of /checkResults/3.14/bioc-LATEST/DiffBind/raw-results/tokay2

[ICO]NameLast modifiedSizeDescription

[DIR]Parent Directory  -  
[   ]buildsrc-summary.dcf14-Apr-2022 01:06 463  
[   ]checksrc-summary.dcf14-Apr-2022 01:06 466  
[   ]buildbin-summary.dcf14-Apr-2022 01:06 546  
[   ]install-summary.dcf14-Apr-2022 01:06 650  
[TXT]buildsrc-out.txt14-Apr-2022 01:06 942  
[TXT]checksrc-out.txt14-Apr-2022 01:06 6.5K 
[TXT]buildbin-out.txt14-Apr-2022 01:06 19K 
[TXT]install-out.txt14-Apr-2022 01:06 20K