![]() | Name | Last modified | Size | Description |
---|---|---|---|---|
![]() | Parent Directory | - | ||
![]() | install-out.txt | 14-Apr-2022 01:07 | 9.8K | |
![]() | install-summary.dcf | 14-Apr-2022 01:07 | 272 | |
![]() | buildsrc-out.txt | 14-Apr-2022 01:07 | 913 | |
![]() | buildsrc-summary.dcf | 14-Apr-2022 01:07 | 431 | |
![]() | checksrc-out.txt | 14-Apr-2022 01:07 | 5.2K | |
![]() | checksrc-summary.dcf | 14-Apr-2022 01:07 | 449 | |
![]() | buildbin-out.txt | 14-Apr-2022 01:07 | 11K | |
![]() | buildbin-summary.dcf | 14-Apr-2022 01:07 | 537 | |