Back to Multiple platform build/check report for BioC 3.14
ABC[D]EFGHIJKLMNOPQRSTUVWXYZ

This page was generated on 2021-11-29 15:04:25 -0500 (Mon, 29 Nov 2021).

All results for package DSS

To the developers/maintainers of the DSS package:
- Please allow up to 24 hours (and sometimes 48 hours) for your latest push to git@git.bioconductor.org:packages/DSS.git to
reflect on this report. See How and When does the builder pull? When will my changes propagate? here for more information.
- Make sure to use the following settings in order to reproduce any error or warning you see on this page.

raw results

Package 546/2083HostnameOS / ArchINSTALLBUILDCHECKBUILD BIN
DSS 2.42.0  (landing page)
Hao Wu , Hao Feng
Snapshot Date: 2021-11-28 04:15:06 -0500 (Sun, 28 Nov 2021)
git_url: https://git.bioconductor.org/packages/DSS
git_branch: RELEASE_3_14
git_last_commit: 33e8745
git_last_commit_date: 2021-10-26 12:03:27 -0500 (Tue, 26 Oct 2021)
nebbiolo2Linux (Ubuntu 20.04.3 LTS) / x86_64  OK    OK    WARNINGS  UNNEEDED, same version is already published
tokay2Windows Server 2012 R2 Standard / x64  OK    OK    WARNINGS    OK  UNNEEDED, same version is already published
machv2macOS 10.14.6 Mojave / x86_64  OK    OK    WARNINGS    OK  UNNEEDED, same version is already published

Results for Bioconductor software packages that depend directly on package DSS

QUICK STATSOS / ArchINSTALLBUILDCHECKBUILD BIN
nebbiolo2Linux (Ubuntu 20.04.3 LTS) / x86_64
005
005
0113
tokay2Windows Server 2012 R2 Standard / x64
005
005
0104
005
machv2macOS 10.14.6 Mojave / x86_64
005
005
0203
005
Package 1/5HostnameOS / ArchINSTALLBUILDCHECKBUILD BIN
DMRcate 2.8.0  (landing page)
Tim Peters
git_last_commit: 984cee7
git_last_commit_date: 2021-10-26 12:12:00 -0500
nebbiolo2Linux (Ubuntu 20.04.3 LTS) / x86_64  OK    OK    WARNINGS  UNNEEDED, same version is already published
tokay2Windows Server 2012 R2 Standard / x64  OK    OK    ERROR    OK  
machv2macOS 10.14.6 Mojave / x86_64  OK    OK    ERROR    OK  
Package 2/5HostnameOS / ArchINSTALLBUILDCHECKBUILD BIN
kissDE 1.14.0  (landing page)
Aurélie Siberchicot
git_last_commit: ed7e372
git_last_commit_date: 2021-10-26 12:41:44 -0500
nebbiolo2Linux (Ubuntu 20.04.3 LTS) / x86_64  OK    OK    OK  UNNEEDED, same version is already published
tokay2Windows Server 2012 R2 Standard / x64  OK    OK    OK    OK  UNNEEDED, same version is already published
machv2macOS 10.14.6 Mojave / x86_64  OK    OK    OK    OK  UNNEEDED, same version is already published
Package 3/5HostnameOS / ArchINSTALLBUILDCHECKBUILD BIN
metaseqR2 1.6.1  (landing page)
Panagiotis Moulos
git_last_commit: a87443a
git_last_commit_date: 2021-11-26 09:16:15 -0500
nebbiolo2Linux (Ubuntu 20.04.3 LTS) / x86_64  OK    OK    OK  YES
tokay2Windows Server 2012 R2 Standard / x64  OK    OK    OK    OK  YES
machv2macOS 10.14.6 Mojave / x86_64  OK    OK    OK    OK  YES
Package 4/5HostnameOS / ArchINSTALLBUILDCHECKBUILD BIN
MethCP 1.8.0  (landing page)
Boying Gong
git_last_commit: b9b32e0
git_last_commit_date: 2021-10-26 12:55:29 -0500
nebbiolo2Linux (Ubuntu 20.04.3 LTS) / x86_64  OK    OK    ERROR  
tokay2Windows Server 2012 R2 Standard / x64  OK    OK    OK    OK  UNNEEDED, same version is already published
machv2macOS 10.14.6 Mojave / x86_64  OK    OK    ERROR    OK  
Package 5/5HostnameOS / ArchINSTALLBUILDCHECKBUILD BIN
methylSig 1.6.0  (landing page)
Raymond G. Cavalcante
git_last_commit: 61d61b1
git_last_commit_date: 2021-10-26 12:59:11 -0500
nebbiolo2Linux (Ubuntu 20.04.3 LTS) / x86_64  OK    OK    OK  UNNEEDED, same version is already published
tokay2Windows Server 2012 R2 Standard / x64  OK    OK    OK    OK  UNNEEDED, same version is already published
machv2macOS 10.14.6 Mojave / x86_64  OK    OK    OK    OK  UNNEEDED, same version is already published