Back to Multiple platform build/check report for BioC 3.14
ABC[D]EFGHIJKLMNOPQRSTUVWXYZ

This page was generated on 2021-11-26 15:04:21 -0500 (Fri, 26 Nov 2021).

All results for package DOSE

To the developers/maintainers of the DOSE package:
- Please allow up to 24 hours (and sometimes 48 hours) for your latest push to git@git.bioconductor.org:packages/DOSE.git to
reflect on this report. See How and When does the builder pull? When will my changes propagate? here for more information.
- Make sure to use the following settings in order to reproduce any error or warning you see on this page.

raw results

Package 537/2083HostnameOS / ArchINSTALLBUILDCHECKBUILD BIN
DOSE 3.20.1  (landing page)
Guangchuang Yu
Snapshot Date: 2021-11-25 04:15:05 -0500 (Thu, 25 Nov 2021)
git_url: https://git.bioconductor.org/packages/DOSE
git_branch: RELEASE_3_14
git_last_commit: bf434f2
git_last_commit_date: 2021-11-17 04:16:23 -0500 (Wed, 17 Nov 2021)
nebbiolo2Linux (Ubuntu 20.04.3 LTS) / x86_64  OK    OK    OK  UNNEEDED, same version is already published
tokay2Windows Server 2012 R2 Standard / x64  OK    OK    OK    OK  UNNEEDED, same version is already published
machv2macOS 10.14.6 Mojave / x86_64  OK    OK    OK    OK  UNNEEDED, same version is already published

Results for Bioconductor software packages that depend directly on package DOSE

QUICK STATSOS / ArchINSTALLBUILDCHECKBUILD BIN
nebbiolo2Linux (Ubuntu 20.04.3 LTS) / x86_64
0014
0113
00112
tokay2Windows Server 2012 R2 Standard / x64
0013
0112
00111
0012
machv2macOS 10.14.6 Mojave / x86_64
0014
0113
00112
0013
Package 1/14HostnameOS / ArchINSTALLBUILDCHECKBUILD BIN
bioCancer 1.22.0  (landing page)
Karim Mezhoud
git_last_commit: bd61aa9
git_last_commit_date: 2021-10-26 12:28:03 -0500
nebbiolo2Linux (Ubuntu 20.04.3 LTS) / x86_64  OK    OK    OK  UNNEEDED, same version is already published
tokay2Windows Server 2012 R2 Standard / x64  OK    OK    OK    OK  UNNEEDED, same version is already published
machv2macOS 10.14.6 Mojave / x86_64  OK    OK    OK    OK  UNNEEDED, same version is already published
Package 2/14HostnameOS / ArchINSTALLBUILDCHECKBUILD BIN
clusterProfiler 4.2.0  (landing page)
Guangchuang Yu
git_last_commit: aae0e16
git_last_commit_date: 2021-10-26 11:58:23 -0500
nebbiolo2Linux (Ubuntu 20.04.3 LTS) / x86_64  OK    OK    OK  UNNEEDED, same version is already published
tokay2Windows Server 2012 R2 Standard / x64  OK    OK    OK    OK  UNNEEDED, same version is already published
machv2macOS 10.14.6 Mojave / x86_64  OK    OK    OK    OK  UNNEEDED, same version is already published
Package 3/14HostnameOS / ArchINSTALLBUILDCHECKBUILD BIN
debrowser 1.22.2  (landing page)
Alper Kucukural
git_last_commit: 227faa0
git_last_commit_date: 2021-11-08 12:41:29 -0500
nebbiolo2Linux (Ubuntu 20.04.3 LTS) / x86_64  OK    OK    OK  UNNEEDED, same version is already published
tokay2Windows Server 2012 R2 Standard / x64  OK    OK    OK    OK  UNNEEDED, same version is already published
machv2macOS 10.14.6 Mojave / x86_64  OK    OK    OK    OK  UNNEEDED, same version is already published
Package 4/14HostnameOS / ArchINSTALLBUILDCHECKBUILD BIN
eegc 1.20.0  (landing page)
Xiaoyuan Zhou
git_last_commit: fdab2cb
git_last_commit_date: 2021-10-26 12:29:44 -0500
nebbiolo2Linux (Ubuntu 20.04.3 LTS) / x86_64  OK    OK    WARNINGS  UNNEEDED, same version is already published
tokay2Windows Server 2012 R2 Standard / x64  OK    OK    WARNINGS    OK  UNNEEDED, same version is already published
machv2macOS 10.14.6 Mojave / x86_64  OK    OK    WARNINGS    OK  UNNEEDED, same version is already published
Package 5/14HostnameOS / ArchINSTALLBUILDCHECKBUILD BIN
enrichplot 1.14.1  (landing page)
Guangchuang Yu
git_last_commit: ccf3a6d
git_last_commit_date: 2021-10-31 05:14:00 -0500
nebbiolo2Linux (Ubuntu 20.04.3 LTS) / x86_64  OK    OK    OK  UNNEEDED, same version is already published
tokay2Windows Server 2012 R2 Standard / x64  OK    OK    OK    OK  UNNEEDED, same version is already published
machv2macOS 10.14.6 Mojave / x86_64  OK    OK    OK    OK  UNNEEDED, same version is already published
Package 6/14HostnameOS / ArchINSTALLBUILDCHECKBUILD BIN
GDCRNATools 1.14.0  (landing page)
Ruidong Li
git_last_commit: 9b69c00
git_last_commit_date: 2021-10-26 12:41:09 -0500
nebbiolo2Linux (Ubuntu 20.04.3 LTS) / x86_64  OK    OK    OK  UNNEEDED, same version is already published
tokay2Windows Server 2012 R2 Standard / x64  OK    OK    OK    OK  UNNEEDED, same version is already published
machv2macOS 10.14.6 Mojave / x86_64  OK    OK    OK    OK  UNNEEDED, same version is already published
Package 7/14HostnameOS / ArchINSTALLBUILDCHECKBUILD BIN
meshes 1.20.0  (landing page)
Guangchuang Yu
git_last_commit: d4c5f09
git_last_commit_date: 2021-10-26 12:31:02 -0500
nebbiolo2Linux (Ubuntu 20.04.3 LTS) / x86_64  OK    OK    OK  UNNEEDED, same version is already published
tokay2Windows Server 2012 R2 Standard / x64  OK    OK    OK    OK  UNNEEDED, same version is already published
machv2macOS 10.14.6 Mojave / x86_64  OK    OK    OK    OK  UNNEEDED, same version is already published
Package 8/14HostnameOS / ArchINSTALLBUILDCHECKBUILD BIN
miRspongeR 1.20.0  (landing page)
Junpeng Zhang
git_last_commit: 2e59690
git_last_commit_date: 2021-10-26 12:37:14 -0500
nebbiolo2Linux (Ubuntu 20.04.3 LTS) / x86_64  OK    OK    OK  UNNEEDED, same version is already published
tokay2Windows Server 2012 R2 Standard / x64  OK    OK    OK    OK  UNNEEDED, same version is already published
machv2macOS 10.14.6 Mojave / x86_64  OK    OK    OK    OK  UNNEEDED, same version is already published
Package 9/14HostnameOS / ArchINSTALLBUILDCHECKBUILD BIN
MoonlightR 1.20.0  (landing page)
Antonio Colaprico
git_last_commit: 3854c2d
git_last_commit_date: 2021-10-26 12:30:46 -0500
nebbiolo2Linux (Ubuntu 20.04.3 LTS) / x86_64  OK    ERROR  skipped
tokay2Windows Server 2012 R2 Standard / x64  OK    ERROR  skippedskipped
machv2macOS 10.14.6 Mojave / x86_64  OK    ERROR  skippedskipped
Package 10/14HostnameOS / ArchINSTALLBUILDCHECKBUILD BIN
ReactomePA 1.38.0  (landing page)
Guangchuang Yu
git_last_commit: b0aae92
git_last_commit_date: 2021-10-26 12:02:32 -0500
nebbiolo2Linux (Ubuntu 20.04.3 LTS) / x86_64  OK    OK    OK  UNNEEDED, same version is already published
tokay2Windows Server 2012 R2 Standard / x64  OK    OK    OK    OK  UNNEEDED, same version is already published
machv2macOS 10.14.6 Mojave / x86_64  OK    OK    OK    OK  UNNEEDED, same version is already published
Package 11/14HostnameOS / ArchINSTALLBUILDCHECKBUILD BIN
RegEnrich 1.4.0  (landing page)
Weiyang Tao
git_last_commit: 1dcf069
git_last_commit_date: 2021-10-26 13:00:23 -0500
nebbiolo2Linux (Ubuntu 20.04.3 LTS) / x86_64  OK    OK    OK  UNNEEDED, same version is already published
tokay2Windows Server 2012 R2 Standard / x64  OK    OK    OK    OK  UNNEEDED, same version is already published
machv2macOS 10.14.6 Mojave / x86_64  OK    OK    OK    OK  UNNEEDED, same version is already published
Package 12/14HostnameOS / ArchINSTALLBUILDCHECKBUILD BIN
RNASeqR 1.12.0  (landing page)
Kuan-Hao Chao
git_last_commit: 91e973c
git_last_commit_date: 2021-10-26 12:47:22 -0500
nebbiolo2Linux (Ubuntu 20.04.3 LTS) / x86_64  OK    OK    OK  UNNEEDED, same version is already published
tokay2Windows Server 2012 R2 Standard / x64... NOT SUPPORTED ...
machv2macOS 10.14.6 Mojave / x86_64  OK    OK    OK    OK  UNNEEDED, same version is already published
Package 13/14HostnameOS / ArchINSTALLBUILDCHECKBUILD BIN
scTensor 2.4.0  (landing page)
Koki Tsuyuzaki
git_last_commit: 1217e12
git_last_commit_date: 2021-10-26 12:48:21 -0500
nebbiolo2Linux (Ubuntu 20.04.3 LTS) / x86_64  OK    OK    OK  UNNEEDED, same version is already published
tokay2Windows Server 2012 R2 Standard / x64  OK    OK    OK    OK  UNNEEDED, same version is already published
machv2macOS 10.14.6 Mojave / x86_64  OK    OK    OK    OK  UNNEEDED, same version is already published
Package 14/14HostnameOS / ArchINSTALLBUILDCHECKBUILD BIN
signatureSearch 1.8.0  (landing page)
Yuzhu Duan
git_last_commit: fe9b931
git_last_commit_date: 2021-10-26 12:56:06 -0500
nebbiolo2Linux (Ubuntu 20.04.3 LTS) / x86_64  OK    OK    OK  UNNEEDED, same version is already published
tokay2Windows Server 2012 R2 Standard / x64  OK    OK    OK    OK  UNNEEDED, same version is already published
machv2macOS 10.14.6 Mojave / x86_64  OK    OK    OK    OK  UNNEEDED, same version is already published